Workbook

Sheet Barèmes
A1: Anc. | B1: D3 | C1: D2 | D1: D1bis | E1: D1 | F1: C3 | G1: C2 | H1: C1bis | I1: C1 | J1: B3/1 | K1: B3/2 | L1: B2/1 | M1: B2/2 | N1: B1/1bis | O1: B1/2bis | P1: B1 | Q1: A6/1 | R1: A6/2 A6Sc | S1: A5/1 | T1: A5/2 A5Sc | U1: A5/1bis | V1: A5/2bis A5Sc/bis | W1: A4/1 | X1: A4/2 | Y1: A4Sc | Z1: A3 | AA1: A3M | AB1: Abis | AC1: A2 | AD1: A2M | AE1: A1 | AF1: A1M
A2: 0 | B2: 13257.38 | C2: 15444.96 | D2: =C2+1500 -> 16944.96 | E2: 18749.62 | F2: 13668.39 | G2: 16880.14 | H2: =G2+2500 -> 19380.14 | I2: 21801.44 | J2: 18134.78 | K2: 21438.83 | L2: =18745.74+600 -> 19345.74 | M2: 21645.74 | N2: =L2+2500 -> 21845.74 | O2: 24145.74 | P2: 24986.67 | Q2: 21112.38 | R2: 26619.13 | S2: 25507.13 | T2: 31535.34 | U2: 28007.13 | V2: 34035.34 | W2: 32734.24 | X2: 33478.24 | Y2: 35762.53 | Z2: 40790.86 | AA2: =Z2+6500 -> 47290.86 | AB2: 46166.58 | AC2: 46910.59 | AD2: =AC2+8510 -> 55420.59 | AE2: 52486.11 | AF2: =AE2+8510 -> 60996.11
A3: 1 | B3: =B2+112.97 -> 13370.35 | C3: =C2+140.09 -> 15585.05 | D3: =D2+140.09 -> 17085.05 | E3: =E2+140.09 -> 18889.71 | F3: =F2+267.31 -> 13935.7 | G3: =G2+267.31 -> 17147.45 | H3: =H2+267.31 -> 19647.45 | I3: =I2+267.31 -> 22068.75 | J3: 18386.96 | K3: 21691.01 | L3: =L2+252.18 -> 19597.92 | M3: =M2+252.18 -> 21897.92 | N3: =N2+252.18 -> 22097.92 | O3: =O2+252.18 -> 24397.92 | P3: =P2+252.18 -> 25238.85 | Q3: =Q2+623.6 -> 21735.98 | R3: =R2+623.6 -> 27242.73 | S3: =S2+623.6 -> 26130.73 | T3: =T2+623.6 -> 32158.94 | U3: =U2+623.6 -> 28630.73 | V3: =V2+623.6 -> 34658.94 | W3: =W2+623.6 -> 33357.84 | X3: =X2+623.6 -> 34101.84 | ... Z3: =Z2+623.6 -> 41414.46 | AA3: =Z3+6500 -> 47914.46 | AB3: =AB2+623.6 -> 46790.18 | AC3: =AC2+623.6 -> 47534.19 | AD3: =AC3+8510 -> 56044.19 | AE3: =AE2+623.6 -> 53109.71 | AF3: =AE3+8510 -> 61619.71
A4: 2 | B4: =B3+112.97 -> 13483.32 | C4: =C3+140.09 -> 15725.14 | D4: =D3+140.09 -> 17225.14 | E4: =E3+140.09 -> 19029.8 | F4: =F3+267.31 -> 14203.01 | G4: =G3+267.31 -> 17414.76 | H4: =H3+267.31 -> 19914.76 | I4: =I3+267.31 -> 22336.06 | J4: 18639.14 | K4: 21943.19 | L4: =L3+252.18 -> 19850.1 | M4: =M3+252.18 -> 22150.1 | N4: =N3+252.18 -> 22350.1 | O4: =O3+252.18 -> 24650.1 | P4: =P3+252.18 -> 25491.03 | Q4: =Q3+623.6 -> 22359.58 | R4: =R3+623.6 -> 27866.33 | S4: =S3+623.6 -> 26754.33 | T4: =T3+623.6 -> 32782.54 | U4: =U3+623.6 -> 29254.33 | V4: =V3+623.6 -> 35282.54 | W4: =W3+623.6 -> 33981.44 | X4: =X3+623.6 -> 34725.44 | ... Z4: =Z3+623.6 -> 42038.06 | AA4: =Z4+6500 -> 48538.06 | AB4: =AB3+623.6 -> 47413.78 | AC4: =AC3+623.6 -> 48157.79 | AD4: =AC4+8510 -> 56667.79 | AE4: =AE3+623.6 -> 53733.31 | AF4: =AE4+8510 -> 62243.31
A5: 3 | B5: =B4+112.97 -> 13596.29 | C5: =C4+140.09 -> 15865.23 | D5: =D4+140.09 -> 17365.23 | E5: =E4+140.09 -> 19169.89 | F5: =F4+267.31 -> 14470.32 | G5: =G4+267.31 -> 17682.07 | H5: =H4+267.31 -> 20182.07 | I5: =I4+267.31 -> 22603.37 | J5: 18891.32 | K5: 22195.37 | L5: =L4+252.18 -> 20102.28 | M5: =M4+252.18 -> 22402.28 | N5: =N4+252.18 -> 22602.28 | O5: =O4+252.18 -> 24902.28 | P5: =P4+252.18 -> 25743.21 | Q5: =Q4+623.6 -> 22983.18 | R5: =R4+623.6 -> 28489.93 | S5: =S4+623.6 -> 27377.93 | T5: =T4+623.6 -> 33406.14 | U5: =U4+623.6 -> 29877.93 | V5: =V4+623.6 -> 35906.14 | W5: =W4+623.6 -> 34605.04 | X5: =X4+623.6 -> 35349.04 | ... Z5: =Z4+623.6 -> 42661.66 | AA5: =Z5+6500 -> 49161.66 | AB5: =AB4+623.6 -> 48037.38 | AC5: =AC4+623.6 -> 48781.39 | AD5: =AC5+8510 -> 57291.39 | AE5: =AE4+623.6 -> 54356.91 | AF5: =AE5+8510 -> 62866.91
A6: 4 | B6: =B5 -> 13596.29 | C6: =C5 -> 15865.23 | D6: =D5 -> 17365.23 | E6: =E5 -> 19169.89 | F6: =F5 -> 14470.32 | G6: =G5 -> 17682.07 | H6: =H5 -> 20182.07 | I6: =I5 -> 22603.37 | J6: 18891.32 | K6: 22195.37 | L6: =L5 -> 20102.28 | M6: =M5 -> 22402.28 | N6: =N5 -> 22602.28 | O6: =O5 -> 24902.28 | P6: =P5 -> 25743.21 | Q6: =Q5 -> 22983.18 | R6: =R5 -> 28489.93 | S6: =S5 -> 27377.93 | ... Z6: =Z5 -> 42661.66 | AA6: =Z6+6500 -> 49161.66 | AB6: =AB5 -> 48037.38 | AC6: =AC5 -> 48781.39 | AD6: =AC6+8510 -> 57291.39 | AE6: =AE5 -> 54356.91 | AF6: =AE6+8510 -> 62866.91
A7: 5 | B7: =B6+58.17 -> 13654.46 | C7: =C6+194.67 -> 16059.9 | D7: =D6+194.67 -> 17559.9 | E7: =E6+194.67 -> 19364.56 | F7: =F6+267.31 -> 14737.63 | G7: =G6+267.31 -> 17949.38 | H7: =H6+267.31 -> 20449.38 | I7: =I6+267.31 -> 22870.68 | J7: 19183.91 | K7: 22487.96 | L7: =L6+292.59 -> 20394.87 | M7: =M6+292.59 -> 22694.87 | N7: =N6+292.59 -> 22894.87 | O7: =O6+292.59 -> 25194.87 | P7: =P6+292.59 -> 26035.8 | Q7: =Q6+957.68 -> 23940.86 | R7: =R6+957.68 -> 29447.61 | S7: =S6+1135.17 -> 28513.1 | T7: =T6+957.68 -> 34363.82 | U7: =U6+1135.17 -> 31013.1 | V7: =V6+957.68 -> 36863.82 | W7: =W6+1260.36 -> 35865.4 | X7: =X6+1260.36 -> 36609.4 | Y7: =Y6+1260.36 -> 38893.69 | Z7: =Z6+1260.36 -> 43922.02 | AA7: =Z7+6500 -> 50422.02 | AB7: =AB6+1608.27 -> 49645.65 | AC7: =AC6+1608.27 -> 50389.66 | AD7: =AC7+8510 -> 58899.66 | AE7: =AE6+1608.27 -> 55965.18 | AF7: =AE7+8510 -> 64475.18
A8: 6 | B8: =B7+250.38 -> 13904.84 | C8: =C7+250.38 -> 16310.28 | D8: =D7+250.38 -> 17810.28 | E8: =E7+250.38 -> 19614.94 | F8: =F7+250.38 -> 14988.01 | G8: =G7+250.38 -> 18199.76 | H8: =H7+250.38 -> 20699.76 | I8: =I7+250.38 -> 23121.06 | J8: 19434.29 | K8: 22738.34 | L8: =L7+250.38 -> 20645.25 | M8: =M7+250.38 -> 22945.25 | N8: =N7+250.38 -> 23145.25 | O8: =O7+250.38 -> 25445.25 | P8: =P7+250.38 -> 26286.18 | Q8: =Q7+250.38 -> 24191.24 | R8: =R7+250.38 -> 29697.99 | S8: =S7+250.38 -> 28763.48 | ... Z8: =Z7+250.38 -> 44172.4 | AA8: =Z8+6500 -> 50672.4 | AB8: =AB7+250.38 -> 49896.03 | AC8: =AC7+250.38 -> 50640.04 | AD8: =AC8+8510 -> 59150.04 | AE8: =AE7+250.38 -> 56215.56 | AF8: =AE8+8510 -> 64725.56
A9: 7 | B9: =B8+58.17 -> 13963.01 | C9: =C8+194.67 -> 16504.95 | D9: =D8+194.67 -> 18004.95 | E9: =E8+194.67 -> 19809.61 | F9: =F8+356.34 -> 15344.35 | G9: =G8+356.34 -> 18556.1 | H9: =H8+356.34 -> 21056.1 | I9: =I8+356.34 -> 23477.4 | J9: 19824.32 | K9: 23128.37 | L9: =L8+390.03 -> 21035.28 | M9: =M8+390.03 -> 23335.28 | N9: =N8+390.03 -> 23535.28 | O9: =O8+390.03 -> 25835.28 | P9: =P8+390.03 -> 26676.21 | Q9: =Q8+957.68 -> 25148.92 | R9: =R8+957.68 -> 30655.67 | S9: =S8+1135.17 -> 29898.65 | T9: =T8+957.68 -> 35571.88 | U9: =U8+1135.17 -> 32398.65 | V9: =V8+957.68 -> 38071.88 | W9: =W8+1260.36 -> 37376.14 | X9: =X8+1260.36 -> 38120.14 | Y9: =Y8+1260.36 -> 40404.43 | Z9: =Z8+1260.36 -> 45432.76 | AA9: =Z9+6500 -> 51932.76 | AB9: =AB8+1608.27 -> 51504.3 | AC9: =AC8+1608.27 -> 52248.31 | AD9: =AC9+8510 -> 60758.31 | AE9: =AE8+1608.27 -> 57823.83 | AF9: =AE9+8510 -> 66333.83
A10: 8 | B10: =B9 -> 13963.01 | C10: =C9 -> 16504.95 | D10: =D9 -> 18004.95 | E10: =E9 -> 19809.61 | F10: =F9 -> 15344.35 | G10: =G9 -> 18556.1 | H10: =H9 -> 21056.1 | I10: =I9 -> 23477.4 | J10: 19824.32 | K10: 23128.37 | L10: =L9 -> 21035.28 | M10: =M9 -> 23335.28 | N10: =N9 -> 23535.28 | O10: =O9 -> 25835.28 | P10: =P9 -> 26676.21 | Q10: =Q9 -> 25148.92 | R10: =R9 -> 30655.67 | S10: =S9 -> 29898.65 | ... Z10: =Z9 -> 45432.76 | AA10: =Z10+6500 -> 51932.76 | AB10: =AB9 -> 51504.3 | AC10: =AC9 -> 52248.31 | AD10: =AC10+8510 -> 60758.31 | AE10: =AE9 -> 57823.83 | AF10: =AE10+8510 -> 66333.83
A11: 9 | B11: =B10+60.4 -> 14023.41 | C11: =C10+194.67 -> 16699.62 | D11: =D10+194.67 -> 18199.62 | E11: =E10+194.67 -> 20004.28 | F11: =F10+712.64 -> 16056.99 | G11: =G10+712.64 -> 19268.74 | H11: =H10+712.64 -> 21768.74 | I11: =I10+712.64 -> 24190.04 | J11: 20496.63 | K11: 23800.68 | L11: =L10+672.31 -> 21707.59 | M11: =M10+672.31 -> 24007.59 | N11: =N10+672.31 -> 24207.59 | O11: =O10+672.31 -> 26507.59 | P11: =P10+672.31 -> 27348.52 | Q11: =Q10+957.68 -> 26106.6 | R11: =R10+957.68 -> 31613.35 | S11: =S10+1135.17 -> 31033.82 | T11: =T10+957.68 -> 36529.56 | U11: =U10+1135.17 -> 33533.82 | V11: =V10+957.68 -> 39029.56 | W11: =W10+1260.36 -> 38636.5 | X11: =X10+1260.36 -> 39380.5 | Y11: =Y10+1260.36 -> 41664.79 | Z11: =Z10+1260.36 -> 46693.12 | AA11: =Z11+6500 -> 53193.12 | AB11: =AB10+1608.27 -> 53112.57 | AC11: =AC10+1608.27 -> 53856.58 | AD11: =AC11+8510 -> 62366.58 | AE11: =AE10+1608.27 -> 59432.1 | AF11: =AE11+8510 -> 67942.1
A12: 10 | B12: =B11 -> 14023.41 | C12: =C11 -> 16699.62 | D12: =D11 -> 18199.62 | E12: =E11 -> 20004.28 | F12: =F11 -> 16056.99 | G12: =G11 -> 19268.74 | H12: =H11 -> 21768.74 | I12: =I11 -> 24190.04 | J12: 20496.63 | K12: 23800.68 | L12: =L11 -> 21707.59 | M12: =M11 -> 24007.59 | N12: =N11 -> 24207.59 | O12: =O11 -> 26507.59 | P12: =P11 -> 27348.52 | Q12: =Q11 -> 26106.6 | R12: =R11 -> 31613.35 | S12: =S11 -> 31033.82 | ... Z12: =Z11 -> 46693.12 | AA12: =Z12+6500 -> 53193.12 | AB12: =AB11 -> 53112.57 | AC12: =AC11 -> 53856.58 | AD12: =AC12+8510 -> 62366.58 | AE12: =AE11 -> 59432.1 | AF12: =AE12+8510 -> 67942.1
A13: 11 | B13: =B12+194.67 -> 14218.08 | C13: =C12+194.67 -> 16894.29 | D13: =D12+194.67 -> 18394.29 | E13: =E12+194.67 -> 20198.95 | F13: =F12+712.64 -> 16769.63 | G13: =G12+712.64 -> 19981.38 | H13: =H12+712.64 -> 22481.38 | I13: =I12+712.64 -> 24902.68 | J13: 21168.94 | K13: 24472.99 | L13: =L12+672.31 -> 22379.9 | M13: =M12+672.31 -> 24679.9 | N13: =N12+672.31 -> 24879.9 | O13: =O12+672.31 -> 27179.9 | P13: =P12+672.31 -> 28020.83 | Q13: =Q12+957.68 -> 27064.28 | R13: =R12+957.68 -> 32571.03 | S13: =S12+1135.17 -> 32168.99 | T13: =T12+957.68 -> 37487.24 | U13: =U12+1135.17 -> 34668.99 | V13: =V12+957.68 -> 39987.24 | W13: =W12+1260.36 -> 39896.86 | X13: =X12+1260.36 -> 40640.86 | Y13: =Y12+1260.36 -> 42925.15 | Z13: =Z12+1260.36 -> 47953.48 | AA13: =Z13+6500 -> 54453.48 | AB13: =AB12+1608.27 -> 54720.84 | AC13: =AC12+1608.27 -> 55464.85 | AD13: =AC13+8510 -> 63974.85 | AE13: =AE12+1608.27 -> 61040.37 | AF13: =AE13+8510 -> 69550.37
A14: 12 | B14: =B13+250.38 -> 14468.46 | C14: =C13+250.38 -> 17144.67 | D14: =D13+250.38 -> 18644.67 | E14: =E13+250.38 -> 20449.33 | F14: =F13+250.38 -> 17020.01 | G14: =G13+250.38 -> 20231.76 | H14: =H13+250.38 -> 22731.76 | I14: =I13+250.38 -> 25153.06 | J14: 21419.32 | K14: 24723.37 | L14: =L13+250.38 -> 22630.28 | M14: =M13+250.38 -> 24930.28 | N14: =N13+250.38 -> 25130.28 | O14: =O13+250.38 -> 27430.28 | P14: =P13+250.38 -> 28271.21 | Q14: =Q13+250.38 -> 27314.66 | R14: =R13+250.38 -> 32821.41 | S14: =S13+250.38 -> 32419.37 | ... Z14: =Z13+250.38 -> 48203.86 | AA14: =Z14+6500 -> 54703.86 | AB14: =AB13+250.38 -> 54971.22 | AC14: =AC13+250.38 -> 55715.23 | AD14: =AC14+8510 -> 64225.23 | AE14: =AE13+250.38 -> 61290.75 | AF14: =AE14+8510 -> 69800.75
A15: 13 | B15: =B14+194.67 -> 14663.13 | C15: =C14+194.67 -> 17339.34 | D15: =D14+194.67 -> 18839.34 | E15: =E14+194.67 -> 20644 | F15: =F14+623.6 -> 17643.61 | G15: =G14+623.6 -> 20855.36 | H15: =H14+623.6 -> 23355.36 | I15: =I14+623.6 -> 25776.66 | J15: 22007.62 | K15: 25311.67 | L15: =L14+588.3 -> 23218.58 | M15: =M14+588.3 -> 25518.58 | N15: =N14+588.3 -> 25718.58 | O15: =O14+588.3 -> 28018.58 | P15: =P14+588.3 -> 28859.51 | Q15: =Q14+957.68 -> 28272.34 | R15: =R14+957.68 -> 33779.09 | S15: =S14+1135.17 -> 33554.54 | T15: =T14+957.68 -> 38695.3 | U15: =U14+1135.17 -> 36054.54 | V15: =V14+957.68 -> 41195.3 | W15: =W14+1260.36 -> 41407.6 | X15: =X14+1260.36 -> 42151.6 | Y15: =Y14+1260.36 -> 44435.89 | Z15: =Z14+1260.36 -> 49464.22 | AA15: =Z15+6500 -> 55964.22 | AB15: =AB14+1608.27 -> 56579.49 | AC15: =AC14+1608.27 -> 57323.5 | AD15: =AC15+8510 -> 65833.5 | AE15: =AE14+1608.27 -> 62899.02 | AF15: =AE15+8510 -> 71409.02
A16: 14 | B16: =B15 -> 14663.13 | C16: =C15 -> 17339.34 | D16: =D15 -> 18839.34 | E16: =E15 -> 20644 | F16: =F15 -> 17643.61 | G16: =G15 -> 20855.36 | H16: =H15 -> 23355.36 | I16: =I15 -> 25776.66 | J16: 22007.62 | K16: 25311.67 | L16: =L15 -> 23218.58 | M16: =M15 -> 25518.58 | N16: =N15 -> 25718.58 | O16: =O15 -> 28018.58 | P16: =P15 -> 28859.51 | Q16: =Q15 -> 28272.34 | R16: =R15 -> 33779.09 | S16: =S15 -> 33554.54 | ... Z16: =Z15 -> 49464.22 | AA16: =Z16+6500 -> 55964.22 | AB16: =AB15 -> 56579.49 | AC16: =AC15 -> 57323.5 | AD16: =AC16+8510 -> 65833.5 | AE16: =AE15 -> 62899.02 | AF16: =AE16+8510 -> 71409.02
A17: 15 | B17: =B16+266.78 -> 14929.91 | C17: =C16+266.78 -> 17606.12 | D17: =D16+266.78 -> 19106.12 | E17: =E16+266.78 -> 20910.78 | F17: =F16+623.6 -> 18267.21 | G17: =G16+623.6 -> 21478.96 | H17: =H16+623.6 -> 23978.96 | I17: =I16+623.6 -> 26400.26 | J17: 22595.92 | K17: 25899.97 | L17: =L16+588.3 -> 23806.88 | M17: =M16+588.3 -> 26106.88 | N17: =N16+588.3 -> 26306.88 | O17: =O16+588.3 -> 28606.88 | P17: =P16+588.3 -> 29447.81 | Q17: =Q16+957.68 -> 29230.02 | R17: =R16+957.68 -> 34736.77 | S17: =S16+1135.17 -> 34689.71 | T17: =T16+957.68 -> 39652.98 | U17: =U16+1135.17 -> 37189.71 | V17: =V16+957.68 -> 42152.98 | W17: =W16+1260.36 -> 42667.96 | X17: =X16+1260.36 -> 43411.96 | Y17: =Y16+1260.36 -> 45696.25 | Z17: =Z16+1260.36 -> 50724.58 | AA17: =Z17+6500 -> 57224.58 | AB17: =AB16+1608.27 -> 58187.76 | AC17: =AC16+1608.27 -> 58931.77 | AD17: =AC17+8510 -> 67441.77 | AE17: =AE16+1608.27 -> 64507.29 | AF17: =AE17+8510 -> 73017.29
A18: 16 | B18: =B17 -> 14929.91 | C18: =C17 -> 17606.12 | D18: =D17 -> 19106.12 | E18: =E17 -> 20910.78 | F18: =F17 -> 18267.21 | G18: =G17 -> 21478.96 | H18: =H17 -> 23978.96 | I18: =I17 -> 26400.26 | J18: 22595.92 | K18: 25899.97 | L18: =L17 -> 23806.88 | M18: =M17 -> 26106.88 | N18: =N17 -> 26306.88 | O18: =O17 -> 28606.88 | P18: =P17 -> 29447.81 | Q18: =Q17 -> 29230.02 | R18: =R17 -> 34736.77 | S18: =S17 -> 34689.71 | ... Z18: =Z17 -> 50724.58 | AA18: =Z18+6500 -> 57224.58 | AB18: =AB17 -> 58187.76 | AC18: =AC17 -> 58931.77 | AD18: =AC18+8510 -> 67441.77 | AE18: =AE17 -> 64507.29 | AF18: =AE18+8510 -> 73017.29
A19: 17 | B19: =B18+266.78 -> 15196.69 | C19: =C18+266.78 -> 17872.9 | D19: =D18+266.78 -> 19372.9 | E19: =E18+266.78 -> 21177.56 | F19: =F18+623.6 -> 18890.81 | G19: =G18+623.6 -> 22102.56 | H19: =H18+623.6 -> 24602.56 | I19: =I18+623.6 -> 27023.86 | J19: 23184.22 | K19: 26488.27 | L19: =L18+588.3 -> 24395.18 | M19: =M18+588.3 -> 26695.18 | N19: =N18+588.3 -> 26895.18 | O19: =O18+588.3 -> 29195.18 | P19: =P18+588.3 -> 30036.11 | Q19: =Q18+957.68 -> 30187.7 | R19: =R18+957.68 -> 35694.45 | S19: =S18+1135.17 -> 35824.88 | T19: =T18+957.68 -> 40610.66 | U19: =U18+1135.17 -> 38324.88 | V19: =V18+957.68 -> 43110.66 | W19: =W18+1260.36 -> 43928.32 | X19: =X18+1260.36 -> 44672.32 | Y19: =Y18+1260.36 -> 46956.61 | Z19: =Z18+1260.36 -> 51984.94 | AA19: =Z19+6500 -> 58484.94 | AB19: =AB18+1608.27 -> 59796.03 | AC19: =AC18+1608.27 -> 60540.04 | AD19: =AC19+8510 -> 69050.04 | AE19: =AE18+1608.27 -> 66115.56 | AF19: =AE19+8510 -> 74625.56
A20: 18 | B20: =B19+250.38 -> 15447.07 | C20: =C19+250.38 -> 18123.28 | D20: =D19+250.38 -> 19623.28 | E20: =E19+250.38 -> 21427.94 | F20: =F19+250.38 -> 19141.19 | G20: =G19+250.38 -> 22352.94 | H20: =H19+250.38 -> 24852.94 | I20: =I19+250.38 -> 27274.24 | J20: 23434.6 | K20: 26738.65 | L20: =L19+250.38 -> 24645.56 | M20: =M19+250.38 -> 26945.56 | N20: =N19+250.38 -> 27145.56 | O20: =O19+250.38 -> 29445.56 | P20: =P19+250.38 -> 30286.49 | Q20: =Q19+250.38 -> 30438.08 | R20: =R19+250.38 -> 35944.83 | S20: =S19+250.38 -> 36075.26 | ... Z20: =Z19+250.38 -> 52235.32 | AA20: =Z20+6500 -> 58735.32 | AB20: =AB19+250.38 -> 60046.41 | AC20: =AC19+250.38 -> 60790.42 | AD20: =AC20+8510 -> 69300.42 | AE20: =AE19+250.38 -> 66365.94 | AF20: =AE20+8510 -> 74875.94
A21: 19 | B21: =B20+266.78 -> 15713.85 | C21: =C20+266.78 -> 18390.06 | D21: =D20+266.78 -> 19890.06 | E21: =E20+266.78 -> 21694.72 | F21: =F20+623.6 -> 19764.79 | G21: =G20+623.6 -> 22976.54 | H21: =H20+623.6 -> 25476.54 | I21: =I20+623.6 -> 27897.84 | J21: 24022.9 | K21: 27326.95 | L21: =L20+588.3 -> 25233.86 | M21: =M20+588.3 -> 27533.86 | N21: =N20+588.3 -> 27733.86 | O21: =O20+588.3 -> 30033.86 | P21: =P20+588.3 -> 30874.79 | Q21: =Q20+957.68 -> 31395.76 | R21: =R20+957.68 -> 36902.51 | S21: =S20+1135.17 -> 37210.43 | T21: =T20+957.68 -> 41818.72 | U21: =U20+1135.17 -> 39710.43 | V21: =V20+957.68 -> 44318.72 | W21: =W20+1260.36 -> 45439.06 | X21: =X20+1260.36 -> 46183.06 | Y21: =Y20+1260.36 -> 48467.35 | Z21: =Z20+1260.36 -> 53495.68 | AA21: =Z21+6500 -> 59995.68 | AB21: =AB20+1608.27 -> 61654.68 | AC21: =AC20+1608.27 -> 62398.69 | AD21: =AC21+8510 -> 70908.69 | AE21: =AE20+1608.27 -> 67974.21 | AF21: =AE21+8510 -> 76484.21
A22: 20 | B22: =B21 -> 15713.85 | C22: =C21 -> 18390.06 | D22: =D21 -> 19890.06 | E22: =E21 -> 21694.72 | F22: =F21 -> 19764.79 | G22: =G21 -> 22976.54 | H22: =H21 -> 25476.54 | I22: =I21 -> 27897.84 | J22: 24022.9 | K22: 27326.95 | L22: =L21 -> 25233.86 | M22: =M21 -> 27533.86 | N22: =N21 -> 27733.86 | O22: =O21 -> 30033.86 | P22: =P21 -> 30874.79 | Q22: =Q21 -> 31395.76 | R22: =R21 -> 36902.51 | S22: =S21 -> 37210.43 | ... Z22: =Z21 -> 53495.68 | AA22: =Z22+6500 -> 59995.68 | AB22: =AB21 -> 61654.68 | AC22: =AC21 -> 62398.69 | AD22: =AC22+8510 -> 70908.69 | AE22: =AE21 -> 67974.21 | AF22: =AE22+8510 -> 76484.21
A23: 21 | B23: =B22+266.78 -> 15980.63 | C23: =C22+266.78 -> 18656.84 | D23: =D22+266.78 -> 20156.84 | E23: =E22+266.78 -> 21961.5 | F23: =F22+623.6 -> 20388.39 | G23: =G22+623.6 -> 23600.14 | H23: =H22+623.6 -> 26100.14 | I23: =I22+623.6 -> 28521.44 | J23: 24611.2 | K23: 27915.25 | L23: =L22+588.3 -> 25822.16 | M23: =M22+588.3 -> 28122.16 | N23: =N22+588.3 -> 28322.16 | O23: =O22+588.3 -> 30622.16 | P23: =P22+588.3 -> 31463.09 | Q23: =Q22+957.68 -> 32353.44 | R23: =R22+957.68 -> 37860.19 | S23: =S22+1135.17 -> 38345.6 | T23: =T22+957.68 -> 42776.4 | U23: =U22+1135.17 -> 40845.6 | V23: =V22+957.68 -> 45276.4 | W23: =W22+1260.36 -> 46699.42 | X23: =X22+1260.36 -> 47443.42 | Y23: =Y22+1260.36 -> 49727.71 | Z23: =Z22+1260.36 -> 54756.04 | AA23: =Z23+6500 -> 61256.04 | AB23: =AB22+1608.27 -> 63262.95 | AC23: =AC22+1608.27 -> 64006.96 | AD23: =AC23+8510 -> 72516.96 | AE23: =AE22+1608.27 -> 69582.48 | AF23: =AE23+8510 -> 78092.48
A24: 22 | B24: =B23 -> 15980.63 | C24: =C23 -> 18656.84 | D24: =D23 -> 20156.84 | E24: =E23 -> 21961.5 | F24: =F23 -> 20388.39 | G24: =G23 -> 23600.14 | H24: =H23 -> 26100.14 | I24: =I23 -> 28521.44 | J24: 24611.2 | K24: 27915.25 | L24: =L23 -> 25822.16 | M24: =M23 -> 28122.16 | N24: =N23 -> 28322.16 | O24: =O23 -> 30622.16 | P24: =P23 -> 31463.09 | Q24: =Q23 -> 32353.44 | R24: =R23 -> 37860.19 | S24: =S23 -> 38345.6 | ... Z24: =Z23 -> 54756.04 | AA24: =Z24+6500 -> 61256.04 | AB24: =AB23 -> 63262.95 | AC24: =AC23 -> 64006.96 | AD24: =AC24+8510 -> 72516.96 | AE24: =AE23 -> 69582.48 | AF24: =AE24+8510 -> 78092.48
A25: 23 | B25: =B24+266.78 -> 16247.41 | C25: =C24+266.78 -> 18923.62 | D25: =D24+266.78 -> 20423.62 | E25: =E24+266.78 -> 22228.28 | F25: =F24+623.6 -> 21011.99 | G25: =G24+623.6 -> 24223.74 | H25: =H24+623.6 -> 26723.74 | I25: =I24+623.6 -> 29145.04 | J25: 25199.5 | K25: 28503.55 | L25: =L24+588.3 -> 26410.46 | M25: =M24+588.3 -> 28710.46 | N25: =N24+588.3 -> 28910.46 | O25: =O24+588.3 -> 31210.46 | P25: =P24+588.3 -> 32051.39 | Q25: =Q24+957.68 -> 33311.12 | R25: =R24+957.68 -> 38817.87 | S25: =S24+1135.17 -> 39480.77 | T25: =T24+957.68 -> 43734.08 | U25: =U24+1135.17 -> 41980.77 | V25: =V24+957.68 -> 46234.08 | W25: =W24+1260.36 -> 47959.78 | X25: =X24+1260.36 -> 48703.78 | Y25: =Y24+1260.36 -> 50988.07 | Z25: =Z24+1260.36 -> 56016.4 | AA25: =Z25+6500 -> 62516.4 | AB25: =AB24+1608.27 -> 64871.22 | AC25: =AC24+1608.27 -> 65615.23 | AD25: =AC25+8510 -> 74125.23 | AE25: =AE24+1608.27 -> 71190.75 | AF25: =AE25+8510 -> 79700.75
A26: 24 | B26: =B25+250.38 -> 16497.79 | C26: =C25+250.38 -> 19174 | D26: =D25+250.38 -> 20674 | E26: =E25+250.38 -> 22478.66 | F26: =F25+250.38 -> 21262.37 | G26: =G25+250.38 -> 24474.12 | H26: =H25+250.38 -> 26974.12 | I26: =I25+250.38 -> 29395.42 | J26: 25449.88 | K26: 28753.93 | L26: =L25+250.38 -> 26660.84 | M26: =M25+250.38 -> 28960.84 | N26: =N25+250.38 -> 29160.84 | O26: =O25+250.38 -> 31460.84 | P26: =P25+250.38 -> 32301.77 | Q26: =Q25+250.38 -> 33561.5 | R26: =R25+250.38 -> 39068.25 | S26: =S25+250.38 -> 39731.15 | ... Z26: =Z25+250.38 -> 56266.78 | AA26: =Z26+6500 -> 62766.78 | AB26: =AB25+250.38 -> 65121.6 | AC26: =AC25+250.38 -> 65865.61 | AD26: =AC26+8510 -> 74375.61 | AE26: =AE25+250.38 -> 71441.13 | AF26: =AE26+8510 -> 79951.13
A27: 25 | B27: =B26+266.78 -> 16764.57 | C27: =C26+266.78 -> 19440.78 | D27: =D26+266.78 -> 20940.78 | E27: =E26+266.78 -> 22745.44 | F27: =F26+623.6 -> 21885.97 | G27: =G26+623.6 -> 25097.72 | H27: =H26+623.6 -> 27597.72 | I27: =I26+623.6 -> 30019.02 | J27: 26038.18 | K27: 29342.23 | L27: =L26+588.3 -> 27249.14 | M27: =M26+588.3 -> 29549.14 | N27: =N26+588.3 -> 29749.14 | O27: =O26+588.3 -> 32049.14 | P27: =P26+588.3 -> 32890.07 | Q27: =Q26 -> 33561.5 | R27: =R26 -> 39068.25 | S27: =S26 -> 39731.15 | T27: =T26 -> 43984.46 | U27: =U26 -> 42231.15 | V27: =V26 -> 46484.46 | W27: =W26 -> 48210.16 | X27: =X26 -> 48954.16 | ... Z27: =Z26 -> 56266.78 | AA27: =Z27+6500 -> 62766.78 | AB27: =AB26 -> 65121.6 | AC27: =AC26 -> 65865.61 | AD27: =AC27+8510 -> 74375.61 | AE27: =AE26 -> 71441.13 | AF27: =AE27+8510 -> 79951.13
A28: 26 | B28: =B27 -> 16764.57 | C28: =C27 -> 19440.78 | D28: =D27 -> 20940.78 | E28: =E27 -> 22745.44 | F28: =F27 -> 21885.97 | G28: =G27 -> 25097.72 | H28: =H27 -> 27597.72 | I28: =I27 -> 30019.02 | J28: 26038.18 | K28: 29342.23 | L28: =L27 -> 27249.14 | M28: =M27 -> 29549.14 | N28: =N27 -> 29749.14 | O28: =O27 -> 32049.14 | P28: =P27 -> 32890.07 | Q28: =Q27 -> 33561.5 | R28: =R27 -> 39068.25 | S28: =S27 -> 39731.15 | ... Z28: =Z27 -> 56266.78 | AA28: =Z28+6500 -> 62766.78 | AB28: =AB27 -> 65121.6 | AC28: =AC27 -> 65865.61 | AD28: =AC28+8510 -> 74375.61 | AE28: =AE27 -> 71441.13 | AF28: =AE28+8510 -> 79951.13
A29: 27 | B29: =B28+419.35 -> 17183.92 | C29: =C28+419.35 -> 19860.13 | D29: =D28+419.35 -> 21360.13 | E29: =E28+419.35 -> 23164.79 | F29: =F28+623.6 -> 22509.57 | G29: =G28+623.6 -> 25721.32 | H29: =H28+623.6 -> 28221.32 | I29: =I28+623.6 -> 30642.62 | J29: 26626.48 | K29: 29930.53 | L29: =L28+588.3 -> 27837.44 | M29: =M28+588.3 -> 30137.44 | N29: =N28+588.3 -> 30337.44 | O29: =O28+588.3 -> 32637.44 | P29: =P28+588.3 -> 33478.37 | Q29: =Q28 -> 33561.5 | R29: =R28 -> 39068.25 | S29: =S28 -> 39731.15 | T29: =T28 -> 43984.46 | U29: =U28 -> 42231.15 | V29: =V28 -> 46484.46 | W29: =W28 -> 48210.16 | X29: =X28 -> 48954.16 | ... Z29: =Z28 -> 56266.78 | AA29: =Z29+6500 -> 62766.78 | AB29: =AB28 -> 65121.6 | AC29: =AC28 -> 65865.61 | AD29: =AC29+8510 -> 74375.61 | AE29: =AE28 -> 71441.13 | AF29: =AE29+8510 -> 79951.13
A30: 28 | B30: =B29 -> 17183.92 | C30: =C29 -> 19860.13 | D30: =D29 -> 21360.13 | E30: =E29 -> 23164.79 | F30: =F29 -> 22509.57 | G30: =G29 -> 25721.32 | H30: =H29 -> 28221.32 | I30: =I29 -> 30642.62 | J30: 26626.48 | K30: 29930.53 | L30: =L29 -> 27837.44 | M30: =M29 -> 30137.44 | N30: =N29 -> 30337.44 | O30: =O29 -> 32637.44 | P30: =P29 -> 33478.37 | Q30: =Q29 -> 33561.5 | R30: =R29 -> 39068.25 | S30: =S29 -> 39731.15 | ... Z30: =Z29 -> 56266.78 | AA30: =Z30+6500 -> 62766.78 | AB30: =AB29 -> 65121.6 | AC30: =AC29 -> 65865.61 | AD30: =AC30+8510 -> 74375.61 | AE30: =AE29 -> 71441.13 | AF30: =AE30+8510 -> 79951.13
A31: 29 | B31: =B30+419.35 -> 17603.27 | C31: =C30+419.35 -> 20279.48 | D31: =D30+419.35 -> 21779.48 | E31: =E30+419.35 -> 23584.14 | F31: =F30+623.6 -> 23133.17 | G31: =G30+623.6 -> 26344.92 | H31: =H30+623.6 -> 28844.92 | I31: =I30+623.6 -> 31266.22 | J31: 27214.78 | K31: 30518.83 | L31: =L30+588.3 -> 28425.74 | M31: =M30+588.3 -> 30725.74 | N31: =N30+588.3 -> 30925.74 | O31: =O30+588.3 -> 33225.74 | P31: =P30+588.3 -> 34066.67 | Q31: =Q30 -> 33561.5 | R31: =R30 -> 39068.25 | S31: =S30 -> 39731.15 | T31: =T30 -> 43984.46 | U31: =U30 -> 42231.15 | V31: =V30 -> 46484.46 | W31: =W30 -> 48210.16 | X31: =X30 -> 48954.16 | ... Z31: =Z30 -> 56266.78 | AA31: =Z31+6500 -> 62766.78 | AB31: =AB30 -> 65121.6 | AC31: =AC30 -> 65865.61 | AD31: =AC31+8510 -> 74375.61 | AE31: =AE30 -> 71441.13 | AF31: =AE31+8510 -> 79951.13
A32: 30 | B32: =B31+250.38 -> 17853.65 | C32: =C31+250.38 -> 20529.86 | D32: =D31+250.38 -> 22029.86 | E32: =E31+250.38 -> 23834.52 | F32: =F31+250.38 -> 23383.55 | G32: =G31+250.38 -> 26595.3 | H32: =H31+250.38 -> 29095.3 | I32: =I31+250.38 -> 31516.6 | J32: 27465.16 | K32: 30769.21 | L32: =L31+250.38 -> 28676.12 | M32: =M31+250.38 -> 30976.12 | N32: =N31+250.38 -> 31176.12 | O32: =O31+250.38 -> 33476.12 | P32: =P31+250.38 -> 34317.05 | Q32: =Q31+250.38 -> 33811.88 | R32: =R31+250.38 -> 39318.63 | S32: =S31+250.38 -> 39981.53 | ... Z32: =Z31+250.38 -> 56517.16 | AA32: =Z32+6500 -> 63017.16 | AB32: =AB31+250.38 -> 65371.98 | AC32: =AC31+250.38 -> 66115.99 | AD32: =AC32+8510 -> 74625.99 | AE32: =AE31+250.38 -> 71691.51 | AF32: =AE32+8510 -> 80201.51
B33: 3/1 x 112,97 | C33: 3/1 x 140,09 | D33: 3/1 x 140,09 | E33: 3/1 x 140,09 | F33: 3/1 x 267,31 | G33: 3/1 x 267,31 | H33: 3/1 x 267,31 | I33: 3/1 x 267,31 | J33: 3/1 x 252,18 | K33: 3/1 x 252,18 | L33: 3/1 x 252,18 | M33: 3/1 x 252,18 | N33: 3/1 x 252,18 | O33: 3/1 x 252,18 | P33: 3/1 x 252,18 | Q33: 3/1 x 623,60 | R33: 3/1 x 623,60 | S33: 3/1 x 623,60 | T33: 3/1 x 623,60 | U33: 3/1 x 623,60 | V33: 3/1 x 623,60 | W33: 3/1 x 623,60 | X33: 3/1 x 623,60 | Y33: 3/1 x 623,60 | Z33: 3/1 x 623,60 | AA33: 3/1 x 623,60 | AB33: 3/1 x 623,60 | AC33: 3/1 x 623,60 | AD33: 3/1 x 623,60 | AE33: 3/1 x 623,60 | AF33: 3/1 x 623,60
B34: 2/2 x 58,17 | C34: 5/2 x 194,67 | D34: 5/2 x 194,67 | E34: 5/2 x 194,67 | F34: 1/2 x 267,31 | G34: 1/2 x 267,31 | H34: 1/2 x 267,31 | I34: 1/2 x 267,31 | J34: 1/2 x 292,59 | K34: 1/2 x 292,59 | L34: 1/2 x 292,59 | M34: 1/2 x 292,59 | N34: 1/2 x 292,59 | O34: 1/2 x 292,59 | P34: 1/2 x 292,59 | Q34: 10/2 x 957,68 | R34: 10/2 x 957,68 | S34: 10/2 x 1135,17 | T34: 10/2 x 957,68 | U34: 10/2 x 1135,17 | V34: 10/2 x 957,68 | W34: 10/2 x 1260,36 | X34: 10/2 x 1260,36 | Y34: 10/2 x 1260,36 | Z34: 10/2 x 1260,36 | AA34: 10/2 x 1260,36 | AB34: 10/2 x 1608,27 | AC34: 10/2 x 1608,27 | AD34: 10/2 x 1608,27 | AE34: 10/2 x 1608,27 | AF34: 10/2 x 1608,27
B35: 1/2 x 60,40 | C35: 6/2 x 266,78 | D35: 6/2 x 266,78 | E35: 6/2 x 266,78 | F35: 1/2 x 356,34 | G35: 1/2 x 356,34 | H35: 1/2 x 356,34 | I35: 1/2 x 356,34 | J35: 1/2 x 390,03 | K35: 1/2 x 390,03 | L35: 1/2 x 390,03 | M35: 1/2 x 390,03 | N35: 1/2 x 390,03 | O35: 1/2 x 390,03 | P35: 1/2 x 390,03
B36: 2/2 x 194,67 | C36: 2/2 x 419,35 | D36: 2/2 x 419,35 | E36: 2/2 x 419,35 | F36: 2/2 x 712,64 | G36: 2/2 x 712,64 | H36: 2/2 x 712,64 | I36: 2/2 x 712,64 | J36: 2/2 x 672,31 | K36: 2/2 x 672,31 | L36: 2/2 x 672,31 | M36: 2/2 x 672,31 | N36: 2/2 x 672,31 | O36: 2/2 x 672,31 | P36: 2/2 x 672,31
B37: 6/2 x 266,78 | F37: 9/2 x 623,60 | G37: 9/2 x 623,60 | H37: 9/2 x 623,60 | I37: 9/2 x 623,60 | J37: 9/2 x 588,30 | K37: 9/2 x 588,30 | L37: 9/2 x 588,30 | M37: 9/2 x 588,30 | N37: 9/2 x 588,30 | O37: 9/2 x 588,30 | P37: 9/2 x 588,30
B38: 2/2 x 419,35 | AF38: 5/6 x 250,38
B39: 5/6 x 250,38 | C39: 5/6 x 250,38 | D39: 5/6 x 250,38 | E39: 5/6 x 250,38 | F39: 5/6 x 250,38 | G39: 5/6 x 250,38 | H39: 5/6 x 250,38 | I39: 5/6 x 250,38 | J39: 5/6 x 250,38 | K39: 5/6 x 250,38 | L39: 5/6 x 250,38 | M39: 5/6 x 250,38 | N39: 5/6 x 250,38 | O39: 5/6 x 250,38 | P39: 5/6 x 250,38 | Q39: 5/6 x 250,38 | R39: 5/6 x 250,38 | S39: 5/6 x 250,38 | T39: 5/6 x 250,38 | U39: 5/6 x 250,38 | V39: 5/6 x 250,38 | W39: 5/6 x 250,38 | X39: 5/6 x 250,38 | Y39: 5/6 x 250,38 | Z39: 5/6 x 250,38 | AA39: 5/6 x 250,38 | AB39: 5/6 x 250,38 | AC39: 5/6 x 250,38 | AD39: 5/6 x 250,38 | AE39: 5/6 x 250,38

Sheet Barèmes indexés
B1: D3 | C1: D2 | D1: D1bis | E1: D1 | F1: C3 | G1: C2 | H1: C1bis | I1: C1 | J1: B3/1 | K1: B3/2 | L1: B2/1 | M1: B2/2 | N1: B1/1bis | O1: B1/2bis | P1: B1 | Q1: A6/1 | R1: A6/2 A6Sc | S1: A5/1 | T1: A5/2 A5Sc | U1: A5/1bis | V1: A5/2bis A5Sc/bis | W1: A4/1 | X1: A4/2 | Y1: A4Sc | Z1: A3 | AA1: A3M | AB1: Abis | AC1: A2 | AD1: A2M | AE1: A1 | AF1: A1M
A2: 0 | B2: =ROUND(Barèmes!B2*Paramètres!$C$4,2) -> 26513.43 | C2: =ROUND(Barèmes!C2*Paramètres!$C$4,2) -> 30888.38 | D2: =ROUND(Barèmes!D2*Paramètres!$C$4,2) -> 33888.23 | E2: =ROUND(Barèmes!E2*Paramètres!$C$4,2) -> 37497.37 | F2: =ROUND(Barèmes!F2*Paramètres!$C$4,2) -> 27335.41 | G2: =ROUND(Barèmes!G2*Paramètres!$C$4,2) -> 33758.59 | H2: =ROUND(Barèmes!H2*Paramètres!$C$4,2) -> 38758.34 | I2: =ROUND(Barèmes!I2*Paramètres!$C$4,2) -> 43600.7 | ... AF2: =ROUND(Barèmes!AF2*Paramètres!$C$4,2) -> 121986.12
A3: 1 | B3: =ROUND(Barèmes!B3*Paramètres!$C$4,2) -> 26739.36 | C3: =ROUND(Barèmes!C3*Paramètres!$C$4,2) -> 31168.54 | D3: =ROUND(Barèmes!D3*Paramètres!$C$4,2) -> 34168.39 | E3: =ROUND(Barèmes!E3*Paramètres!$C$4,2) -> 37777.53 | F3: =ROUND(Barèmes!F3*Paramètres!$C$4,2) -> 27870.01 | G3: =ROUND(Barèmes!G3*Paramètres!$C$4,2) -> 34293.19 | H3: =ROUND(Barèmes!H3*Paramètres!$C$4,2) -> 39292.94 | I3: =ROUND(Barèmes!I3*Paramètres!$C$4,2) -> 44135.29 | ... AF3: =ROUND(Barèmes!AF3*Paramètres!$C$4,2) -> 123233.26
A4: 2 | B4: =ROUND(Barèmes!B4*Paramètres!$C$4,2) -> 26965.29 | C4: =ROUND(Barèmes!C4*Paramètres!$C$4,2) -> 31448.71 | D4: =ROUND(Barèmes!D4*Paramètres!$C$4,2) -> 34448.56 | E4: =ROUND(Barèmes!E4*Paramètres!$C$4,2) -> 38057.7 | F4: =ROUND(Barèmes!F4*Paramètres!$C$4,2) -> 28404.6 | G4: =ROUND(Barèmes!G4*Paramètres!$C$4,2) -> 34827.78 | H4: =ROUND(Barèmes!H4*Paramètres!$C$4,2) -> 39827.53 | I4: =ROUND(Barèmes!I4*Paramètres!$C$4,2) -> 44669.89 | ... AF4: =ROUND(Barèmes!AF4*Paramètres!$C$4,2) -> 124480.4
A5: 3 | B5: =ROUND(Barèmes!B5*Paramètres!$C$4,2) -> 27191.22 | C5: =ROUND(Barèmes!C5*Paramètres!$C$4,2) -> 31728.87 | D5: =ROUND(Barèmes!D5*Paramètres!$C$4,2) -> 34728.72 | E5: =ROUND(Barèmes!E5*Paramètres!$C$4,2) -> 38337.86 | F5: =ROUND(Barèmes!F5*Paramètres!$C$4,2) -> 28939.19 | G5: =ROUND(Barèmes!G5*Paramètres!$C$4,2) -> 35362.37 | H5: =ROUND(Barèmes!H5*Paramètres!$C$4,2) -> 40362.12 | I5: =ROUND(Barèmes!I5*Paramètres!$C$4,2) -> 45204.48 | ... AF5: =ROUND(Barèmes!AF5*Paramètres!$C$4,2) -> 125727.53
A6: 4 | B6: =ROUND(Barèmes!B6*Paramètres!$C$4,2) -> 27191.22 | C6: =ROUND(Barèmes!C6*Paramètres!$C$4,2) -> 31728.87 | D6: =ROUND(Barèmes!D6*Paramètres!$C$4,2) -> 34728.72 | E6: =ROUND(Barèmes!E6*Paramètres!$C$4,2) -> 38337.86 | F6: =ROUND(Barèmes!F6*Paramètres!$C$4,2) -> 28939.19 | G6: =ROUND(Barèmes!G6*Paramètres!$C$4,2) -> 35362.37 | H6: =ROUND(Barèmes!H6*Paramètres!$C$4,2) -> 40362.12 | I6: =ROUND(Barèmes!I6*Paramètres!$C$4,2) -> 45204.48 | ... AF6: =ROUND(Barèmes!AF6*Paramètres!$C$4,2) -> 125727.53
A7: 5 | B7: =ROUND(Barèmes!B7*Paramètres!$C$4,2) -> 27307.55 | C7: =ROUND(Barèmes!C7*Paramètres!$C$4,2) -> 32118.19 | D7: =ROUND(Barèmes!D7*Paramètres!$C$4,2) -> 35118.04 | E7: =ROUND(Barèmes!E7*Paramètres!$C$4,2) -> 38727.18 | F7: =ROUND(Barèmes!F7*Paramètres!$C$4,2) -> 29473.79 | G7: =ROUND(Barèmes!G7*Paramètres!$C$4,2) -> 35896.97 | H7: =ROUND(Barèmes!H7*Paramètres!$C$4,2) -> 40896.72 | I7: =ROUND(Barèmes!I7*Paramètres!$C$4,2) -> 45739.07 | ... AF7: =ROUND(Barèmes!AF7*Paramètres!$C$4,2) -> 128943.91
A8: 6 | B8: =ROUND(Barèmes!B8*Paramètres!$C$4,2) -> 27808.29 | C8: =ROUND(Barèmes!C8*Paramètres!$C$4,2) -> 32618.93 | D8: =ROUND(Barèmes!D8*Paramètres!$C$4,2) -> 35618.78 | E8: =ROUND(Barèmes!E8*Paramètres!$C$4,2) -> 39227.92 | F8: =ROUND(Barèmes!F8*Paramètres!$C$4,2) -> 29974.52 | G8: =ROUND(Barèmes!G8*Paramètres!$C$4,2) -> 36397.7 | H8: =ROUND(Barèmes!H8*Paramètres!$C$4,2) -> 41397.45 | I8: =ROUND(Barèmes!I8*Paramètres!$C$4,2) -> 46239.81 | ... AF8: =ROUND(Barèmes!AF8*Paramètres!$C$4,2) -> 129444.65
A9: 7 | B9: =ROUND(Barèmes!B9*Paramètres!$C$4,2) -> 27924.62 | C9: =ROUND(Barèmes!C9*Paramètres!$C$4,2) -> 33008.25 | D9: =ROUND(Barèmes!D9*Paramètres!$C$4,2) -> 36008.1 | E9: =ROUND(Barèmes!E9*Paramètres!$C$4,2) -> 39617.24 | F9: =ROUND(Barèmes!F9*Paramètres!$C$4,2) -> 30687.17 | G9: =ROUND(Barèmes!G9*Paramètres!$C$4,2) -> 37110.34 | H9: =ROUND(Barèmes!H9*Paramètres!$C$4,2) -> 42110.09 | I9: =ROUND(Barèmes!I9*Paramètres!$C$4,2) -> 46952.45 | ... AF9: =ROUND(Barèmes!AF9*Paramètres!$C$4,2) -> 132661.03
A10: 8 | B10: =ROUND(Barèmes!B10*Paramètres!$C$4,2) -> 27924.62 | C10: =ROUND(Barèmes!C10*Paramètres!$C$4,2) -> 33008.25 | D10: =ROUND(Barèmes!D10*Paramètres!$C$4,2) -> 36008.1 | E10: =ROUND(Barèmes!E10*Paramètres!$C$4,2) -> 39617.24 | F10: =ROUND(Barèmes!F10*Paramètres!$C$4,2) -> 30687.17 | G10: =ROUND(Barèmes!G10*Paramètres!$C$4,2) -> 37110.34 | H10: =ROUND(Barèmes!H10*Paramètres!$C$4,2) -> 42110.09 | I10: =ROUND(Barèmes!I10*Paramètres!$C$4,2) -> 46952.45 | ... AF10: =ROUND(Barèmes!AF10*Paramètres!$C$4,2) -> 132661.03
A11: 9 | B11: =ROUND(Barèmes!B11*Paramètres!$C$4,2) -> 28045.42 | C11: =ROUND(Barèmes!C11*Paramètres!$C$4,2) -> 33397.57 | D11: =ROUND(Barèmes!D11*Paramètres!$C$4,2) -> 36397.42 | E11: =ROUND(Barèmes!E11*Paramètres!$C$4,2) -> 40006.56 | F11: =ROUND(Barèmes!F11*Paramètres!$C$4,2) -> 32112.37 | G11: =ROUND(Barèmes!G11*Paramètres!$C$4,2) -> 38535.55 | H11: =ROUND(Barèmes!H11*Paramètres!$C$4,2) -> 43535.3 | I11: =ROUND(Barèmes!I11*Paramètres!$C$4,2) -> 48377.66 | ... AF11: =ROUND(Barèmes!AF11*Paramètres!$C$4,2) -> 135877.41
A12: 10 | B12: =ROUND(Barèmes!B12*Paramètres!$C$4,2) -> 28045.42 | C12: =ROUND(Barèmes!C12*Paramètres!$C$4,2) -> 33397.57 | D12: =ROUND(Barèmes!D12*Paramètres!$C$4,2) -> 36397.42 | E12: =ROUND(Barèmes!E12*Paramètres!$C$4,2) -> 40006.56 | F12: =ROUND(Barèmes!F12*Paramètres!$C$4,2) -> 32112.37 | G12: =ROUND(Barèmes!G12*Paramètres!$C$4,2) -> 38535.55 | H12: =ROUND(Barèmes!H12*Paramètres!$C$4,2) -> 43535.3 | I12: =ROUND(Barèmes!I12*Paramètres!$C$4,2) -> 48377.66 | ... AF12: =ROUND(Barèmes!AF12*Paramètres!$C$4,2) -> 135877.41
A13: 11 | B13: =ROUND(Barèmes!B13*Paramètres!$C$4,2) -> 28434.74 | C13: =ROUND(Barèmes!C13*Paramètres!$C$4,2) -> 33786.89 | D13: =ROUND(Barèmes!D13*Paramètres!$C$4,2) -> 36786.74 | E13: =ROUND(Barèmes!E13*Paramètres!$C$4,2) -> 40395.88 | F13: =ROUND(Barèmes!F13*Paramètres!$C$4,2) -> 33537.58 | G13: =ROUND(Barèmes!G13*Paramètres!$C$4,2) -> 39960.76 | H13: =ROUND(Barèmes!H13*Paramètres!$C$4,2) -> 44960.51 | I13: =ROUND(Barèmes!I13*Paramètres!$C$4,2) -> 49802.87 | ... AF13: =ROUND(Barèmes!AF13*Paramètres!$C$4,2) -> 139093.78
... A32: 30 | B32: =ROUND(Barèmes!B32*Paramètres!$C$4,2) -> 35705.51 | C32: =ROUND(Barèmes!C32*Paramètres!$C$4,2) -> 41057.67 | D32: =ROUND(Barèmes!D32*Paramètres!$C$4,2) -> 44057.52 | E32: =ROUND(Barèmes!E32*Paramètres!$C$4,2) -> 47666.66 | F32: =ROUND(Barèmes!F32*Paramètres!$C$4,2) -> 46764.76 | G32: =ROUND(Barèmes!G32*Paramètres!$C$4,2) -> 53187.94 | H32: =ROUND(Barèmes!H32*Paramètres!$C$4,2) -> 58187.69 | I32: =ROUND(Barèmes!I32*Paramètres!$C$4,2) -> 63030.05 | ... AF32: =ROUND(Barèmes!AF32*Paramètres!$C$4,2) -> 160395

Sheet Bruts mensuels
B1: D3 | C1: D2 | D1: D1bis | E1: D1 | F1: C3 | G1: C2 | H1: C1bis | I1: C1 | J1: B3/1 | K1: B3/2 | L1: B2/1 | M1: B2/2 | N1: B1/1bis | O1: B1/2bis | P1: B1 | Q1: A6/1 | R1: A6/2 A6Sc | S1: A5/1 | T1: A5/2 A5Sc | U1: A5/1bis | V1: A5/2bis A5Sc/bis | W1: A4/1 | X1: A4/2 | Y1: A4Sc | Z1: A3 | AA1: A3M | AB1: Abis | AC1: A2 | AD1: A2M | AE1: A1 | AF1: A1M
A2: 0 | B2: =ROUND('Barèmes indexés'!B2/12,2) -> 2209.45 | C2: =ROUND('Barèmes indexés'!C2/12,2) -> 2574.03 | D2: =ROUND('Barèmes indexés'!D2/12,2) -> 2824.02 | E2: =ROUND('Barèmes indexés'!E2/12,2) -> 3124.78 | F2: =ROUND('Barèmes indexés'!F2/12,2) -> 2277.95 | G2: =ROUND('Barèmes indexés'!G2/12,2) -> 2813.22 | H2: =ROUND('Barèmes indexés'!H2/12,2) -> 3229.86 | I2: =ROUND('Barèmes indexés'!I2/12,2) -> 3633.39 | ... AF2: =ROUND('Barèmes indexés'!AF2/12,2) -> 10165.51
A3: 1 | B3: =ROUND('Barèmes indexés'!B3/12,2) -> 2228.28 | C3: =ROUND('Barèmes indexés'!C3/12,2) -> 2597.38 | D3: =ROUND('Barèmes indexés'!D3/12,2) -> 2847.37 | E3: =ROUND('Barèmes indexés'!E3/12,2) -> 3148.13 | F3: =ROUND('Barèmes indexés'!F3/12,2) -> 2322.5 | G3: =ROUND('Barèmes indexés'!G3/12,2) -> 2857.77 | H3: =ROUND('Barèmes indexés'!H3/12,2) -> 3274.41 | I3: =ROUND('Barèmes indexés'!I3/12,2) -> 3677.94 | ... AF3: =ROUND('Barèmes indexés'!AF3/12,2) -> 10269.44
A4: 2 | B4: =ROUND('Barèmes indexés'!B4/12,2) -> 2247.11 | C4: =ROUND('Barèmes indexés'!C4/12,2) -> 2620.73 | D4: =ROUND('Barèmes indexés'!D4/12,2) -> 2870.71 | E4: =ROUND('Barèmes indexés'!E4/12,2) -> 3171.48 | F4: =ROUND('Barèmes indexés'!F4/12,2) -> 2367.05 | G4: =ROUND('Barèmes indexés'!G4/12,2) -> 2902.32 | H4: =ROUND('Barèmes indexés'!H4/12,2) -> 3318.96 | I4: =ROUND('Barèmes indexés'!I4/12,2) -> 3722.49 | ... AF4: =ROUND('Barèmes indexés'!AF4/12,2) -> 10373.37
A5: 3 | B5: =ROUND('Barèmes indexés'!B5/12,2) -> 2265.94 | C5: =ROUND('Barèmes indexés'!C5/12,2) -> 2644.07 | D5: =ROUND('Barèmes indexés'!D5/12,2) -> 2894.06 | E5: =ROUND('Barèmes indexés'!E5/12,2) -> 3194.82 | F5: =ROUND('Barèmes indexés'!F5/12,2) -> 2411.6 | G5: =ROUND('Barèmes indexés'!G5/12,2) -> 2946.86 | H5: =ROUND('Barèmes indexés'!H5/12,2) -> 3363.51 | I5: =ROUND('Barèmes indexés'!I5/12,2) -> 3767.04 | ... AF5: =ROUND('Barèmes indexés'!AF5/12,2) -> 10477.29
A6: 4 | B6: =ROUND('Barèmes indexés'!B6/12,2) -> 2265.94 | C6: =ROUND('Barèmes indexés'!C6/12,2) -> 2644.07 | D6: =ROUND('Barèmes indexés'!D6/12,2) -> 2894.06 | E6: =ROUND('Barèmes indexés'!E6/12,2) -> 3194.82 | F6: =ROUND('Barèmes indexés'!F6/12,2) -> 2411.6 | G6: =ROUND('Barèmes indexés'!G6/12,2) -> 2946.86 | H6: =ROUND('Barèmes indexés'!H6/12,2) -> 3363.51 | I6: =ROUND('Barèmes indexés'!I6/12,2) -> 3767.04 | ... AF6: =ROUND('Barèmes indexés'!AF6/12,2) -> 10477.29
A7: 5 | B7: =ROUND('Barèmes indexés'!B7/12,2) -> 2275.63 | C7: =ROUND('Barèmes indexés'!C7/12,2) -> 2676.52 | D7: =ROUND('Barèmes indexés'!D7/12,2) -> 2926.5 | E7: =ROUND('Barèmes indexés'!E7/12,2) -> 3227.27 | F7: =ROUND('Barèmes indexés'!F7/12,2) -> 2456.15 | G7: =ROUND('Barèmes indexés'!G7/12,2) -> 2991.41 | H7: =ROUND('Barèmes indexés'!H7/12,2) -> 3408.06 | I7: =ROUND('Barèmes indexés'!I7/12,2) -> 3811.59 | ... AF7: =ROUND('Barèmes indexés'!AF7/12,2) -> 10745.33
A8: 6 | B8: =ROUND('Barèmes indexés'!B8/12,2) -> 2317.36 | C8: =ROUND('Barèmes indexés'!C8/12,2) -> 2718.24 | D8: =ROUND('Barèmes indexés'!D8/12,2) -> 2968.23 | E8: =ROUND('Barèmes indexés'!E8/12,2) -> 3268.99 | F8: =ROUND('Barèmes indexés'!F8/12,2) -> 2497.88 | G8: =ROUND('Barèmes indexés'!G8/12,2) -> 3033.14 | H8: =ROUND('Barèmes indexés'!H8/12,2) -> 3449.79 | I8: =ROUND('Barèmes indexés'!I8/12,2) -> 3853.32 | ... AF8: =ROUND('Barèmes indexés'!AF8/12,2) -> 10787.05
A9: 7 | B9: =ROUND('Barèmes indexés'!B9/12,2) -> 2327.05 | C9: =ROUND('Barèmes indexés'!C9/12,2) -> 2750.69 | D9: =ROUND('Barèmes indexés'!D9/12,2) -> 3000.68 | E9: =ROUND('Barèmes indexés'!E9/12,2) -> 3301.44 | F9: =ROUND('Barèmes indexés'!F9/12,2) -> 2557.26 | G9: =ROUND('Barèmes indexés'!G9/12,2) -> 3092.53 | H9: =ROUND('Barèmes indexés'!H9/12,2) -> 3509.17 | I9: =ROUND('Barèmes indexés'!I9/12,2) -> 3912.7 | ... AF9: =ROUND('Barèmes indexés'!AF9/12,2) -> 11055.09
A10: 8 | B10: =ROUND('Barèmes indexés'!B10/12,2) -> 2327.05 | C10: =ROUND('Barèmes indexés'!C10/12,2) -> 2750.69 | D10: =ROUND('Barèmes indexés'!D10/12,2) -> 3000.68 | E10: =ROUND('Barèmes indexés'!E10/12,2) -> 3301.44 | F10: =ROUND('Barèmes indexés'!F10/12,2) -> 2557.26 | G10: =ROUND('Barèmes indexés'!G10/12,2) -> 3092.53 | H10: =ROUND('Barèmes indexés'!H10/12,2) -> 3509.17 | I10: =ROUND('Barèmes indexés'!I10/12,2) -> 3912.7 | ... AF10: =ROUND('Barèmes indexés'!AF10/12,2) -> 11055.09
A11: 9 | B11: =ROUND('Barèmes indexés'!B11/12,2) -> 2337.12 | C11: =ROUND('Barèmes indexés'!C11/12,2) -> 2783.13 | D11: =ROUND('Barèmes indexés'!D11/12,2) -> 3033.12 | E11: =ROUND('Barèmes indexés'!E11/12,2) -> 3333.88 | F11: =ROUND('Barèmes indexés'!F11/12,2) -> 2676.03 | G11: =ROUND('Barèmes indexés'!G11/12,2) -> 3211.3 | H11: =ROUND('Barèmes indexés'!H11/12,2) -> 3627.94 | I11: =ROUND('Barèmes indexés'!I11/12,2) -> 4031.47 | ... AF11: =ROUND('Barèmes indexés'!AF11/12,2) -> 11323.12
A12: 10 | B12: =ROUND('Barèmes indexés'!B12/12,2) -> 2337.12 | C12: =ROUND('Barèmes indexés'!C12/12,2) -> 2783.13 | D12: =ROUND('Barèmes indexés'!D12/12,2) -> 3033.12 | E12: =ROUND('Barèmes indexés'!E12/12,2) -> 3333.88 | F12: =ROUND('Barèmes indexés'!F12/12,2) -> 2676.03 | G12: =ROUND('Barèmes indexés'!G12/12,2) -> 3211.3 | H12: =ROUND('Barèmes indexés'!H12/12,2) -> 3627.94 | I12: =ROUND('Barèmes indexés'!I12/12,2) -> 4031.47 | ... AF12: =ROUND('Barèmes indexés'!AF12/12,2) -> 11323.12
A13: 11 | B13: =ROUND('Barèmes indexés'!B13/12,2) -> 2369.56 | C13: =ROUND('Barèmes indexés'!C13/12,2) -> 2815.57 | D13: =ROUND('Barèmes indexés'!D13/12,2) -> 3065.56 | E13: =ROUND('Barèmes indexés'!E13/12,2) -> 3366.32 | F13: =ROUND('Barèmes indexés'!F13/12,2) -> 2794.8 | G13: =ROUND('Barèmes indexés'!G13/12,2) -> 3330.06 | H13: =ROUND('Barèmes indexés'!H13/12,2) -> 3746.71 | I13: =ROUND('Barèmes indexés'!I13/12,2) -> 4150.24 | ... AF13: =ROUND('Barèmes indexés'!AF13/12,2) -> 11591.15
... A32: 30 | B32: =ROUND('Barèmes indexés'!B32/12,2) -> 2975.46 | C32: =ROUND('Barèmes indexés'!C32/12,2) -> 3421.47 | D32: =ROUND('Barèmes indexés'!D32/12,2) -> 3671.46 | E32: =ROUND('Barèmes indexés'!E32/12,2) -> 3972.22 | F32: =ROUND('Barèmes indexés'!F32/12,2) -> 3897.06 | G32: =ROUND('Barèmes indexés'!G32/12,2) -> 4432.33 | H32: =ROUND('Barèmes indexés'!H32/12,2) -> 4848.97 | I32: =ROUND('Barèmes indexés'!I32/12,2) -> 5252.5 | ... AF32: =ROUND('Barèmes indexés'!AF32/12,2) -> 13366.25

Sheet Charges statutaires
B1: D3 | C1: D2 | D1: D1bis | E1: D1 | F1: C3 | G1: C2 | H1: C1bis | I1: C1 | J1: B3/1 | K1: B3/2 | L1: B2/1 | M1: B2/2 | N1: B1/1bis | O1: B1/2bis | P1: B1 | Q1: A6/1 | R1: A6/2 A6Sc | S1: A5/1 | T1: A5/2 A5Sc | U1: A5/1bis | V1: A5/2bis A5Sc/bis | W1: A4/1 | X1: A4/2 | Y1: A4Sc | Z1: A3 | AA1: A3M | AB1: Abis | AC1: A2 | AD1: A2M | AE1: A1 | AF1: A1M
A2: 0 | B2: =Paramètres!$A$19*Barèmes!B2+Paramètres!$B$19*Paramètres!$D$19+Paramètres!$C$19 -> 34425.349 | C2: =Paramètres!$A$19*Barèmes!C2+Paramètres!$B$19*Paramètres!$D$19+Paramètres!$C$19 -> 39689.044 | D2: =Paramètres!$A$19*Barèmes!D2+Paramètres!$B$19*Paramètres!$E$19+Paramètres!$C$19 -> 42512.487 | E2: =Paramètres!$A$19*Barèmes!E2+Paramètres!$C$19 -> 46068.973 | F2: =Paramètres!$A$19*Barèmes!F2+Paramètres!$B$19*Paramètres!$D$19+Paramètres!$C$19 -> 35414.31 | G2: =Paramètres!$A$19*Barèmes!G2+Paramètres!$B$19*Paramètres!$E$19+Paramètres!$C$19 -> 42356.519 | H2: =Paramètres!$A$19*Barèmes!H2+Paramètres!$C$19 -> 47586.113 | I2: =Paramètres!$A$19*Barèmes!I2+Paramètres!$C$19 -> 53412.178 | J2: =Paramètres!$A$19*Barèmes!J2+Paramètres!$B$19*Paramètres!$E$19+Paramètres!$C$19 -> 45375.399 | K2: =Paramètres!$A$19*Barèmes!K2+Paramètres!$C$19 -> 52539.676 | L2: =Paramètres!$A$19*Barèmes!L2+Paramètres!$C$19 -> 47503.341 | M2: =Paramètres!$A$19*Barèmes!M2+Paramètres!$C$19 -> 53037.537 | N2: =Paramètres!$A$19*Barèmes!N2+Paramètres!$C$19 -> 53518.772 | O2: =Paramètres!$A$19*Barèmes!O2+Paramètres!$C$19 -> 59052.968 | P2: =Paramètres!$A$19*Barèmes!P2+Paramètres!$C$19 -> 61076.391 | Q2: =Paramètres!$A$19*Barèmes!Q2+Paramètres!$C$19 -> 51754.181 | R2: =Paramètres!$A$19*Barèmes!R2+Paramètres!$C$19 -> 65004.371 | ... AF2: =Paramètres!$A$19*Barèmes!AF2+Paramètres!$C$19 -> 147721.31
A3: 1 | B3: =Paramètres!$A$19*Barèmes!B3+Paramètres!$B$19*Paramètres!$D$19+Paramètres!$C$19 -> 34697.174 | C3: =Paramètres!$A$19*Barèmes!C3+Paramètres!$B$19*Paramètres!$D$19+Paramètres!$C$19 -> 40026.124 | D3: =Paramètres!$A$19*Barèmes!D3+Paramètres!$B$19*Paramètres!$E$19+Paramètres!$C$19 -> 42849.568 | E3: =Paramètres!$A$19*Barèmes!E3+Paramètres!$C$19 -> 46406.054 | F3: =Paramètres!$A$19*Barèmes!F3+Paramètres!$B$19*Paramètres!$D$19+Paramètres!$C$19 -> 36057.504 | G3: =Paramètres!$A$19*Barèmes!G3+Paramètres!$B$19*Paramètres!$E$19+Paramètres!$C$19 -> 42999.713 | H3: =Paramètres!$A$19*Barèmes!H3+Paramètres!$C$19 -> 48229.307 | I3: =Paramètres!$A$19*Barèmes!I3+Paramètres!$C$19 -> 54055.372 | J3: =Paramètres!$A$19*Barèmes!J3+Paramètres!$B$19*Paramètres!$E$19+Paramètres!$C$19 -> 45982.188 | K3: =Paramètres!$A$19*Barèmes!K3+Paramètres!$C$19 -> 53146.465 | L3: =Paramètres!$A$19*Barèmes!L3+Paramètres!$C$19 -> 48110.129 | M3: =Paramètres!$A$19*Barèmes!M3+Paramètres!$C$19 -> 53644.326 | N3: =Paramètres!$A$19*Barèmes!N3+Paramètres!$C$19 -> 54125.56 | O3: =Paramètres!$A$19*Barèmes!O3+Paramètres!$C$19 -> 59659.757 | P3: =Paramètres!$A$19*Barèmes!P3+Paramètres!$C$19 -> 61683.179 | Q3: =Paramètres!$A$19*Barèmes!Q3+Paramètres!$C$19 -> 53254.67 | R3: =Paramètres!$A$19*Barèmes!R3+Paramètres!$C$19 -> 66504.86 | ... AF3: =Paramètres!$A$19*Barèmes!AF3+Paramètres!$C$19 -> 149221.8
A4: 2 | B4: =Paramètres!$A$19*Barèmes!B4+Paramètres!$B$19*Paramètres!$D$19+Paramètres!$C$19 -> 34969 | C4: =Paramètres!$A$19*Barèmes!C4+Paramètres!$B$19*Paramètres!$D$19+Paramètres!$C$19 -> 40363.205 | D4: =Paramètres!$A$19*Barèmes!D4+Paramètres!$B$19*Paramètres!$E$19+Paramètres!$C$19 -> 43186.649 | E4: =Paramètres!$A$19*Barèmes!E4+Paramètres!$C$19 -> 46743.135 | F4: =Paramètres!$A$19*Barèmes!F4+Paramètres!$B$19*Paramètres!$D$19+Paramètres!$C$19 -> 36700.698 | G4: =Paramètres!$A$19*Barèmes!G4+Paramètres!$B$19*Paramètres!$E$19+Paramètres!$C$19 -> 43642.907 | H4: =Paramètres!$A$19*Barèmes!H4+Paramètres!$C$19 -> 48872.501 | I4: =Paramètres!$A$19*Barèmes!I4+Paramètres!$C$19 -> 54698.566 | J4: =Paramètres!$A$19*Barèmes!J4+Paramètres!$B$19*Paramètres!$E$19+Paramètres!$C$19 -> 46588.976 | K4: =Paramètres!$A$19*Barèmes!K4+Paramètres!$C$19 -> 53753.253 | L4: =Paramètres!$A$19*Barèmes!L4+Paramètres!$C$19 -> 48716.918 | M4: =Paramètres!$A$19*Barèmes!M4+Paramètres!$C$19 -> 54251.114 | N4: =Paramètres!$A$19*Barèmes!N4+Paramètres!$C$19 -> 54732.349 | O4: =Paramètres!$A$19*Barèmes!O4+Paramètres!$C$19 -> 60266.545 | P4: =Paramètres!$A$19*Barèmes!P4+Paramètres!$C$19 -> 62289.968 | Q4: =Paramètres!$A$19*Barèmes!Q4+Paramètres!$C$19 -> 54755.159 | R4: =Paramètres!$A$19*Barèmes!R4+Paramètres!$C$19 -> 68005.349 | ... AF4: =Paramètres!$A$19*Barèmes!AF4+Paramètres!$C$19 -> 150722.29
A5: 3 | B5: =Paramètres!$A$19*Barèmes!B5+Paramètres!$B$19*Paramètres!$D$19+Paramètres!$C$19 -> 35240.825 | C5: =Paramètres!$A$19*Barèmes!C5+Paramètres!$B$19*Paramètres!$D$19+Paramètres!$C$19 -> 40700.286 | D5: =Paramètres!$A$19*Barèmes!D5+Paramètres!$B$19*Paramètres!$E$19+Paramètres!$C$19 -> 43523.729 | E5: =Paramètres!$A$19*Barèmes!E5+Paramètres!$C$19 -> 47080.215 | F5: =Paramètres!$A$19*Barèmes!F5+Paramètres!$B$19*Paramètres!$D$19+Paramètres!$C$19 -> 37343.892 | G5: =Paramètres!$A$19*Barèmes!G5+Paramètres!$B$19*Paramètres!$E$19+Paramètres!$C$19 -> 44286.101 | H5: =Paramètres!$A$19*Barèmes!H5+Paramètres!$C$19 -> 49515.695 | I5: =Paramètres!$A$19*Barèmes!I5+Paramètres!$C$19 -> 55341.76 | J5: =Paramètres!$A$19*Barèmes!J5+Paramètres!$C$19 -> 46409.928 | K5: =Paramètres!$A$19*Barèmes!K5+Paramètres!$C$19 -> 54360.042 | L5: =Paramètres!$A$19*Barèmes!L5+Paramètres!$C$19 -> 49323.706 | M5: =Paramètres!$A$19*Barèmes!M5+Paramètres!$C$19 -> 54857.903 | N5: =Paramètres!$A$19*Barèmes!N5+Paramètres!$C$19 -> 55339.137 | O5: =Paramètres!$A$19*Barèmes!O5+Paramètres!$C$19 -> 60873.334 | ... AF5: =Paramètres!$A$19*Barèmes!AF5+Paramètres!$C$19 -> 152222.78
A6: 4 | B6: =Paramètres!$A$19*Barèmes!B6+Paramètres!$B$19*Paramètres!$D$19+Paramètres!$C$19 -> 35240.825 | C6: =Paramètres!$A$19*Barèmes!C6+Paramètres!$B$19*Paramètres!$D$19+Paramètres!$C$19 -> 40700.286 | D6: =Paramètres!$A$19*Barèmes!D6+Paramètres!$B$19*Paramètres!$E$19+Paramètres!$C$19 -> 43523.729 | E6: =Paramètres!$A$19*Barèmes!E6+Paramètres!$C$19 -> 47080.215 | F6: =Paramètres!$A$19*Barèmes!F6+Paramètres!$B$19*Paramètres!$D$19+Paramètres!$C$19 -> 37343.892 | G6: =Paramètres!$A$19*Barèmes!G6+Paramètres!$B$19*Paramètres!$E$19+Paramètres!$C$19 -> 44286.101 | H6: =Paramètres!$A$19*Barèmes!H6+Paramètres!$C$19 -> 49515.695 | I6: =Paramètres!$A$19*Barèmes!I6+Paramètres!$C$19 -> 55341.76 | J6: =Paramètres!$A$19*Barèmes!J6+Paramètres!$C$19 -> 46409.928 | K6: =Paramètres!$A$19*Barèmes!K6+Paramètres!$C$19 -> 54360.042 | L6: =Paramètres!$A$19*Barèmes!L6+Paramètres!$C$19 -> 49323.706 | M6: =Paramètres!$A$19*Barèmes!M6+Paramètres!$C$19 -> 54857.903 | N6: =Paramètres!$A$19*Barèmes!N6+Paramètres!$C$19 -> 55339.137 | O6: =Paramètres!$A$19*Barèmes!O6+Paramètres!$C$19 -> 60873.334 | ... AF6: =Paramètres!$A$19*Barèmes!AF6+Paramètres!$C$19 -> 152222.78
A7: 5 | B7: =Paramètres!$A$19*Barèmes!B7+Paramètres!$B$19*Paramètres!$D$19+Paramètres!$C$19 -> 35380.792 | C7: =Paramètres!$A$19*Barèmes!C7+Paramètres!$B$19*Paramètres!$D$19+Paramètres!$C$19 -> 41168.695 | D7: =Paramètres!$A$19*Barèmes!D7+Paramètres!$B$19*Paramètres!$E$19+Paramètres!$C$19 -> 43992.139 | E7: =Paramètres!$A$19*Barèmes!E7+Paramètres!$C$19 -> 47548.625 | F7: =Paramètres!$A$19*Barèmes!F7+Paramètres!$B$19*Paramètres!$D$19+Paramètres!$C$19 -> 37987.086 | G7: =Paramètres!$A$19*Barèmes!G7+Paramètres!$B$19*Paramètres!$E$19+Paramètres!$C$19 -> 44929.295 | H7: =Paramètres!$A$19*Barèmes!H7+Paramètres!$C$19 -> 50158.889 | I7: =Paramètres!$A$19*Barèmes!I7+Paramètres!$C$19 -> 55984.954 | J7: =Paramètres!$A$19*Barèmes!J7+Paramètres!$C$19 -> 47113.95 | K7: =Paramètres!$A$19*Barèmes!K7+Paramètres!$C$19 -> 55064.064 | L7: =Paramètres!$A$19*Barèmes!L7+Paramètres!$C$19 -> 50027.728 | M7: =Paramètres!$A$19*Barèmes!M7+Paramètres!$C$19 -> 55561.925 | N7: =Paramètres!$A$19*Barèmes!N7+Paramètres!$C$19 -> 56043.159 | O7: =Paramètres!$A$19*Barèmes!O7+Paramètres!$C$19 -> 61577.356 | ... AF7: =Paramètres!$A$19*Barèmes!AF7+Paramètres!$C$19 -> 156092.55
A8: 6 | B8: =Paramètres!$A$19*Barèmes!B8+Paramètres!$B$19*Paramètres!$D$19+Paramètres!$C$19 -> 35983.25 | C8: =Paramètres!$A$19*Barèmes!C8+Paramètres!$B$19*Paramètres!$D$19+Paramètres!$C$19 -> 41771.153 | D8: =Paramètres!$A$19*Barèmes!D8+Paramètres!$B$19*Paramètres!$E$19+Paramètres!$C$19 -> 44594.596 | E8: =Paramètres!$A$19*Barèmes!E8+Paramètres!$C$19 -> 48151.082 | F8: =Paramètres!$A$19*Barèmes!F8+Paramètres!$B$19*Paramètres!$D$19+Paramètres!$C$19 -> 38589.543 | G8: =Paramètres!$A$19*Barèmes!G8+Paramètres!$B$19*Paramètres!$E$19+Paramètres!$C$19 -> 45531.752 | H8: =Paramètres!$A$19*Barèmes!H8+Paramètres!$C$19 -> 50761.346 | I8: =Paramètres!$A$19*Barèmes!I8+Paramètres!$C$19 -> 56587.411 | J8: =Paramètres!$A$19*Barèmes!J8+Paramètres!$C$19 -> 47716.407 | K8: =Paramètres!$A$19*Barèmes!K8+Paramètres!$C$19 -> 55666.521 | L8: =Paramètres!$A$19*Barèmes!L8+Paramètres!$C$19 -> 50630.186 | M8: =Paramètres!$A$19*Barèmes!M8+Paramètres!$C$19 -> 56164.382 | N8: =Paramètres!$A$19*Barèmes!N8+Paramètres!$C$19 -> 56645.617 | O8: =Paramètres!$A$19*Barèmes!O8+Paramètres!$C$19 -> 62179.813 | ... AF8: =Paramètres!$A$19*Barèmes!AF8+Paramètres!$C$19 -> 156695.01
A9: 7 | B9: =Paramètres!$A$19*Barèmes!B9+Paramètres!$B$19*Paramètres!$D$19+Paramètres!$C$19 -> 36123.217 | C9: =Paramètres!$A$19*Barèmes!C9+Paramètres!$B$19*Paramètres!$E$19+Paramètres!$C$19 -> 41453.747 | D9: =Paramètres!$A$19*Barèmes!D9+Paramètres!$B$19*Paramètres!$E$19+Paramètres!$C$19 -> 45063.006 | E9: =Paramètres!$A$19*Barèmes!E9+Paramètres!$C$19 -> 48619.492 | F9: =Paramètres!$A$19*Barèmes!F9+Paramètres!$B$19*Paramètres!$D$19+Paramètres!$C$19 -> 39446.959 | G9: =Paramètres!$A$19*Barèmes!G9+Paramètres!$C$19 -> 45603.331 | H9: =Paramètres!$A$19*Barèmes!H9+Paramètres!$C$19 -> 51618.762 | I9: =Paramètres!$A$19*Barèmes!I9+Paramètres!$C$19 -> 57444.827 | J9: =Paramètres!$A$19*Barèmes!J9+Paramètres!$C$19 -> 48654.887 | K9: =Paramètres!$A$19*Barèmes!K9+Paramètres!$C$19 -> 56605 | L9: =Paramètres!$A$19*Barèmes!L9+Paramètres!$C$19 -> 51568.665 | M9: =Paramètres!$A$19*Barèmes!M9+Paramètres!$C$19 -> 57102.862 | N9: =Paramètres!$A$19*Barèmes!N9+Paramètres!$C$19 -> 57584.096 | ... AF9: =Paramètres!$A$19*Barèmes!AF9+Paramètres!$C$19 -> 160564.78
A10: 8 | B10: =Paramètres!$A$19*Barèmes!B10+Paramètres!$B$19*Paramètres!$D$19+Paramètres!$C$19 -> 36123.217 | C10: =Paramètres!$A$19*Barèmes!C10+Paramètres!$B$19*Paramètres!$E$19+Paramètres!$C$19 -> 41453.747 | D10: =Paramètres!$A$19*Barèmes!D10+Paramètres!$B$19*Paramètres!$E$19+Paramètres!$C$19 -> 45063.006 | E10: =Paramètres!$A$19*Barèmes!E10+Paramètres!$C$19 -> 48619.492 | F10: =Paramètres!$A$19*Barèmes!F10+Paramètres!$B$19*Paramètres!$D$19+Paramètres!$C$19 -> 39446.959 | G10: =Paramètres!$A$19*Barèmes!G10+Paramètres!$C$19 -> 45603.331 | H10: =Paramètres!$A$19*Barèmes!H10+Paramètres!$C$19 -> 51618.762 | I10: =Paramètres!$A$19*Barèmes!I10+Paramètres!$C$19 -> 57444.827 | J10: =Paramètres!$A$19*Barèmes!J10+Paramètres!$C$19 -> 48654.887 | K10: =Paramètres!$A$19*Barèmes!K10+Paramètres!$C$19 -> 56605 | L10: =Paramètres!$A$19*Barèmes!L10+Paramètres!$C$19 -> 51568.665 | M10: =Paramètres!$A$19*Barèmes!M10+Paramètres!$C$19 -> 57102.862 | N10: =Paramètres!$A$19*Barèmes!N10+Paramètres!$C$19 -> 57584.096 | ... AF10: =Paramètres!$A$19*Barèmes!AF10+Paramètres!$C$19 -> 160564.78
A11: 9 | B11: =Paramètres!$A$19*Barèmes!B11+Paramètres!$B$19*Paramètres!$D$19+Paramètres!$C$19 -> 36268.549 | C11: =Paramètres!$A$19*Barèmes!C11+Paramètres!$B$19*Paramètres!$E$19+Paramètres!$C$19 -> 41922.157 | D11: =Paramètres!$A$19*Barèmes!D11+Paramètres!$B$19*Paramètres!$E$19+Paramètres!$C$19 -> 45531.415 | E11: =Paramètres!$A$19*Barèmes!E11+Paramètres!$C$19 -> 49087.901 | F11: =Paramètres!$A$19*Barèmes!F11+Paramètres!$B$19*Paramètres!$D$19+Paramètres!$C$19 -> 41161.693 | G11: =Paramètres!$A$19*Barèmes!G11+Paramètres!$C$19 -> 47318.065 | H11: =Paramètres!$A$19*Barèmes!H11+Paramètres!$C$19 -> 53333.496 | I11: =Paramètres!$A$19*Barèmes!I11+Paramètres!$C$19 -> 59159.561 | J11: =Paramètres!$A$19*Barèmes!J11+Paramètres!$C$19 -> 50272.58 | K11: =Paramètres!$A$19*Barèmes!K11+Paramètres!$C$19 -> 58222.694 | L11: =Paramètres!$A$19*Barèmes!L11+Paramètres!$C$19 -> 53186.359 | M11: =Paramètres!$A$19*Barèmes!M11+Paramètres!$C$19 -> 58720.555 | N11: =Paramètres!$A$19*Barèmes!N11+Paramètres!$C$19 -> 59201.79 | ... AF11: =Paramètres!$A$19*Barèmes!AF11+Paramètres!$C$19 -> 164434.56
A12: 10 | B12: =Paramètres!$A$19*Barèmes!B12+Paramètres!$B$19*Paramètres!$D$19+Paramètres!$C$19 -> 36268.549 | C12: =Paramètres!$A$19*Barèmes!C12+Paramètres!$B$19*Paramètres!$E$19+Paramètres!$C$19 -> 41922.157 | D12: =Paramètres!$A$19*Barèmes!D12+Paramètres!$B$19*Paramètres!$E$19+Paramètres!$C$19 -> 45531.415 | E12: =Paramètres!$A$19*Barèmes!E12+Paramètres!$C$19 -> 49087.901 | F12: =Paramètres!$A$19*Barèmes!F12+Paramètres!$B$19*Paramètres!$D$19+Paramètres!$C$19 -> 41161.693 | G12: =Paramètres!$A$19*Barèmes!G12+Paramètres!$C$19 -> 47318.065 | H12: =Paramètres!$A$19*Barèmes!H12+Paramètres!$C$19 -> 53333.496 | I12: =Paramètres!$A$19*Barèmes!I12+Paramètres!$C$19 -> 59159.561 | J12: =Paramètres!$A$19*Barèmes!J12+Paramètres!$C$19 -> 50272.58 | K12: =Paramètres!$A$19*Barèmes!K12+Paramètres!$C$19 -> 58222.694 | L12: =Paramètres!$A$19*Barèmes!L12+Paramètres!$C$19 -> 53186.359 | M12: =Paramètres!$A$19*Barèmes!M12+Paramètres!$C$19 -> 58720.555 | N12: =Paramètres!$A$19*Barèmes!N12+Paramètres!$C$19 -> 59201.79 | ... AF12: =Paramètres!$A$19*Barèmes!AF12+Paramètres!$C$19 -> 164434.56
A13: 11 | B13: =Paramètres!$A$19*Barèmes!B13+Paramètres!$B$19*Paramètres!$D$19+Paramètres!$C$19 -> 36736.959 | C13: =Paramètres!$A$19*Barèmes!C13+Paramètres!$B$19*Paramètres!$E$19+Paramètres!$C$19 -> 42390.566 | D13: =Paramètres!$A$19*Barèmes!D13+Paramètres!$B$19*Paramètres!$E$19+Paramètres!$C$19 -> 45999.825 | E13: =Paramètres!$A$19*Barèmes!E13+Paramètres!$C$19 -> 49556.311 | F13: =Paramètres!$A$19*Barèmes!F13+Paramètres!$B$19*Paramètres!$E$19+Paramètres!$C$19 -> 42090.613 | G13: =Paramètres!$A$19*Barèmes!G13+Paramètres!$C$19 -> 49032.8 | H13: =Paramètres!$A$19*Barèmes!H13+Paramètres!$C$19 -> 55048.231 | I13: =Paramètres!$A$19*Barèmes!I13+Paramètres!$C$19 -> 60874.296 | J13: =Paramètres!$A$19*Barèmes!J13+Paramètres!$C$19 -> 51890.274 | K13: =Paramètres!$A$19*Barèmes!K13+Paramètres!$C$19 -> 59840.388 | L13: =Paramètres!$A$19*Barèmes!L13+Paramètres!$C$19 -> 54804.053 | M13: =Paramètres!$A$19*Barèmes!M13+Paramètres!$C$19 -> 60338.249 | N13: =Paramètres!$A$19*Barèmes!N13+Paramètres!$C$19 -> 60819.484 | ... AF13: =Paramètres!$A$19*Barèmes!AF13+Paramètres!$C$19 -> 168304.33
A14: 12 | B14: =Paramètres!$A$19*Barèmes!B14+Paramètres!$B$19*Paramètres!$D$19+Paramètres!$C$19 -> 37339.416 | C14: =Paramètres!$A$19*Barèmes!C14+Paramètres!$B$19*Paramètres!$E$19+Paramètres!$C$19 -> 42993.024 | D14: =Paramètres!$A$19*Barèmes!D14+Paramètres!$B$19*Paramètres!$E$19+Paramètres!$C$19 -> 46602.282 | E14: =Paramètres!$A$19*Barèmes!E14+Paramètres!$C$19 -> 50158.768 | F14: =Paramètres!$A$19*Barèmes!F14+Paramètres!$B$19*Paramètres!$E$19+Paramètres!$C$19 -> 42693.07 | G14: =Paramètres!$A$19*Barèmes!G14+Paramètres!$C$19 -> 49635.258 | H14: =Paramètres!$A$19*Barèmes!H14+Paramètres!$C$19 -> 55650.688 | I14: =Paramètres!$A$19*Barèmes!I14+Paramètres!$C$19 -> 61476.754 | J14: =Paramètres!$A$19*Barèmes!J14+Paramètres!$C$19 -> 52492.732 | K14: =Paramètres!$A$19*Barèmes!K14+Paramètres!$C$19 -> 60442.845 | L14: =Paramètres!$A$19*Barèmes!L14+Paramètres!$C$19 -> 55406.51 | M14: =Paramètres!$A$19*Barèmes!M14+Paramètres!$C$19 -> 60940.706 | N14: =Paramètres!$A$19*Barèmes!N14+Paramètres!$C$19 -> 61421.941 | ... AF14: =Paramètres!$A$19*Barèmes!AF14+Paramètres!$C$19 -> 168906.79
A15: 13 | B15: =Paramètres!$A$19*Barèmes!B15+Paramètres!$B$19*Paramètres!$D$19+Paramètres!$C$19 -> 37807.826 | C15: =Paramètres!$A$19*Barèmes!C15+Paramètres!$B$19*Paramètres!$E$19+Paramètres!$C$19 -> 43461.433 | D15: =Paramètres!$A$19*Barèmes!D15+Paramètres!$C$19 -> 46284.855 | E15: =Paramètres!$A$19*Barèmes!E15+Paramètres!$C$19 -> 50627.178 | F15: =Paramètres!$A$19*Barèmes!F15+Paramètres!$B$19*Paramètres!$E$19+Paramètres!$C$19 -> 44193.559 | G15: =Paramètres!$A$19*Barèmes!G15+Paramètres!$C$19 -> 51135.747 | H15: =Paramètres!$A$19*Barèmes!H15+Paramètres!$C$19 -> 57151.178 | I15: =Paramètres!$A$19*Barèmes!I15+Paramètres!$C$19 -> 62977.243 | J15: =Paramètres!$A$19*Barèmes!J15+Paramètres!$C$19 -> 53908.283 | K15: =Paramètres!$A$19*Barèmes!K15+Paramètres!$C$19 -> 61858.397 | L15: =Paramètres!$A$19*Barèmes!L15+Paramètres!$C$19 -> 56822.061 | M15: =Paramètres!$A$19*Barèmes!M15+Paramètres!$C$19 -> 62356.258 | N15: =Paramètres!$A$19*Barèmes!N15+Paramètres!$C$19 -> 62837.492 | ... AF15: =Paramètres!$A$19*Barèmes!AF15+Paramètres!$C$19 -> 172776.57
A16: 14 | B16: =Paramètres!$A$19*Barèmes!B16+Paramètres!$B$19*Paramètres!$D$19+Paramètres!$C$19 -> 37807.826 | C16: =Paramètres!$A$19*Barèmes!C16+Paramètres!$B$19*Paramètres!$E$19+Paramètres!$C$19 -> 43461.433 | D16: =Paramètres!$A$19*Barèmes!D16+Paramètres!$C$19 -> 46284.855 | E16: =Paramètres!$A$19*Barèmes!E16+Paramètres!$C$19 -> 50627.178 | F16: =Paramètres!$A$19*Barèmes!F16+Paramètres!$B$19*Paramètres!$E$19+Paramètres!$C$19 -> 44193.559 | G16: =Paramètres!$A$19*Barèmes!G16+Paramètres!$C$19 -> 51135.747 | H16: =Paramètres!$A$19*Barèmes!H16+Paramètres!$C$19 -> 57151.178 | I16: =Paramètres!$A$19*Barèmes!I16+Paramètres!$C$19 -> 62977.243 | J16: =Paramètres!$A$19*Barèmes!J16+Paramètres!$C$19 -> 53908.283 | K16: =Paramètres!$A$19*Barèmes!K16+Paramètres!$C$19 -> 61858.397 | L16: =Paramètres!$A$19*Barèmes!L16+Paramètres!$C$19 -> 56822.061 | M16: =Paramètres!$A$19*Barèmes!M16+Paramètres!$C$19 -> 62356.258 | N16: =Paramètres!$A$19*Barèmes!N16+Paramètres!$C$19 -> 62837.492 | ... AF16: =Paramètres!$A$19*Barèmes!AF16+Paramètres!$C$19 -> 172776.57
A17: 15 | B17: =Paramètres!$A$19*Barèmes!B17+Paramètres!$B$19*Paramètres!$D$19+Paramètres!$C$19 -> 38449.745 | C17: =Paramètres!$A$19*Barèmes!C17+Paramètres!$B$19*Paramètres!$E$19+Paramètres!$C$19 -> 44103.352 | D17: =Paramètres!$A$19*Barèmes!D17+Paramètres!$C$19 -> 46926.774 | E17: =Paramètres!$A$19*Barèmes!E17+Paramètres!$C$19 -> 51269.097 | F17: =Paramètres!$A$19*Barèmes!F17+Paramètres!$B$19*Paramètres!$E$19+Paramètres!$C$19 -> 45694.049 | G17: =Paramètres!$A$19*Barèmes!G17+Paramètres!$C$19 -> 52636.236 | H17: =Paramètres!$A$19*Barèmes!H17+Paramètres!$C$19 -> 58651.667 | I17: =Paramètres!$A$19*Barèmes!I17+Paramètres!$C$19 -> 64477.732 | J17: =Paramètres!$A$19*Barèmes!J17+Paramètres!$C$19 -> 55323.834 | K17: =Paramètres!$A$19*Barèmes!K17+Paramètres!$C$19 -> 63273.948 | L17: =Paramètres!$A$19*Barèmes!L17+Paramètres!$C$19 -> 58237.612 | M17: =Paramètres!$A$19*Barèmes!M17+Paramètres!$C$19 -> 63771.809 | N17: =Paramètres!$A$19*Barèmes!N17+Paramètres!$C$19 -> 64253.043 | ... AF17: =Paramètres!$A$19*Barèmes!AF17+Paramètres!$C$19 -> 176646.34
A18: 16 | B18: =Paramètres!$A$19*Barèmes!B18+Paramètres!$B$19*Paramètres!$D$19+Paramètres!$C$19 -> 38449.745 | C18: =Paramètres!$A$19*Barèmes!C18+Paramètres!$B$19*Paramètres!$E$19+Paramètres!$C$19 -> 44103.352 | D18: =Paramètres!$A$19*Barèmes!D18+Paramètres!$C$19 -> 46926.774 | E18: =Paramètres!$A$19*Barèmes!E18+Paramètres!$C$19 -> 51269.097 | F18: =Paramètres!$A$19*Barèmes!F18+Paramètres!$B$19*Paramètres!$E$19+Paramètres!$C$19 -> 45694.049 | G18: =Paramètres!$A$19*Barèmes!G18+Paramètres!$C$19 -> 52636.236 | H18: =Paramètres!$A$19*Barèmes!H18+Paramètres!$C$19 -> 58651.667 | I18: =Paramètres!$A$19*Barèmes!I18+Paramètres!$C$19 -> 64477.732 | J18: =Paramètres!$A$19*Barèmes!J18+Paramètres!$C$19 -> 55323.834 | K18: =Paramètres!$A$19*Barèmes!K18+Paramètres!$C$19 -> 63273.948 | L18: =Paramètres!$A$19*Barèmes!L18+Paramètres!$C$19 -> 58237.612 | M18: =Paramètres!$A$19*Barèmes!M18+Paramètres!$C$19 -> 63771.809 | N18: =Paramètres!$A$19*Barèmes!N18+Paramètres!$C$19 -> 64253.043 | ... AF18: =Paramètres!$A$19*Barèmes!AF18+Paramètres!$C$19 -> 176646.34
A19: 17 | B19: =Paramètres!$A$19*Barèmes!B19+Paramètres!$B$19*Paramètres!$D$19+Paramètres!$C$19 -> 39091.663 | C19: =Paramètres!$A$19*Barèmes!C19+Paramètres!$B$19*Paramètres!$E$19+Paramètres!$C$19 -> 44745.271 | D19: =Paramètres!$A$19*Barèmes!D19+Paramètres!$C$19 -> 47568.692 | E19: =Paramètres!$A$19*Barèmes!E19+Paramètres!$C$19 -> 51911.015 | F19: =Paramètres!$A$19*Barèmes!F19+Paramètres!$C$19 -> 46408.701 | G19: =Paramètres!$A$19*Barèmes!G19+Paramètres!$C$19 -> 54136.725 | H19: =Paramètres!$A$19*Barèmes!H19+Paramètres!$C$19 -> 60152.156 | I19: =Paramètres!$A$19*Barèmes!I19+Paramètres!$C$19 -> 65978.221 | J19: =Paramètres!$A$19*Barèmes!J19+Paramètres!$C$19 -> 56739.385 | K19: =Paramètres!$A$19*Barèmes!K19+Paramètres!$C$19 -> 64689.499 | ... AF19: =Paramètres!$A$19*Barèmes!AF19+Paramètres!$C$19 -> 180516.12
A20: 18 | B20: =Paramètres!$A$19*Barèmes!B20+Paramètres!$B$19*Paramètres!$D$19+Paramètres!$C$19 -> 39694.121 | C20: =Paramètres!$A$19*Barèmes!C20+Paramètres!$B$19*Paramètres!$E$19+Paramètres!$C$19 -> 45347.728 | D20: =Paramètres!$A$19*Barèmes!D20+Paramètres!$C$19 -> 48171.15 | E20: =Paramètres!$A$19*Barèmes!E20+Paramètres!$C$19 -> 52513.473 | F20: =Paramètres!$A$19*Barèmes!F20+Paramètres!$C$19 -> 47011.158 | G20: =Paramètres!$A$19*Barèmes!G20+Paramètres!$C$19 -> 54739.182 | H20: =Paramètres!$A$19*Barèmes!H20+Paramètres!$C$19 -> 60754.613 | I20: =Paramètres!$A$19*Barèmes!I20+Paramètres!$C$19 -> 66580.678 | J20: =Paramètres!$A$19*Barèmes!J20+Paramètres!$C$19 -> 57341.843 | K20: =Paramètres!$A$19*Barèmes!K20+Paramètres!$C$19 -> 65291.956 | ... AF20: =Paramètres!$A$19*Barèmes!AF20+Paramètres!$C$19 -> 181118.57
A21: 19 | B21: =Paramètres!$A$19*Barèmes!B21+Paramètres!$B$19*Paramètres!$D$19+Paramètres!$C$19 -> 40336.039 | C21: =Paramètres!$A$19*Barèmes!C21+Paramètres!$B$19*Paramètres!$E$19+Paramètres!$C$19 -> 45989.647 | D21: =Paramètres!$A$19*Barèmes!D21+Paramètres!$C$19 -> 48813.068 | E21: =Paramètres!$A$19*Barèmes!E21+Paramètres!$C$19 -> 53155.391 | F21: =Paramètres!$A$19*Barèmes!F21+Paramètres!$C$19 -> 48511.647 | G21: =Paramètres!$A$19*Barèmes!G21+Paramètres!$C$19 -> 56239.671 | H21: =Paramètres!$A$19*Barèmes!H21+Paramètres!$C$19 -> 62255.102 | I21: =Paramètres!$A$19*Barèmes!I21+Paramètres!$C$19 -> 68081.167 | J21: =Paramètres!$A$19*Barèmes!J21+Paramètres!$C$19 -> 58757.394 | K21: =Paramètres!$A$19*Barèmes!K21+Paramètres!$C$19 -> 66707.508 | ... AF21: =Paramètres!$A$19*Barèmes!AF21+Paramètres!$C$19 -> 184988.35
A22: 20 | B22: =Paramètres!$A$19*Barèmes!B22+Paramètres!$B$19*Paramètres!$D$19+Paramètres!$C$19 -> 40336.039 | C22: =Paramètres!$A$19*Barèmes!C22+Paramètres!$B$19*Paramètres!$E$19+Paramètres!$C$19 -> 45989.647 | D22: =Paramètres!$A$19*Barèmes!D22+Paramètres!$C$19 -> 48813.068 | E22: =Paramètres!$A$19*Barèmes!E22+Paramètres!$C$19 -> 53155.391 | F22: =Paramètres!$A$19*Barèmes!F22+Paramètres!$C$19 -> 48511.647 | G22: =Paramètres!$A$19*Barèmes!G22+Paramètres!$C$19 -> 56239.671 | H22: =Paramètres!$A$19*Barèmes!H22+Paramètres!$C$19 -> 62255.102 | I22: =Paramètres!$A$19*Barèmes!I22+Paramètres!$C$19 -> 68081.167 | J22: =Paramètres!$A$19*Barèmes!J22+Paramètres!$C$19 -> 58757.394 | K22: =Paramètres!$A$19*Barèmes!K22+Paramètres!$C$19 -> 66707.508 | ... AF22: =Paramètres!$A$19*Barèmes!AF22+Paramètres!$C$19 -> 184988.35
A23: 21 | B23: =Paramètres!$A$19*Barèmes!B23+Paramètres!$B$19*Paramètres!$D$19+Paramètres!$C$19 -> 40977.958 | C23: =Paramètres!$A$19*Barèmes!C23+Paramètres!$B$19*Paramètres!$E$19+Paramètres!$C$19 -> 46631.565 | D23: =Paramètres!$A$19*Barèmes!D23+Paramètres!$C$19 -> 49454.987 | E23: =Paramètres!$A$19*Barèmes!E23+Paramètres!$C$19 -> 53797.31 | F23: =Paramètres!$A$19*Barèmes!F23+Paramètres!$C$19 -> 50012.136 | G23: =Paramètres!$A$19*Barèmes!G23+Paramètres!$C$19 -> 57740.16 | H23: =Paramètres!$A$19*Barèmes!H23+Paramètres!$C$19 -> 63755.591 | I23: =Paramètres!$A$19*Barèmes!I23+Paramètres!$C$19 -> 69581.656 | J23: =Paramètres!$A$19*Barèmes!J23+Paramètres!$C$19 -> 60172.945 | K23: =Paramètres!$A$19*Barèmes!K23+Paramètres!$C$19 -> 68123.059 | ... AF23: =Paramètres!$A$19*Barèmes!AF23+Paramètres!$C$19 -> 188858.12
A24: 22 | B24: =Paramètres!$A$19*Barèmes!B24+Paramètres!$B$19*Paramètres!$D$19+Paramètres!$C$19 -> 40977.958 | C24: =Paramètres!$A$19*Barèmes!C24+Paramètres!$B$19*Paramètres!$E$19+Paramètres!$C$19 -> 46631.565 | D24: =Paramètres!$A$19*Barèmes!D24+Paramètres!$C$19 -> 49454.987 | E24: =Paramètres!$A$19*Barèmes!E24+Paramètres!$C$19 -> 53797.31 | F24: =Paramètres!$A$19*Barèmes!F24+Paramètres!$C$19 -> 50012.136 | G24: =Paramètres!$A$19*Barèmes!G24+Paramètres!$C$19 -> 57740.16 | H24: =Paramètres!$A$19*Barèmes!H24+Paramètres!$C$19 -> 63755.591 | I24: =Paramètres!$A$19*Barèmes!I24+Paramètres!$C$19 -> 69581.656 | J24: =Paramètres!$A$19*Barèmes!J24+Paramètres!$C$19 -> 60172.945 | K24: =Paramètres!$A$19*Barèmes!K24+Paramètres!$C$19 -> 68123.059 | ... AF24: =Paramètres!$A$19*Barèmes!AF24+Paramètres!$C$19 -> 188858.12
A25: 23 | B25: =Paramètres!$A$19*Barèmes!B25+Paramètres!$B$19*Paramètres!$E$19+Paramètres!$C$19 -> 40834.062 | C25: =Paramètres!$A$19*Barèmes!C25+Paramètres!$C$19 -> 46487.647 | D25: =Paramètres!$A$19*Barèmes!D25+Paramètres!$C$19 -> 50096.906 | E25: =Paramètres!$A$19*Barèmes!E25+Paramètres!$C$19 -> 54439.229 | F25: =Paramètres!$A$19*Barèmes!F25+Paramètres!$C$19 -> 51512.625 | G25: =Paramètres!$A$19*Barèmes!G25+Paramètres!$C$19 -> 59240.649 | H25: =Paramètres!$A$19*Barèmes!H25+Paramètres!$C$19 -> 65256.08 | I25: =Paramètres!$A$19*Barèmes!I25+Paramètres!$C$19 -> 71082.145 | J25: =Paramètres!$A$19*Barèmes!J25+Paramètres!$C$19 -> 61588.496 | ... AF25: =Paramètres!$A$19*Barèmes!AF25+Paramètres!$C$19 -> 192727.9
A26: 24 | B26: =Paramètres!$A$19*Barèmes!B26+Paramètres!$B$19*Paramètres!$E$19+Paramètres!$C$19 -> 41436.519 | C26: =Paramètres!$A$19*Barèmes!C26+Paramètres!$C$19 -> 47090.105 | D26: =Paramètres!$A$19*Barèmes!D26+Paramètres!$C$19 -> 50699.363 | E26: =Paramètres!$A$19*Barèmes!E26+Paramètres!$C$19 -> 55041.686 | F26: =Paramètres!$A$19*Barèmes!F26+Paramètres!$C$19 -> 52115.083 | G26: =Paramètres!$A$19*Barèmes!G26+Paramètres!$C$19 -> 59843.107 | H26: =Paramètres!$A$19*Barèmes!H26+Paramètres!$C$19 -> 65858.538 | I26: =Paramètres!$A$19*Barèmes!I26+Paramètres!$C$19 -> 71684.603 | J26: =Paramètres!$A$19*Barèmes!J26+Paramètres!$C$19 -> 62190.954 | ... AF26: =Paramètres!$A$19*Barèmes!AF26+Paramètres!$C$19 -> 193330.35
A27: 25 | B27: =Paramètres!$A$19*Barèmes!B27+Paramètres!$B$19*Paramètres!$E$19+Paramètres!$C$19 -> 42078.438 | C27: =Paramètres!$A$19*Barèmes!C27+Paramètres!$C$19 -> 47732.023 | D27: =Paramètres!$A$19*Barèmes!D27+Paramètres!$C$19 -> 51341.282 | E27: =Paramètres!$A$19*Barèmes!E27+Paramètres!$C$19 -> 55683.605 | F27: =Paramètres!$A$19*Barèmes!F27+Paramètres!$C$19 -> 53615.572 | G27: =Paramètres!$A$19*Barèmes!G27+Paramètres!$C$19 -> 61343.596 | H27: =Paramètres!$A$19*Barèmes!H27+Paramètres!$C$19 -> 67359.027 | I27: =Paramètres!$A$19*Barèmes!I27+Paramètres!$C$19 -> 73185.092 | J27: =Paramètres!$A$19*Barèmes!J27+Paramètres!$C$19 -> 63606.505 | ... AF27: =Paramètres!$A$19*Barèmes!AF27+Paramètres!$C$19 -> 193330.35
A28: 26 | B28: =Paramètres!$A$19*Barèmes!B28+Paramètres!$B$19*Paramètres!$E$19+Paramètres!$C$19 -> 42078.438 | C28: =Paramètres!$A$19*Barèmes!C28+Paramètres!$C$19 -> 47732.023 | D28: =Paramètres!$A$19*Barèmes!D28+Paramètres!$C$19 -> 51341.282 | E28: =Paramètres!$A$19*Barèmes!E28+Paramètres!$C$19 -> 55683.605 | F28: =Paramètres!$A$19*Barèmes!F28+Paramètres!$C$19 -> 53615.572 | G28: =Paramètres!$A$19*Barèmes!G28+Paramètres!$C$19 -> 61343.596 | H28: =Paramètres!$A$19*Barèmes!H28+Paramètres!$C$19 -> 67359.027 | I28: =Paramètres!$A$19*Barèmes!I28+Paramètres!$C$19 -> 73185.092 | J28: =Paramètres!$A$19*Barèmes!J28+Paramètres!$C$19 -> 63606.505 | ... AF28: =Paramètres!$A$19*Barèmes!AF28+Paramètres!$C$19 -> 193330.35
A29: 27 | B29: =Paramètres!$A$19*Barèmes!B29+Paramètres!$B$19*Paramètres!$E$19+Paramètres!$C$19 -> 43087.466 | C29: =Paramètres!$A$19*Barèmes!C29+Paramètres!$C$19 -> 48741.052 | D29: =Paramètres!$A$19*Barèmes!D29+Paramètres!$C$19 -> 52350.31 | E29: =Paramètres!$A$19*Barèmes!E29+Paramètres!$C$19 -> 56692.633 | F29: =Paramètres!$A$19*Barèmes!F29+Paramètres!$C$19 -> 55116.061 | G29: =Paramètres!$A$19*Barèmes!G29+Paramètres!$C$19 -> 62844.085 | H29: =Paramètres!$A$19*Barèmes!H29+Paramètres!$C$19 -> 68859.516 | I29: =Paramètres!$A$19*Barèmes!I29+Paramètres!$C$19 -> 74685.581 | J29: =Paramètres!$A$19*Barèmes!J29+Paramètres!$C$19 -> 65022.056 | ... AF29: =Paramètres!$A$19*Barèmes!AF29+Paramètres!$C$19 -> 193330.35
A30: 28 | B30: =Paramètres!$A$19*Barèmes!B30+Paramètres!$B$19*Paramètres!$E$19+Paramètres!$C$19 -> 43087.466 | C30: =Paramètres!$A$19*Barèmes!C30+Paramètres!$C$19 -> 48741.052 | D30: =Paramètres!$A$19*Barèmes!D30+Paramètres!$C$19 -> 52350.31 | E30: =Paramètres!$A$19*Barèmes!E30+Paramètres!$C$19 -> 56692.633 | F30: =Paramètres!$A$19*Barèmes!F30+Paramètres!$C$19 -> 55116.061 | G30: =Paramètres!$A$19*Barèmes!G30+Paramètres!$C$19 -> 62844.085 | H30: =Paramètres!$A$19*Barèmes!H30+Paramètres!$C$19 -> 68859.516 | I30: =Paramètres!$A$19*Barèmes!I30+Paramètres!$C$19 -> 74685.581 | J30: =Paramètres!$A$19*Barèmes!J30+Paramètres!$C$19 -> 65022.056 | ... AF30: =Paramètres!$A$19*Barèmes!AF30+Paramètres!$C$19 -> 193330.35
A31: 29 | B31: =Paramètres!$A$19*Barèmes!B31+Paramètres!$B$19*Paramètres!$E$19+Paramètres!$C$19 -> 44096.494 | C31: =Paramètres!$A$19*Barèmes!C31+Paramètres!$C$19 -> 49750.08 | D31: =Paramètres!$A$19*Barèmes!D31+Paramètres!$C$19 -> 53359.339 | E31: =Paramètres!$A$19*Barèmes!E31+Paramètres!$C$19 -> 57701.662 | F31: =Paramètres!$A$19*Barèmes!F31+Paramètres!$C$19 -> 56616.55 | G31: =Paramètres!$A$19*Barèmes!G31+Paramètres!$C$19 -> 64344.574 | H31: =Paramètres!$A$19*Barèmes!H31+Paramètres!$C$19 -> 70360.005 | I31: =Paramètres!$A$19*Barèmes!I31+Paramètres!$C$19 -> 76186.07 | J31: =Paramètres!$A$19*Barèmes!J31+Paramètres!$C$19 -> 66437.607 | ... AF31: =Paramètres!$A$19*Barèmes!AF31+Paramètres!$C$19 -> 193330.35
A32: 30 | B32: =Paramètres!$A$19*Barèmes!B32+Paramètres!$B$19*Paramètres!$E$19+Paramètres!$C$19 -> 44698.952 | C32: =Paramètres!$A$19*Barèmes!C32+Paramètres!$C$19 -> 50352.538 | D32: =Paramètres!$A$19*Barèmes!D32+Paramètres!$C$19 -> 53961.796 | E32: =Paramètres!$A$19*Barèmes!E32+Paramètres!$C$19 -> 58304.119 | F32: =Paramètres!$A$19*Barèmes!F32+Paramètres!$C$19 -> 57219.008 | G32: =Paramètres!$A$19*Barèmes!G32+Paramètres!$C$19 -> 64947.032 | H32: =Paramètres!$A$19*Barèmes!H32+Paramètres!$C$19 -> 70962.462 | I32: =Paramètres!$A$19*Barèmes!I32+Paramètres!$C$19 -> 76788.528 | J32: =Paramètres!$A$19*Barèmes!J32+Paramètres!$C$19 -> 67040.065 | ... AF32: =Paramètres!$A$19*Barèmes!AF32+Paramètres!$C$19 -> 193932.81

Sheet Charges contractuels
B1: D3 | C1: D2 | D1: D1bis | E1: D1 | F1: C3 | G1: C2 | H1: C1bis | I1: C1 | J1: B3/1 | K1: B3/2 | L1: B2/1 | M1: B2/2 | N1: B1/1bis | O1: B1/2bis | P1: B1 | Q1: A6/1 | R1: A6/2 A6Sc | S1: A5/1 | T1: A5/2 A5Sc | U1: A5/1bis | V1: A5/2bis A5Sc/bis | W1: A4/1 | X1: A4/2 | Y1: A4Sc | Z1: A3 | AA1: A3M | AB1: Abis | AC1: A2 | AD1: A2M | AE1: A1 | AF1: A1M
A2: 0 | B2: =Paramètres!$A$27*(Barèmes!B2+Paramètres!$C$27)+Paramètres!$B$27 -> 40467.869 | C2: =Paramètres!$A$27*(Barèmes!C2+Paramètres!$C$27)+Paramètres!$B$27 -> 46617.303 | D2: =Paramètres!$A$27*(Barèmes!D2+Paramètres!$D$27)+Paramètres!$B$27 -> 49822.088 | E2: =Paramètres!$A$27*Barèmes!E2+Paramètres!$B$27 -> 53883.265 | F2: =Paramètres!$A$27*(Barèmes!F2+Paramètres!$C$27)+Paramètres!$B$27 -> 41623.246 | G2: =Paramètres!$A$27*(Barèmes!G2+Paramètres!$D$27)+Paramètres!$B$27 -> 49639.875 | H2: =Paramètres!$A$27*Barèmes!H2+Paramètres!$B$27 -> 55655.699 | I2: =Paramètres!$A$27*Barèmes!I2+Paramètres!$B$27 -> 62462.136 | J2: =Paramètres!$A$27*Barèmes!J2+Paramètres!$B$27 -> 52154.909 | K2: =Paramètres!$A$27*Barèmes!K2+Paramètres!$B$27 -> 61442.815 | L2: =Paramètres!$A$27*Barèmes!L2+Paramètres!$B$27 -> 55558.999 | M2: =Paramètres!$A$27*Barèmes!M2+Paramètres!$B$27 -> 62024.453 | N2: =Paramètres!$A$27*Barèmes!N2+Paramètres!$B$27 -> 62586.666 | O2: =Paramètres!$A$27*Barèmes!O2+Paramètres!$B$27 -> 69052.121 | ... AF2: =Paramètres!$A$27*Barèmes!AF2+Paramètres!$B$27 -> 172640.98
A3: 1 | B3: =Paramètres!$A$27*(Barèmes!B3+Paramètres!$C$27)+Paramètres!$B$27 -> 40785.435 | C3: =Paramètres!$A$27*(Barèmes!C3+Paramètres!$C$27)+Paramètres!$B$27 -> 47011.106 | D3: =Paramètres!$A$27*(Barèmes!D3+Paramètres!$D$27)+Paramètres!$B$27 -> 50215.891 | E3: =Paramètres!$A$27*Barèmes!E3+Paramètres!$B$27 -> 54277.068 | F3: =Paramètres!$A$27*(Barèmes!F3+Paramètres!$C$27)+Paramètres!$B$27 -> 42374.672 | G3: =Paramètres!$A$27*(Barèmes!G3+Paramètres!$D$27)+Paramètres!$B$27 -> 50391.301 | H3: =Paramètres!$A$27*Barèmes!H3+Paramètres!$B$27 -> 56407.126 | I3: =Paramètres!$A$27*Barèmes!I3+Paramètres!$B$27 -> 63213.562 | J3: =Paramètres!$A$27*Barèmes!J3+Paramètres!$B$27 -> 52863.804 | K3: =Paramètres!$A$27*Barèmes!K3+Paramètres!$B$27 -> 62151.71 | L3: =Paramètres!$A$27*Barèmes!L3+Paramètres!$B$27 -> 56267.893 | M3: =Paramètres!$A$27*Barèmes!M3+Paramètres!$B$27 -> 62733.348 | N3: =Paramètres!$A$27*Barèmes!N3+Paramètres!$B$27 -> 63295.561 | O3: =Paramètres!$A$27*Barèmes!O3+Paramètres!$B$27 -> 69761.016 | ... AF3: =Paramètres!$A$27*Barèmes!AF3+Paramètres!$B$27 -> 174393.97
A4: 2 | B4: =Paramètres!$A$27*(Barèmes!B4+Paramètres!$C$27)+Paramètres!$B$27 -> 41103.002 | C4: =Paramètres!$A$27*(Barèmes!C4+Paramètres!$C$27)+Paramètres!$B$27 -> 47404.908 | D4: =Paramètres!$A$27*(Barèmes!D4+Paramètres!$D$27)+Paramètres!$B$27 -> 50609.693 | E4: =Paramètres!$A$27*Barèmes!E4+Paramètres!$B$27 -> 54670.87 | F4: =Paramètres!$A$27*(Barèmes!F4+Paramètres!$C$27)+Paramètres!$B$27 -> 43126.098 | G4: =Paramètres!$A$27*(Barèmes!G4+Paramètres!$D$27)+Paramètres!$B$27 -> 51142.728 | H4: =Paramètres!$A$27*Barèmes!H4+Paramètres!$B$27 -> 57158.552 | I4: =Paramètres!$A$27*Barèmes!I4+Paramètres!$B$27 -> 63964.989 | J4: =Paramètres!$A$27*Barèmes!J4+Paramètres!$B$27 -> 53572.699 | K4: =Paramètres!$A$27*Barèmes!K4+Paramètres!$B$27 -> 62860.605 | L4: =Paramètres!$A$27*Barèmes!L4+Paramètres!$B$27 -> 56976.788 | M4: =Paramètres!$A$27*Barèmes!M4+Paramètres!$B$27 -> 63442.243 | N4: =Paramètres!$A$27*Barèmes!N4+Paramètres!$B$27 -> 64004.456 | O4: =Paramètres!$A$27*Barèmes!O4+Paramètres!$B$27 -> 70469.91 | ... AF4: =Paramètres!$A$27*Barèmes!AF4+Paramètres!$B$27 -> 176146.95
A5: 3 | B5: =Paramètres!$A$27*(Barèmes!B5+Paramètres!$C$27)+Paramètres!$B$27 -> 41420.568 | C5: =Paramètres!$A$27*(Barèmes!C5+Paramètres!$C$27)+Paramètres!$B$27 -> 47798.71 | D5: =Paramètres!$A$27*(Barèmes!D5+Paramètres!$D$27)+Paramètres!$B$27 -> 51003.496 | E5: =Paramètres!$A$27*Barèmes!E5+Paramètres!$B$27 -> 55064.672 | F5: =Paramètres!$A$27*(Barèmes!F5+Paramètres!$C$27)+Paramètres!$B$27 -> 43877.525 | G5: =Paramètres!$A$27*(Barèmes!G5+Paramètres!D27)+Paramètres!$B$27 -> 51894.154 | H5: =Paramètres!$A$27*Barèmes!H5+Paramètres!$B$27 -> 57909.978 | I5: =Paramètres!$A$27*Barèmes!I5+Paramètres!$B$27 -> 64716.415 | J5: =Paramètres!$A$27*Barèmes!J5+Paramètres!$B$27 -> 54281.593 | K5: =Paramètres!$A$27*Barèmes!K5+Paramètres!$B$27 -> 63569.5 | L5: =Paramètres!$A$27*Barèmes!L5+Paramètres!$B$27 -> 57685.683 | M5: =Paramètres!$A$27*Barèmes!M5+Paramètres!$B$27 -> 64151.138 | N5: =Paramètres!$A$27*Barèmes!N5+Paramètres!$B$27 -> 64713.351 | O5: =Paramètres!$A$27*Barèmes!O5+Paramètres!$B$27 -> 71178.805 | ... AF5: =Paramètres!$A$27*Barèmes!AF5+Paramètres!$B$27 -> 177899.93
A6: 4 | B6: =Paramètres!$A$27*(Barèmes!B6+Paramètres!$C$27)+Paramètres!$B$27 -> 41420.568 | C6: =Paramètres!$A$27*(Barèmes!C6+Paramètres!$C$27)+Paramètres!$B$27 -> 47798.71 | D6: =Paramètres!$A$27*(Barèmes!D6+Paramètres!$D$27)+Paramètres!$B$27 -> 51003.496 | E6: =Paramètres!$A$27*Barèmes!E6+Paramètres!$B$27 -> 55064.672 | F6: =Paramètres!$A$27*(Barèmes!F6+Paramètres!$C$27)+Paramètres!$B$27 -> 43877.525 | G6: =Paramètres!$A$27*(Barèmes!G6+Paramètres!D28)+Paramètres!$B$27 -> 50882.311 | H6: =Paramètres!$A$27*Barèmes!H6+Paramètres!$B$27 -> 57909.978 | I6: =Paramètres!$A$27*Barèmes!I6+Paramètres!$B$27 -> 64716.415 | J6: =Paramètres!$A$27*Barèmes!J6+Paramètres!$B$27 -> 54281.593 | K6: =Paramètres!$A$27*Barèmes!K6+Paramètres!$B$27 -> 63569.5 | L6: =Paramètres!$A$27*Barèmes!L6+Paramètres!$B$27 -> 57685.683 | M6: =Paramètres!$A$27*Barèmes!M6+Paramètres!$B$27 -> 64151.138 | N6: =Paramètres!$A$27*Barèmes!N6+Paramètres!$B$27 -> 64713.351 | O6: =Paramètres!$A$27*Barèmes!O6+Paramètres!$B$27 -> 71178.805 | ... AF6: =Paramètres!$A$27*Barèmes!AF6+Paramètres!$B$27 -> 177899.93
A7: 5 | B7: =Paramètres!$A$27*(Barèmes!B7+Paramètres!$C$27)+Paramètres!$B$27 -> 41584.088 | C7: =Paramètres!$A$27*(Barèmes!C7+Paramètres!$C$27)+Paramètres!$B$27 -> 48345.941 | D7: =Paramètres!$A$27*(Barèmes!D7+Paramètres!$D$27)+Paramètres!$B$27 -> 51550.726 | E7: =Paramètres!$A$27*Barèmes!E7+Paramètres!$B$27 -> 55611.903 | F7: =Paramètres!$A$27*(Barèmes!F7+Paramètres!$C$27)+Paramètres!$B$27 -> 44628.951 | G7: =Paramètres!$A$27*(Barèmes!G7+Paramètres!D29)+Paramètres!$B$27 -> 51633.737 | H7: =Paramètres!$A$27*Barèmes!H7+Paramètres!$B$27 -> 58661.405 | I7: =Paramètres!$A$27*Barèmes!I7+Paramètres!$B$27 -> 65467.841 | J7: =Paramètres!$A$27*Barèmes!J7+Paramètres!$B$27 -> 55104.084 | K7: =Paramètres!$A$27*Barèmes!K7+Paramètres!$B$27 -> 64391.99 | L7: =Paramètres!$A$27*Barèmes!L7+Paramètres!$B$27 -> 58508.173 | M7: =Paramètres!$A$27*Barèmes!M7+Paramètres!$B$27 -> 64973.628 | N7: =Paramètres!$A$27*Barèmes!N7+Paramètres!$B$27 -> 65535.841 | O7: =Paramètres!$A$27*Barèmes!O7+Paramètres!$B$27 -> 72001.295 | ... AF7: =Paramètres!$A$27*Barèmes!AF7+Paramètres!$B$27 -> 182420.88
A8: 6 | B8: =Paramètres!$A$27*(Barèmes!B8+Paramètres!$C$27)+Paramètres!$B$27 -> 42287.923 | C8: =Paramètres!$A$27*(Barèmes!C8+Paramètres!$D$27)+Paramètres!$B$27 -> 48037.96 | D8: =Paramètres!$A$27*(Barèmes!D8+Paramètres!$D$27)+Paramètres!$B$27 -> 52254.561 | E8: =Paramètres!$A$27*Barèmes!E8+Paramètres!$B$27 -> 56315.738 | F8: =Paramètres!$A$27*(Barèmes!F8+Paramètres!$C$27)+Paramètres!$B$27 -> 45332.786 | G8: =Paramètres!$A$27*(Barèmes!G8+Paramètres!D30)+Paramètres!$B$27 -> 52337.572 | H8: =Paramètres!$A$27*Barèmes!H8+Paramètres!$B$27 -> 59365.24 | I8: =Paramètres!$A$27*Barèmes!I8+Paramètres!$B$27 -> 66171.676 | J8: =Paramètres!$A$27*Barèmes!J8+Paramètres!$B$27 -> 55807.919 | K8: =Paramètres!$A$27*Barèmes!K8+Paramètres!$B$27 -> 65095.825 | L8: =Paramètres!$A$27*Barèmes!L8+Paramètres!$B$27 -> 59212.008 | M8: =Paramètres!$A$27*Barèmes!M8+Paramètres!$B$27 -> 65677.463 | N8: =Paramètres!$A$27*Barèmes!N8+Paramètres!$B$27 -> 66239.676 | O8: =Paramètres!$A$27*Barèmes!O8+Paramètres!$B$27 -> 72705.13 | ... AF8: =Paramètres!$A$27*Barèmes!AF8+Paramètres!$B$27 -> 183124.72
A9: 7 | B9: =Paramètres!$A$27*(Barèmes!B9+Paramètres!$C$27)+Paramètres!$B$27 -> 42451.442 | C9: =Paramètres!$A$27*(Barèmes!C9+Paramètres!$D$27)+Paramètres!$B$27 -> 48585.191 | D9: =Paramètres!$A$27*(Barèmes!D9+Paramètres!$D$27)+Paramètres!$B$27 -> 52801.791 | E9: =Paramètres!$A$27*Barèmes!E9+Paramètres!$B$27 -> 56862.968 | F9: =Paramètres!$A$27*(Barèmes!F9+Paramètres!$C$27)+Paramètres!$B$27 -> 46334.482 | G9: =Paramètres!$A$27*Barèmes!G9+Paramètres!$B$27 -> 53339.267 | H9: =Paramètres!$A$27*Barèmes!H9+Paramètres!$B$27 -> 60366.935 | I9: =Paramètres!$A$27*Barèmes!I9+Paramètres!$B$27 -> 67173.372 | J9: =Paramètres!$A$27*Barèmes!J9+Paramètres!$B$27 -> 56904.319 | K9: =Paramètres!$A$27*Barèmes!K9+Paramètres!$B$27 -> 66192.225 | L9: =Paramètres!$A$27*Barèmes!L9+Paramètres!$B$27 -> 60308.409 | M9: =Paramètres!$A$27*Barèmes!M9+Paramètres!$B$27 -> 66773.863 | N9: =Paramètres!$A$27*Barèmes!N9+Paramètres!$B$27 -> 67336.077 | ... AF9: =Paramètres!$A$27*Barèmes!AF9+Paramètres!$B$27 -> 187645.67
A10: 8 | B10: =Paramètres!$A$27*(Barèmes!B10+Paramètres!$C$27)+Paramètres!$B$27 -> 42451.442 | C10: =Paramètres!$A$27*(Barèmes!C10+Paramètres!$D$27)+Paramètres!$B$27 -> 48585.191 | D10: =Paramètres!$A$27*(Barèmes!D10+Paramètres!$D$27)+Paramètres!$B$27 -> 52801.791 | E10: =Paramètres!$A$27*Barèmes!E10+Paramètres!$B$27 -> 56862.968 | F10: =Paramètres!$A$27*(Barèmes!F10+Paramètres!$C$27)+Paramètres!$B$27 -> 46334.482 | G10: =Paramètres!$A$27*Barèmes!G10+Paramètres!$B$27 -> 53339.267 | H10: =Paramètres!$A$27*Barèmes!H10+Paramètres!$B$27 -> 60366.935 | I10: =Paramètres!$A$27*Barèmes!I10+Paramètres!$B$27 -> 67173.372 | J10: =Paramètres!$A$27*Barèmes!J10+Paramètres!$B$27 -> 56904.319 | K10: =Paramètres!$A$27*Barèmes!K10+Paramètres!$B$27 -> 66192.225 | L10: =Paramètres!$A$27*Barèmes!L10+Paramètres!$B$27 -> 60308.409 | M10: =Paramètres!$A$27*Barèmes!M10+Paramètres!$B$27 -> 66773.863 | N10: =Paramètres!$A$27*Barèmes!N10+Paramètres!$B$27 -> 67336.077 | ... AF10: =Paramètres!$A$27*Barèmes!AF10+Paramètres!$B$27 -> 187645.67
A11: 9 | B11: =Paramètres!$A$27*(Barèmes!B11+Paramètres!$C$27)+Paramètres!$B$27 -> 42621.231 | C11: =Paramètres!$A$27*(Barèmes!C11+Paramètres!$D$27)+Paramètres!$B$27 -> 49132.421 | D11: =Paramètres!$A$27*(Barèmes!D11+Paramètres!$D$27)+Paramètres!$B$27 -> 53349.022 | E11: =Paramètres!$A$27*Barèmes!E11+Paramètres!$B$27 -> 57410.199 | F11: =Paramètres!$A$27*(Barèmes!F11+Paramètres!$C$27)+Paramètres!$B$27 -> 48337.761 | G11: =Paramètres!$A$27*Barèmes!G11+Paramètres!$B$27 -> 55342.546 | H11: =Paramètres!$A$27*Barèmes!H11+Paramètres!$B$27 -> 62370.214 | I11: =Paramètres!$A$27*Barèmes!I11+Paramètres!$B$27 -> 69176.651 | J11: =Paramètres!$A$27*Barèmes!J11+Paramètres!$B$27 -> 58794.228 | K11: =Paramètres!$A$27*Barèmes!K11+Paramètres!$B$27 -> 68082.134 | L11: =Paramètres!$A$27*Barèmes!L11+Paramètres!$B$27 -> 62198.317 | M11: =Paramètres!$A$27*Barèmes!M11+Paramètres!$B$27 -> 68663.772 | N11: =Paramètres!$A$27*Barèmes!N11+Paramètres!$B$27 -> 69225.985 | ... AF11: =Paramètres!$A$27*Barèmes!AF11+Paramètres!$B$27 -> 192166.63
A12: 10 | B12: =Paramètres!$A$27*(Barèmes!B12+Paramètres!$C$27)+Paramètres!$B$27 -> 42621.231 | C12: =Paramètres!$A$27*(Barèmes!C12+Paramètres!$D$27)+Paramètres!$B$27 -> 49132.421 | D12: =Paramètres!$A$27*(Barèmes!D12+Paramètres!$D$27)+Paramètres!$B$27 -> 53349.022 | E12: =Paramètres!$A$27*Barèmes!E12+Paramètres!$B$27 -> 57410.199 | F12: =Paramètres!$A$27*(Barèmes!F12+Paramètres!$C$27)+Paramètres!$B$27 -> 48337.761 | G12: =Paramètres!$A$27*Barèmes!G12+Paramètres!$B$27 -> 55342.546 | H12: =Paramètres!$A$27*Barèmes!H12+Paramètres!$B$27 -> 62370.214 | I12: =Paramètres!$A$27*Barèmes!I12+Paramètres!$B$27 -> 69176.651 | J12: =Paramètres!$A$27*Barèmes!J12+Paramètres!$B$27 -> 58794.228 | K12: =Paramètres!$A$27*Barèmes!K12+Paramètres!$B$27 -> 68082.134 | L12: =Paramètres!$A$27*Barèmes!L12+Paramètres!$B$27 -> 62198.317 | M12: =Paramètres!$A$27*Barèmes!M12+Paramètres!$B$27 -> 68663.772 | N12: =Paramètres!$A$27*Barèmes!N12+Paramètres!$B$27 -> 69225.985 | ... AF12: =Paramètres!$A$27*Barèmes!AF12+Paramètres!$B$27 -> 192166.63
A13: 11 | B13: =Paramètres!$A$27*(Barèmes!B13+Paramètres!$C$27)+Paramètres!$B$27 -> 43168.461 | C13: =Paramètres!$A$27*(Barèmes!C13+Paramètres!$D$27)+Paramètres!$B$27 -> 49679.652 | D13: =Paramètres!$A$27*(Barèmes!D13+Paramètres!$D$27)+Paramètres!$B$27 -> 53896.252 | E13: =Paramètres!$A$27*Barèmes!E13+Paramètres!$B$27 -> 57957.429 | F13: =Paramètres!$A$27*(Barèmes!F13+Paramètres!$D$27)+Paramètres!$B$27 -> 49329.224 | G13: =Paramètres!$A$27*Barèmes!G13+Paramètres!$B$27 -> 57345.825 | H13: =Paramètres!$A$27*Barèmes!H13+Paramètres!$B$27 -> 64373.493 | I13: =Paramètres!$A$27*Barèmes!I13+Paramètres!$B$27 -> 71179.93 | J13: =Paramètres!$A$27*Barèmes!J13+Paramètres!$B$27 -> 60684.136 | K13: =Paramètres!$A$27*Barèmes!K13+Paramètres!$B$27 -> 69972.042 | L13: =Paramètres!$A$27*Barèmes!L13+Paramètres!$B$27 -> 64088.226 | M13: =Paramètres!$A$27*Barèmes!M13+Paramètres!$B$27 -> 70553.68 | N13: =Paramètres!$A$27*Barèmes!N13+Paramètres!$B$27 -> 71115.894 | ... AF13: =Paramètres!$A$27*Barèmes!AF13+Paramètres!$B$27 -> 196687.58
A14: 12 | B14: =Paramètres!$A$27*(Barèmes!B14+Paramètres!$C$27)+Paramètres!$B$27 -> 43872.296 | C14: =Paramètres!$A$27*(Barèmes!C14+Paramètres!$D$27)+Paramètres!$B$27 -> 50383.487 | D14: =Paramètres!$A$27*(Barèmes!D14+Paramètres!$D$27)+Paramètres!$B$27 -> 54600.087 | E14: =Paramètres!$A$27*Barèmes!E14+Paramètres!$B$27 -> 58661.264 | F14: =Paramètres!$A$27*(Barèmes!F14+Paramètres!$D$27)+Paramètres!$B$27 -> 50033.059 | G14: =Paramètres!$A$27*Barèmes!G14+Paramètres!$B$27 -> 58049.66 | H14: =Paramètres!$A$27*Barèmes!H14+Paramètres!$B$27 -> 65077.328 | I14: =Paramètres!$A$27*Barèmes!I14+Paramètres!$B$27 -> 71883.765 | J14: =Paramètres!$A$27*Barèmes!J14+Paramètres!$B$27 -> 61387.971 | K14: =Paramètres!$A$27*Barèmes!K14+Paramètres!$B$27 -> 70675.877 | L14: =Paramètres!$A$27*Barèmes!L14+Paramètres!$B$27 -> 64792.061 | M14: =Paramètres!$A$27*Barèmes!M14+Paramètres!$B$27 -> 71257.515 | N14: =Paramètres!$A$27*Barèmes!N14+Paramètres!$B$27 -> 71819.729 | ... AF14: =Paramètres!$A$27*Barèmes!AF14+Paramètres!$B$27 -> 197391.42
A15: 13 | B15: =Paramètres!$A$27*(Barèmes!B15+Paramètres!$C$27)+Paramètres!$B$27 -> 44419.527 | C15: =Paramètres!$A$27*(Barèmes!C15+Paramètres!$D$27)+Paramètres!$B$27 -> 50930.717 | D15: =Paramètres!$A$27*Barèmes!D15+Paramètres!$B$27 -> 54135.474 | E15: =Paramètres!$A$27*Barèmes!E15+Paramètres!$B$27 -> 59208.495 | F15: =Paramètres!$A$27*(Barèmes!F15+Paramètres!$D$27)+Paramètres!$B$27 -> 51786.04 | G15: =Paramètres!$A$27*Barèmes!G15+Paramètres!$B$27 -> 59802.642 | H15: =Paramètres!$A$27*Barèmes!H15+Paramètres!$B$27 -> 66830.309 | I15: =Paramètres!$A$27*Barèmes!I15+Paramètres!$B$27 -> 73636.746 | J15: =Paramètres!$A$27*Barèmes!J15+Paramètres!$B$27 -> 63041.722 | K15: =Paramètres!$A$27*Barèmes!K15+Paramètres!$B$27 -> 72329.628 | L15: =Paramètres!$A$27*Barèmes!L15+Paramètres!$B$27 -> 66445.812 | M15: =Paramètres!$A$27*Barèmes!M15+Paramètres!$B$27 -> 72911.266 | N15: =Paramètres!$A$27*Barèmes!N15+Paramètres!$B$27 -> 73473.479 | ... AF15: =Paramètres!$A$27*Barèmes!AF15+Paramètres!$B$27 -> 201912.37
A16: 14 | B16: =Paramètres!$A$27*(Barèmes!B16+Paramètres!$C$27)+Paramètres!$B$27 -> 44419.527 | C16: =Paramètres!$A$27*(Barèmes!C16+Paramètres!$D$27)+Paramètres!$B$27 -> 50930.717 | D16: =Paramètres!$A$27*Barèmes!D16+Paramètres!$B$27 -> 54135.474 | E16: =Paramètres!$A$27*Barèmes!E16+Paramètres!$B$27 -> 59208.495 | F16: =Paramètres!$A$27*(Barèmes!F16+Paramètres!$D$27)+Paramètres!$B$27 -> 51786.04 | G16: =Paramètres!$A$27*Barèmes!G16+Paramètres!$B$27 -> 59802.642 | H16: =Paramètres!$A$27*Barèmes!H16+Paramètres!$B$27 -> 66830.309 | I16: =Paramètres!$A$27*Barèmes!I16+Paramètres!$B$27 -> 73636.746 | J16: =Paramètres!$A$27*Barèmes!J16+Paramètres!$B$27 -> 63041.722 | K16: =Paramètres!$A$27*Barèmes!K16+Paramètres!$B$27 -> 72329.628 | L16: =Paramètres!$A$27*Barèmes!L16+Paramètres!$B$27 -> 66445.812 | M16: =Paramètres!$A$27*Barèmes!M16+Paramètres!$B$27 -> 72911.266 | N16: =Paramètres!$A$27*Barèmes!N16+Paramètres!$B$27 -> 73473.479 | ... AF16: =Paramètres!$A$27*Barèmes!AF16+Paramètres!$B$27 -> 201912.37
A17: 15 | B17: =Paramètres!$A$27*(Barèmes!B17+Paramètres!$C$27)+Paramètres!$B$27 -> 45169.463 | C17: =Paramètres!$A$27*(Barèmes!C17+Paramètres!$D$27)+Paramètres!$B$27 -> 51680.654 | D17: =Paramètres!$A$27*Barèmes!D17+Paramètres!$B$27 -> 54885.411 | E17: =Paramètres!$A$27*Barèmes!E17+Paramètres!$B$27 -> 59958.431 | F17: =Paramètres!$A$27*(Barèmes!F17+Paramètres!$D$27)+Paramètres!$B$27 -> 53539.022 | G17: =Paramètres!$A$27*Barèmes!G17+Paramètres!$B$27 -> 61555.623 | H17: =Paramètres!$A$27*Barèmes!H17+Paramètres!$B$27 -> 68583.291 | I17: =Paramètres!$A$27*Barèmes!I17+Paramètres!$B$27 -> 75389.728 | J17: =Paramètres!$A$27*Barèmes!J17+Paramètres!$B$27 -> 64695.473 | K17: =Paramètres!$A$27*Barèmes!K17+Paramètres!$B$27 -> 73983.379 | L17: =Paramètres!$A$27*Barèmes!L17+Paramètres!$B$27 -> 68099.562 | M17: =Paramètres!$A$27*Barèmes!M17+Paramètres!$B$27 -> 74565.017 | N17: =Paramètres!$A$27*Barèmes!N17+Paramètres!$B$27 -> 75127.23 | ... AF17: =Paramètres!$A$27*Barèmes!AF17+Paramètres!$B$27 -> 206433.33
A18: 16 | B18: =Paramètres!$A$27*(Barèmes!B18+Paramètres!$C$27)+Paramètres!$B$27 -> 45169.463 | C18: =Paramètres!$A$27*(Barèmes!C18+Paramètres!$D$27)+Paramètres!$B$27 -> 51680.654 | D18: =Paramètres!$A$27*Barèmes!D18+Paramètres!$B$27 -> 54885.411 | E18: =Paramètres!$A$27*Barèmes!E18+Paramètres!$B$27 -> 59958.431 | F18: =Paramètres!$A$27*(Barèmes!F18+Paramètres!$D$27)+Paramètres!$B$27 -> 53539.022 | G18: =Paramètres!$A$27*Barèmes!G18+Paramètres!$B$27 -> 61555.623 | H18: =Paramètres!$A$27*Barèmes!H18+Paramètres!$B$27 -> 68583.291 | I18: =Paramètres!$A$27*Barèmes!I18+Paramètres!$B$27 -> 75389.728 | J18: =Paramètres!$A$27*Barèmes!J18+Paramètres!$B$27 -> 64695.473 | K18: =Paramètres!$A$27*Barèmes!K18+Paramètres!$B$27 -> 73983.379 | L18: =Paramètres!$A$27*Barèmes!L18+Paramètres!$B$27 -> 68099.562 | M18: =Paramètres!$A$27*Barèmes!M18+Paramètres!$B$27 -> 74565.017 | N18: =Paramètres!$A$27*Barèmes!N18+Paramètres!$B$27 -> 75127.23 | ... AF18: =Paramètres!$A$27*Barèmes!AF18+Paramètres!$B$27 -> 206433.33
A19: 17 | B19: =Paramètres!$A$27*(Barèmes!B19+Paramètres!$C$27)+Paramètres!$B$27 -> 45919.4 | C19: =Paramètres!$A$27*(Barèmes!C19+Paramètres!$D$27)+Paramètres!$B$27 -> 52430.59 | D19: =Paramètres!$A$27*Barèmes!D19+Paramètres!$B$27 -> 55635.347 | E19: =Paramètres!$A$27*Barèmes!E19+Paramètres!$B$27 -> 60708.367 | F19: =Paramètres!$A$27*Barèmes!F19+Paramètres!$B$27 -> 54280.16 | G19: =Paramètres!$A$27*Barèmes!G19+Paramètres!$B$27 -> 63308.605 | H19: =Paramètres!$A$27*Barèmes!H19+Paramètres!$B$27 -> 70336.272 | I19: =Paramètres!$A$27*Barèmes!I19+Paramètres!$B$27 -> 77142.709 | J19: =Paramètres!$A$27*Barèmes!J19+Paramètres!$B$27 -> 66349.223 | K19: =Paramètres!$A$27*Barèmes!K19+Paramètres!$B$27 -> 75637.13 | ... AF19: =Paramètres!$A$27*Barèmes!AF19+Paramètres!$B$27 -> 210954.28
A20: 18 | B20: =Paramètres!$A$27*(Barèmes!B20+Paramètres!$C$27)+Paramètres!$B$27 -> 46623.235 | C20: =Paramètres!$A$27*(Barèmes!C20+Paramètres!$D$27)+Paramètres!$B$27 -> 53134.425 | D20: =Paramètres!$A$27*Barèmes!D20+Paramètres!$B$27 -> 56339.182 | E20: =Paramètres!$A$27*Barèmes!E20+Paramètres!$B$27 -> 61412.202 | F20: =Paramètres!$A$27*Barèmes!F20+Paramètres!$B$27 -> 54983.995 | G20: =Paramètres!$A$27*Barèmes!G20+Paramètres!$B$27 -> 64012.44 | H20: =Paramètres!$A$27*Barèmes!H20+Paramètres!$B$27 -> 71040.107 | I20: =Paramètres!$A$27*Barèmes!I20+Paramètres!$B$27 -> 77846.544 | J20: =Paramètres!$A$27*Barèmes!J20+Paramètres!$B$27 -> 67053.058 | K20: =Paramètres!$A$27*Barèmes!K20+Paramètres!$B$27 -> 76340.965 | ... AF20: =Paramètres!$A$27*Barèmes!AF20+Paramètres!$B$27 -> 211658.12
A21: 19 | B21: =Paramètres!$A$27*(Barèmes!B21+Paramètres!$C$27)+Paramètres!$B$27 -> 47373.171 | C21: =Paramètres!$A$27*(Barèmes!C21+Paramètres!$D$27)+Paramètres!$B$27 -> 53884.362 | D21: =Paramètres!$A$27*Barèmes!D21+Paramètres!$B$27 -> 57089.119 | E21: =Paramètres!$A$27*Barèmes!E21+Paramètres!$B$27 -> 62162.139 | F21: =Paramètres!$A$27*Barèmes!F21+Paramètres!$B$27 -> 56736.976 | G21: =Paramètres!$A$27*Barèmes!G21+Paramètres!$B$27 -> 65765.421 | H21: =Paramètres!$A$27*Barèmes!H21+Paramètres!$B$27 -> 72793.089 | I21: =Paramètres!$A$27*Barèmes!I21+Paramètres!$B$27 -> 79599.526 | J21: =Paramètres!$A$27*Barèmes!J21+Paramètres!$B$27 -> 68706.809 | K21: =Paramètres!$A$27*Barèmes!K21+Paramètres!$B$27 -> 77994.715 | ... AF21: =Paramètres!$A$27*Barèmes!AF21+Paramètres!$B$27 -> 216179.07
A22: 20 | B22: =Paramètres!$A$27*(Barèmes!B22+Paramètres!$C$27)+Paramètres!$B$27 -> 47373.171 | C22: =Paramètres!$A$27*(Barèmes!C22+Paramètres!$D$27)+Paramètres!$B$27 -> 53884.362 | D22: =Paramètres!$A$27*Barèmes!D22+Paramètres!$B$27 -> 57089.119 | E22: =Paramètres!$A$27*Barèmes!E22+Paramètres!$B$27 -> 62162.139 | F22: =Paramètres!$A$27*Barèmes!F22+Paramètres!$B$27 -> 56736.976 | G22: =Paramètres!$A$27*Barèmes!G22+Paramètres!$B$27 -> 65765.421 | H22: =Paramètres!$A$27*Barèmes!H22+Paramètres!$B$27 -> 72793.089 | I22: =Paramètres!$A$27*Barèmes!I22+Paramètres!$B$27 -> 79599.526 | J22: =Paramètres!$A$27*Barèmes!J22+Paramètres!$B$27 -> 68706.809 | K22: =Paramètres!$A$27*Barèmes!K22+Paramètres!$B$27 -> 77994.715 | ... AF22: =Paramètres!$A$27*Barèmes!AF22+Paramètres!$B$27 -> 216179.07
A23: 21 | B23: =Paramètres!$A$27*(Barèmes!B23+Paramètres!$C$27)+Paramètres!$B$27 -> 48123.108 | C23: =Paramètres!$A$27*(Barèmes!C23+Paramètres!$D$27)+Paramètres!$B$27 -> 54634.298 | D23: =Paramètres!$A$27*Barèmes!D23+Paramètres!$B$27 -> 57839.055 | E23: =Paramètres!$A$27*Barèmes!E23+Paramètres!$B$27 -> 62912.075 | F23: =Paramètres!$A$27*Barèmes!F23+Paramètres!$B$27 -> 58489.958 | G23: =Paramètres!$A$27*Barèmes!G23+Paramètres!$B$27 -> 67518.402 | H23: =Paramètres!$A$27*Barèmes!H23+Paramètres!$B$27 -> 74546.07 | I23: =Paramètres!$A$27*Barèmes!I23+Paramètres!$B$27 -> 81352.507 | J23: =Paramètres!$A$27*Barèmes!J23+Paramètres!$B$27 -> 70360.56 | K23: =Paramètres!$A$27*Barèmes!K23+Paramètres!$B$27 -> 79648.466 | ... AF23: =Paramètres!$A$27*Barèmes!AF23+Paramètres!$B$27 -> 220700.03
A24: 22 | B24: =Paramètres!$A$27*(Barèmes!B24+Paramètres!$C$27)+Paramètres!$B$27 -> 48123.108 | C24: =Paramètres!$A$27*(Barèmes!C24+Paramètres!$D$27)+Paramètres!$B$27 -> 54634.298 | D24: =Paramètres!$A$27*Barèmes!D24+Paramètres!$B$27 -> 57839.055 | E24: =Paramètres!$A$27*Barèmes!E24+Paramètres!$B$27 -> 62912.075 | F24: =Paramètres!$A$27*Barèmes!F24+Paramètres!$B$27 -> 58489.958 | G24: =Paramètres!$A$27*Barèmes!G24+Paramètres!$B$27 -> 67518.402 | H24: =Paramètres!$A$27*Barèmes!H24+Paramètres!$B$27 -> 74546.07 | I24: =Paramètres!$A$27*Barèmes!I24+Paramètres!$B$27 -> 81352.507 | J24: =Paramètres!$A$27*Barèmes!J24+Paramètres!$B$27 -> 70360.56 | K24: =Paramètres!$A$27*Barèmes!K24+Paramètres!$B$27 -> 79648.466 | ... AF24: =Paramètres!$A$27*Barèmes!AF24+Paramètres!$B$27 -> 220700.03
A25: 23 | B25: =Paramètres!$A$27*(Barèmes!B25+Paramètres!$D$27)+Paramètres!$B$27 -> 47861.229 | C25: =Paramètres!$A$27*Barèmes!C25+Paramètres!$B$27 -> 54372.391 | D25: =Paramètres!$A$27*Barèmes!D25+Paramètres!$B$27 -> 58588.992 | E25: =Paramètres!$A$27*Barèmes!E25+Paramètres!$B$27 -> 63662.012 | F25: =Paramètres!$A$27*Barèmes!F25+Paramètres!$B$27 -> 60242.939 | G25: =Paramètres!$A$27*Barèmes!G25+Paramètres!$B$27 -> 69271.384 | H25: =Paramètres!$A$27*Barèmes!H25+Paramètres!$B$27 -> 76299.052 | I25: =Paramètres!$A$27*Barèmes!I25+Paramètres!$B$27 -> 83105.488 | J25: =Paramètres!$A$27*Barèmes!J25+Paramètres!$B$27 -> 72014.311 | ... AF25: =Paramètres!$A$27*Barèmes!AF25+Paramètres!$B$27 -> 225220.98
A26: 24 | B26: =Paramètres!$A$27*(Barèmes!B26+Paramètres!$D$27)+Paramètres!$B$27 -> 48565.064 | C26: =Paramètres!$A$27*Barèmes!C26+Paramètres!$B$27 -> 55076.226 | D26: =Paramètres!$A$27*Barèmes!D26+Paramètres!$B$27 -> 59292.827 | E26: =Paramètres!$A$27*Barèmes!E26+Paramètres!$B$27 -> 64365.847 | F26: =Paramètres!$A$27*Barèmes!F26+Paramètres!$B$27 -> 60946.774 | G26: =Paramètres!$A$27*Barèmes!G26+Paramètres!$B$27 -> 69975.219 | H26: =Paramètres!$A$27*Barèmes!H26+Paramètres!$B$27 -> 77002.887 | I26: =Paramètres!$A$27*Barèmes!I26+Paramètres!$B$27 -> 83809.323 | J26: =Paramètres!$A$27*Barèmes!J26+Paramètres!$B$27 -> 72718.146 | ... AF26: =Paramètres!$A$27*Barèmes!AF26+Paramètres!$B$27 -> 225924.82
A27: 25 | B27: =Paramètres!$A$27*(Barèmes!B27+Paramètres!$D$27)+Paramètres!$B$27 -> 49315 | C27: =Paramètres!$A$27*Barèmes!C27+Paramètres!$B$27 -> 55826.162 | D27: =Paramètres!$A$27*Barèmes!D27+Paramètres!$B$27 -> 60042.763 | E27: =Paramètres!$A$27*Barèmes!E27+Paramètres!$B$27 -> 65115.783 | F27: =Paramètres!$A$27*Barèmes!F27+Paramètres!$B$27 -> 62699.756 | G27: =Paramètres!$A$27*Barèmes!G27+Paramètres!$B$27 -> 71728.2 | H27: =Paramètres!$A$27*Barèmes!H27+Paramètres!$B$27 -> 78755.868 | I27: =Paramètres!$A$27*Barèmes!I27+Paramètres!$B$27 -> 85562.305 | J27: =Paramètres!$A$27*Barèmes!J27+Paramètres!$B$27 -> 74371.896 | ... AF27: =Paramètres!$A$27*Barèmes!AF27+Paramètres!$B$27 -> 225924.82
A28: 26 | B28: =Paramètres!$A$27*(Barèmes!B28+Paramètres!$D$27)+Paramètres!$B$27 -> 49315 | C28: =Paramètres!$A$27*Barèmes!C28+Paramètres!$B$27 -> 55826.162 | D28: =Paramètres!$A$27*Barèmes!D28+Paramètres!$B$27 -> 60042.763 | E28: =Paramètres!$A$27*Barèmes!E28+Paramètres!$B$27 -> 65115.783 | F28: =Paramètres!$A$27*Barèmes!F28+Paramètres!$B$27 -> 62699.756 | G28: =Paramètres!$A$27*Barèmes!G28+Paramètres!$B$27 -> 71728.2 | H28: =Paramètres!$A$27*Barèmes!H28+Paramètres!$B$27 -> 78755.868 | I28: =Paramètres!$A$27*Barèmes!I28+Paramètres!$B$27 -> 85562.305 | J28: =Paramètres!$A$27*Barèmes!J28+Paramètres!$B$27 -> 74371.896 | ... AF28: =Paramètres!$A$27*Barèmes!AF28+Paramètres!$B$27 -> 225924.82
A29: 27 | B29: =Paramètres!$A$27*(Barèmes!B29+Paramètres!$D$27)+Paramètres!$B$27 -> 50493.821 | C29: =Paramètres!$A$27*Barèmes!C29+Paramètres!$B$27 -> 57004.983 | D29: =Paramètres!$A$27*Barèmes!D29+Paramètres!$B$27 -> 61221.584 | E29: =Paramètres!$A$27*Barèmes!E29+Paramètres!$B$27 -> 66294.604 | F29: =Paramètres!$A$27*Barèmes!F29+Paramètres!$B$27 -> 64452.737 | G29: =Paramètres!$A$27*Barèmes!G29+Paramètres!$B$27 -> 73481.182 | H29: =Paramètres!$A$27*Barèmes!H29+Paramètres!$B$27 -> 80508.85 | I29: =Paramètres!$A$27*Barèmes!I29+Paramètres!$B$27 -> 87315.286 | J29: =Paramètres!$A$27*Barèmes!J29+Paramètres!$B$27 -> 76025.647 | ... AF29: =Paramètres!$A$27*Barèmes!AF29+Paramètres!$B$27 -> 225924.82
A30: 28 | B30: =Paramètres!$A$27*(Barèmes!B30+Paramètres!$D$27)+Paramètres!$B$27 -> 50493.821 | C30: =Paramètres!$A$27*Barèmes!C30+Paramètres!$B$27 -> 57004.983 | D30: =Paramètres!$A$27*Barèmes!D30+Paramètres!$B$27 -> 61221.584 | E30: =Paramètres!$A$27*Barèmes!E30+Paramètres!$B$27 -> 66294.604 | F30: =Paramètres!$A$27*Barèmes!F30+Paramètres!$B$27 -> 64452.737 | G30: =Paramètres!$A$27*Barèmes!G30+Paramètres!$B$27 -> 73481.182 | H30: =Paramètres!$A$27*Barèmes!H30+Paramètres!$B$27 -> 80508.85 | I30: =Paramètres!$A$27*Barèmes!I30+Paramètres!$B$27 -> 87315.286 | J30: =Paramètres!$A$27*Barèmes!J30+Paramètres!$B$27 -> 76025.647 | ... AF30: =Paramètres!$A$27*Barèmes!AF30+Paramètres!$B$27 -> 225924.82
A31: 29 | B31: =Paramètres!$A$27*(Barèmes!B31+Paramètres!$D$27)+Paramètres!$B$27 -> 51672.642 | C31: =Paramètres!$A$27*Barèmes!C31+Paramètres!$B$27 -> 58183.804 | D31: =Paramètres!$A$27*Barèmes!D31+Paramètres!$B$27 -> 62400.405 | E31: =Paramètres!$A$27*Barèmes!E31+Paramètres!$B$27 -> 67473.425 | F31: =Paramètres!$A$27*Barèmes!F31+Paramètres!$B$27 -> 66205.718 | G31: =Paramètres!$A$27*Barèmes!G31+Paramètres!$B$27 -> 75234.163 | H31: =Paramètres!$A$27*Barèmes!H31+Paramètres!$B$27 -> 82261.831 | I31: =Paramètres!$A$27*Barèmes!I31+Paramètres!$B$27 -> 89068.268 | J31: =Paramètres!$A$27*Barèmes!J31+Paramètres!$B$27 -> 77679.398 | ... AF31: =Paramètres!$A$27*Barèmes!AF31+Paramètres!$B$27 -> 225924.82
A32: 30 | B32: =Paramètres!$A$27*(Barèmes!B32+Paramètres!$D$27)+Paramètres!$B$27 -> 52376.477 | C32: =Paramètres!$A$27*Barèmes!C32+Paramètres!$B$27 -> 58887.639 | D32: =Paramètres!$A$27*Barèmes!D32+Paramètres!$B$27 -> 63104.24 | E32: =Paramètres!$A$27*Barèmes!E32+Paramètres!$B$27 -> 68177.26 | F32: =Paramètres!$A$27*Barèmes!F32+Paramètres!$B$27 -> 66909.553 | G32: =Paramètres!$A$27*Barèmes!G32+Paramètres!$B$27 -> 75937.998 | H32: =Paramètres!$A$27*Barèmes!H32+Paramètres!$B$27 -> 82965.666 | I32: =Paramètres!$A$27*Barèmes!I32+Paramètres!$B$27 -> 89772.103 | J32: =Paramètres!$A$27*Barèmes!J32+Paramètres!$B$27 -> 78383.233 | ... AF32: =Paramètres!$A$27*Barèmes!AF32+Paramètres!$B$27 -> 226628.65

Sheet Moyenne
B1: D3 | C1: D2 | D1: D1bis | E1: D1 | F1: C3 | G1: C2 | H1: C1bis | I1: C1 | J1: B3/1 | K1: B3/2 | L1: B2/1 | M1: B2/2 | N1: B1/1bis | O1: B1/2bis | P1: B1 | Q1: A6/1 | R1: A6/2 A6Sc | S1: A5/1 | T1: A5/2 A5Sc | U1: A5/1bis | V1: A5/2bis A5Sc/bis | W1: A4/1 | X1: A4/2 | Y1: A4Sc | Z1: A3 | AA1: A3M | AB1: Abis | AC1: A2 | AD1: A2M | AE1: A1 | AF1: A1M
A2: 0 | B2: =AVERAGE('Charges statutaires'!B2,'Charges contractuels'!B2) -> 37446.609 | C2: =AVERAGE('Charges statutaires'!C2,'Charges contractuels'!C2) -> 43153.173 | D2: =AVERAGE('Charges statutaires'!D2,'Charges contractuels'!D2) -> 46167.288 | E2: =AVERAGE('Charges statutaires'!E2,'Charges contractuels'!E2) -> 49976.119 | F2: =AVERAGE('Charges statutaires'!F2,'Charges contractuels'!F2) -> 38518.778 | G2: =AVERAGE('Charges statutaires'!G2,'Charges contractuels'!G2) -> 45998.197 | H2: =AVERAGE('Charges statutaires'!H2,'Charges contractuels'!H2) -> 51620.906 | I2: =AVERAGE('Charges statutaires'!I2,'Charges contractuels'!I2) -> 57937.157 | ... AF2: =AVERAGE('Charges statutaires'!AF2,'Charges contractuels'!AF2) -> 160181.15
A3: 1 | B3: =AVERAGE('Charges statutaires'!B3,'Charges contractuels'!B3) -> 37741.305 | C3: =AVERAGE('Charges statutaires'!C3,'Charges contractuels'!C3) -> 43518.615 | D3: =AVERAGE('Charges statutaires'!D3,'Charges contractuels'!D3) -> 46532.729 | E3: =AVERAGE('Charges statutaires'!E3,'Charges contractuels'!E3) -> 50341.561 | F3: =AVERAGE('Charges statutaires'!F3,'Charges contractuels'!F3) -> 39216.088 | G3: =AVERAGE('Charges statutaires'!G3,'Charges contractuels'!G3) -> 46695.507 | H3: =AVERAGE('Charges statutaires'!H3,'Charges contractuels'!H3) -> 52318.216 | I3: =AVERAGE('Charges statutaires'!I3,'Charges contractuels'!I3) -> 58634.467 | ... AF3: =AVERAGE('Charges statutaires'!AF3,'Charges contractuels'!AF3) -> 161807.88
A4: 2 | B4: =AVERAGE('Charges statutaires'!B4,'Charges contractuels'!B4) -> 38036.001 | C4: =AVERAGE('Charges statutaires'!C4,'Charges contractuels'!C4) -> 43884.057 | D4: =AVERAGE('Charges statutaires'!D4,'Charges contractuels'!D4) -> 46898.171 | E4: =AVERAGE('Charges statutaires'!E4,'Charges contractuels'!E4) -> 50707.002 | F4: =AVERAGE('Charges statutaires'!F4,'Charges contractuels'!F4) -> 39913.398 | G4: =AVERAGE('Charges statutaires'!G4,'Charges contractuels'!G4) -> 47392.817 | H4: =AVERAGE('Charges statutaires'!H4,'Charges contractuels'!H4) -> 53015.526 | I4: =AVERAGE('Charges statutaires'!I4,'Charges contractuels'!I4) -> 59331.777 | ... AF4: =AVERAGE('Charges statutaires'!AF4,'Charges contractuels'!AF4) -> 163434.62
A5: 3 | B5: =AVERAGE('Charges statutaires'!B5,'Charges contractuels'!B5) -> 38330.696 | C5: =AVERAGE('Charges statutaires'!C5,'Charges contractuels'!C5) -> 44249.498 | D5: =AVERAGE('Charges statutaires'!D5,'Charges contractuels'!D5) -> 47263.612 | E5: =AVERAGE('Charges statutaires'!E5,'Charges contractuels'!E5) -> 51072.444 | F5: =AVERAGE('Charges statutaires'!F5,'Charges contractuels'!F5) -> 40610.708 | G5: =AVERAGE('Charges statutaires'!G5,'Charges contractuels'!G5) -> 48090.127 | H5: =AVERAGE('Charges statutaires'!H5,'Charges contractuels'!H5) -> 53712.837 | I5: =AVERAGE('Charges statutaires'!I5,'Charges contractuels'!I5) -> 60029.088 | ... AF5: =AVERAGE('Charges statutaires'!AF5,'Charges contractuels'!AF5) -> 165061.35
A6: 4 | B6: =AVERAGE('Charges statutaires'!B6,'Charges contractuels'!B6) -> 38330.696 | C6: =AVERAGE('Charges statutaires'!C6,'Charges contractuels'!C6) -> 44249.498 | D6: =AVERAGE('Charges statutaires'!D6,'Charges contractuels'!D6) -> 47263.612 | E6: =AVERAGE('Charges statutaires'!E6,'Charges contractuels'!E6) -> 51072.444 | F6: =AVERAGE('Charges statutaires'!F6,'Charges contractuels'!F6) -> 40610.708 | G6: =AVERAGE('Charges statutaires'!G6,'Charges contractuels'!G6) -> 47584.206 | H6: =AVERAGE('Charges statutaires'!H6,'Charges contractuels'!H6) -> 53712.837 | I6: =AVERAGE('Charges statutaires'!I6,'Charges contractuels'!I6) -> 60029.088 | ... AF6: =AVERAGE('Charges statutaires'!AF6,'Charges contractuels'!AF6) -> 165061.35
A7: 5 | B7: =AVERAGE('Charges statutaires'!B7,'Charges contractuels'!B7) -> 38482.44 | C7: =AVERAGE('Charges statutaires'!C7,'Charges contractuels'!C7) -> 44757.318 | D7: =AVERAGE('Charges statutaires'!D7,'Charges contractuels'!D7) -> 47771.432 | E7: =AVERAGE('Charges statutaires'!E7,'Charges contractuels'!E7) -> 51580.264 | F7: =AVERAGE('Charges statutaires'!F7,'Charges contractuels'!F7) -> 41308.019 | G7: =AVERAGE('Charges statutaires'!G7,'Charges contractuels'!G7) -> 48281.516 | H7: =AVERAGE('Charges statutaires'!H7,'Charges contractuels'!H7) -> 54410.147 | I7: =AVERAGE('Charges statutaires'!I7,'Charges contractuels'!I7) -> 60726.398 | ... AF7: =AVERAGE('Charges statutaires'!AF7,'Charges contractuels'!AF7) -> 169256.72
A8: 6 | B8: =AVERAGE('Charges statutaires'!B8,'Charges contractuels'!B8) -> 39135.586 | C8: =AVERAGE('Charges statutaires'!C8,'Charges contractuels'!C8) -> 44904.557 | D8: =AVERAGE('Charges statutaires'!D8,'Charges contractuels'!D8) -> 48424.579 | E8: =AVERAGE('Charges statutaires'!E8,'Charges contractuels'!E8) -> 52233.41 | F8: =AVERAGE('Charges statutaires'!F8,'Charges contractuels'!F8) -> 41961.165 | G8: =AVERAGE('Charges statutaires'!G8,'Charges contractuels'!G8) -> 48934.662 | H8: =AVERAGE('Charges statutaires'!H8,'Charges contractuels'!H8) -> 55063.293 | I8: =AVERAGE('Charges statutaires'!I8,'Charges contractuels'!I8) -> 61379.544 | ... AF8: =AVERAGE('Charges statutaires'!AF8,'Charges contractuels'!AF8) -> 169909.86
A9: 7 | B9: =AVERAGE('Charges statutaires'!B9,'Charges contractuels'!B9) -> 39287.329 | C9: =AVERAGE('Charges statutaires'!C9,'Charges contractuels'!C9) -> 45019.469 | D9: =AVERAGE('Charges statutaires'!D9,'Charges contractuels'!D9) -> 48932.399 | E9: =AVERAGE('Charges statutaires'!E9,'Charges contractuels'!E9) -> 52741.23 | F9: =AVERAGE('Charges statutaires'!F9,'Charges contractuels'!F9) -> 42890.72 | G9: =AVERAGE('Charges statutaires'!G9,'Charges contractuels'!G9) -> 49471.299 | H9: =AVERAGE('Charges statutaires'!H9,'Charges contractuels'!H9) -> 55992.848 | I9: =AVERAGE('Charges statutaires'!I9,'Charges contractuels'!I9) -> 62309.099 | ... AF9: =AVERAGE('Charges statutaires'!AF9,'Charges contractuels'!AF9) -> 174105.23
A10: 8 | B10: =AVERAGE('Charges statutaires'!B10,'Charges contractuels'!B10) -> 39287.329 | C10: =AVERAGE('Charges statutaires'!C10,'Charges contractuels'!C10) -> 45019.469 | D10: =AVERAGE('Charges statutaires'!D10,'Charges contractuels'!D10) -> 48932.399 | E10: =AVERAGE('Charges statutaires'!E10,'Charges contractuels'!E10) -> 52741.23 | F10: =AVERAGE('Charges statutaires'!F10,'Charges contractuels'!F10) -> 42890.72 | G10: =AVERAGE('Charges statutaires'!G10,'Charges contractuels'!G10) -> 49471.299 | H10: =AVERAGE('Charges statutaires'!H10,'Charges contractuels'!H10) -> 55992.848 | I10: =AVERAGE('Charges statutaires'!I10,'Charges contractuels'!I10) -> 62309.099 | ... AF10: =AVERAGE('Charges statutaires'!AF10,'Charges contractuels'!AF10) -> 174105.23
A11: 9 | B11: =AVERAGE('Charges statutaires'!B11,'Charges contractuels'!B11) -> 39444.89 | C11: =AVERAGE('Charges statutaires'!C11,'Charges contractuels'!C11) -> 45527.289 | D11: =AVERAGE('Charges statutaires'!D11,'Charges contractuels'!D11) -> 49440.219 | E11: =AVERAGE('Charges statutaires'!E11,'Charges contractuels'!E11) -> 53249.05 | F11: =AVERAGE('Charges statutaires'!F11,'Charges contractuels'!F11) -> 44749.727 | G11: =AVERAGE('Charges statutaires'!G11,'Charges contractuels'!G11) -> 51330.306 | H11: =AVERAGE('Charges statutaires'!H11,'Charges contractuels'!H11) -> 57851.855 | I11: =AVERAGE('Charges statutaires'!I11,'Charges contractuels'!I11) -> 64168.106 | ... AF11: =AVERAGE('Charges statutaires'!AF11,'Charges contractuels'!AF11) -> 178300.59
A12: 10 | B12: =AVERAGE('Charges statutaires'!B12,'Charges contractuels'!B12) -> 39444.89 | C12: =AVERAGE('Charges statutaires'!C12,'Charges contractuels'!C12) -> 45527.289 | D12: =AVERAGE('Charges statutaires'!D12,'Charges contractuels'!D12) -> 49440.219 | E12: =AVERAGE('Charges statutaires'!E12,'Charges contractuels'!E12) -> 53249.05 | F12: =AVERAGE('Charges statutaires'!F12,'Charges contractuels'!F12) -> 44749.727 | G12: =AVERAGE('Charges statutaires'!G12,'Charges contractuels'!G12) -> 51330.306 | H12: =AVERAGE('Charges statutaires'!H12,'Charges contractuels'!H12) -> 57851.855 | I12: =AVERAGE('Charges statutaires'!I12,'Charges contractuels'!I12) -> 64168.106 | ... AF12: =AVERAGE('Charges statutaires'!AF12,'Charges contractuels'!AF12) -> 178300.59
A13: 11 | B13: =AVERAGE('Charges statutaires'!B13,'Charges contractuels'!B13) -> 39952.71 | C13: =AVERAGE('Charges statutaires'!C13,'Charges contractuels'!C13) -> 46035.109 | D13: =AVERAGE('Charges statutaires'!D13,'Charges contractuels'!D13) -> 49948.039 | E13: =AVERAGE('Charges statutaires'!E13,'Charges contractuels'!E13) -> 53756.87 | F13: =AVERAGE('Charges statutaires'!F13,'Charges contractuels'!F13) -> 45709.919 | G13: =AVERAGE('Charges statutaires'!G13,'Charges contractuels'!G13) -> 53189.313 | H13: =AVERAGE('Charges statutaires'!H13,'Charges contractuels'!H13) -> 59710.862 | I13: =AVERAGE('Charges statutaires'!I13,'Charges contractuels'!I13) -> 66027.113 | ... AF13: =AVERAGE('Charges statutaires'!AF13,'Charges contractuels'!AF13) -> 182495.96
... A32: 30 | B32: =AVERAGE('Charges statutaires'!B32,'Charges contractuels'!B32) -> 48537.714 | C32: =AVERAGE('Charges statutaires'!C32,'Charges contractuels'!C32) -> 54620.088 | D32: =AVERAGE('Charges statutaires'!D32,'Charges contractuels'!D32) -> 58533.018 | E32: =AVERAGE('Charges statutaires'!E32,'Charges contractuels'!E32) -> 63240.69 | F32: =AVERAGE('Charges statutaires'!F32,'Charges contractuels'!F32) -> 62064.28 | G32: =AVERAGE('Charges statutaires'!G32,'Charges contractuels'!G32) -> 70442.515 | H32: =AVERAGE('Charges statutaires'!H32,'Charges contractuels'!H32) -> 76964.064 | I32: =AVERAGE('Charges statutaires'!I32,'Charges contractuels'!I32) -> 83280.315 | ... AF32: =AVERAGE('Charges statutaires'!AF32,'Charges contractuels'!AF32) -> 210280.73

Sheet Surcoût
B1: D3 | C1: D2 | D1: D1bis | E1: D1 | F1: C3 | G1: C2 | H1: C1bis | I1: C1 | J1: B3/1 | K1: B3/2 | L1: B2/1 | M1: B2/2 | N1: B1/1bis | O1: B1/2bis | P1: B1 | Q1: A6/1 | R1: A6/2 A6Sc | S1: A5/1 | T1: A5/2 A5Sc | U1: A5/1bis | V1: A5/2bis A5Sc/bis | W1: A4/1 | X1: A4/2 | Y1: A4Sc | Z1: A3 | AA1: A3M | AB1: Abis | AC1: A2 | AD1: A2M | AE1: A1 | AF1: A1M
A2: 0 | B2: ='Charges contractuels'!B2-'Charges statutaires'!B2 -> 6042.5199 | C2: ='Charges contractuels'!C2-'Charges statutaires'!C2 -> 6928.2596 | D2: ='Charges contractuels'!D2-'Charges statutaires'!D2 -> 7309.6013 | E2: ='Charges contractuels'!E2-'Charges statutaires'!E2 -> 7814.2919 | F2: ='Charges contractuels'!F2-'Charges statutaires'!F2 -> 6208.9357 | G2: ='Charges contractuels'!G2-'Charges statutaires'!G2 -> 7283.356 | H2: ='Charges contractuels'!H2-'Charges statutaires'!H2 -> 8069.5862 | I2: ='Charges contractuels'!I2-'Charges statutaires'!I2 -> 9049.9578 | ... AF2: ='Charges contractuels'!AF2-'Charges statutaires'!AF2 -> 24919.674
A3: 1 | B3: ='Charges contractuels'!B3-'Charges statutaires'!B3 -> 6088.2609 | C3: ='Charges contractuels'!C3-'Charges statutaires'!C3 -> 6984.9813 | D3: ='Charges contractuels'!D3-'Charges statutaires'!D3 -> 7366.323 | E3: ='Charges contractuels'!E3-'Charges statutaires'!E3 -> 7871.0136 | F3: ='Charges contractuels'!F3-'Charges statutaires'!F3 -> 6317.1681 | G3: ='Charges contractuels'!G3-'Charges statutaires'!G3 -> 7391.5884 | H3: ='Charges contractuels'!H3-'Charges statutaires'!H3 -> 8177.8186 | I3: ='Charges contractuels'!I3-'Charges statutaires'!I3 -> 9158.1903 | ... AF3: ='Charges contractuels'!AF3-'Charges statutaires'!AF3 -> 25172.166
A4: 2 | B4: ='Charges contractuels'!B4-'Charges statutaires'!B4 -> 6134.0018 | C4: ='Charges contractuels'!C4-'Charges statutaires'!C4 -> 7041.703 | D4: ='Charges contractuels'!D4-'Charges statutaires'!D4 -> 7423.0447 | E4: ='Charges contractuels'!E4-'Charges statutaires'!E4 -> 7927.7353 | F4: ='Charges contractuels'!F4-'Charges statutaires'!F4 -> 6425.4005 | G4: ='Charges contractuels'!G4-'Charges statutaires'!G4 -> 7499.8208 | H4: ='Charges contractuels'!H4-'Charges statutaires'!H4 -> 8286.051 | I4: ='Charges contractuels'!I4-'Charges statutaires'!I4 -> 9266.4227 | ... AF4: ='Charges contractuels'!AF4-'Charges statutaires'!AF4 -> 25424.659
A5: 3 | B5: ='Charges contractuels'!B5-'Charges statutaires'!B5 -> 6179.7428 | C5: ='Charges contractuels'!C5-'Charges statutaires'!C5 -> 7098.4247 | D5: ='Charges contractuels'!D5-'Charges statutaires'!D5 -> 7479.7664 | E5: ='Charges contractuels'!E5-'Charges statutaires'!E5 -> 7984.457 | F5: ='Charges contractuels'!F5-'Charges statutaires'!F5 -> 6533.6329 | G5: ='Charges contractuels'!G5-'Charges statutaires'!G5 -> 7608.0532 | H5: ='Charges contractuels'!H5-'Charges statutaires'!H5 -> 8394.2834 | I5: ='Charges contractuels'!I5-'Charges statutaires'!I5 -> 9374.6551 | ... AF5: ='Charges contractuels'!AF5-'Charges statutaires'!AF5 -> 25677.151
A6: 4 | B6: ='Charges contractuels'!B6-'Charges statutaires'!B6 -> 6179.7428 | C6: ='Charges contractuels'!C6-'Charges statutaires'!C6 -> 7098.4247 | D6: ='Charges contractuels'!D6-'Charges statutaires'!D6 -> 7479.7664 | E6: ='Charges contractuels'!E6-'Charges statutaires'!E6 -> 7984.457 | F6: ='Charges contractuels'!F6-'Charges statutaires'!F6 -> 6533.6329 | G6: ='Charges contractuels'!G6-'Charges statutaires'!G6 -> 6596.2096 | H6: ='Charges contractuels'!H6-'Charges statutaires'!H6 -> 8394.2834 | I6: ='Charges contractuels'!I6-'Charges statutaires'!I6 -> 9374.6551 | ... AF6: ='Charges contractuels'!AF6-'Charges statutaires'!AF6 -> 25677.151
A7: 5 | B7: ='Charges contractuels'!B7-'Charges statutaires'!B7 -> 6203.2955 | C7: ='Charges contractuels'!C7-'Charges statutaires'!C7 -> 7177.2455 | D7: ='Charges contractuels'!D7-'Charges statutaires'!D7 -> 7558.5872 | E7: ='Charges contractuels'!E7-'Charges statutaires'!E7 -> 8063.2779 | F7: ='Charges contractuels'!F7-'Charges statutaires'!F7 -> 6641.8654 | G7: ='Charges contractuels'!G7-'Charges statutaires'!G7 -> 6704.4421 | H7: ='Charges contractuels'!H7-'Charges statutaires'!H7 -> 8502.5158 | I7: ='Charges contractuels'!I7-'Charges statutaires'!I7 -> 9482.8875 | ... AF7: ='Charges contractuels'!AF7-'Charges statutaires'!AF7 -> 26328.331
A8: 6 | B8: ='Charges contractuels'!B8-'Charges statutaires'!B8 -> 6304.6731 | C8: ='Charges contractuels'!C8-'Charges statutaires'!C8 -> 6266.8076 | D8: ='Charges contractuels'!D8-'Charges statutaires'!D8 -> 7659.9648 | E8: ='Charges contractuels'!E8-'Charges statutaires'!E8 -> 8164.6555 | F8: ='Charges contractuels'!F8-'Charges statutaires'!F8 -> 6743.2429 | G8: ='Charges contractuels'!G8-'Charges statutaires'!G8 -> 6805.8196 | H8: ='Charges contractuels'!H8-'Charges statutaires'!H8 -> 8603.8934 | I8: ='Charges contractuels'!I8-'Charges statutaires'!I8 -> 9584.2651 | ... AF8: ='Charges contractuels'!AF8-'Charges statutaires'!AF8 -> 26429.709
A9: 7 | B9: ='Charges contractuels'!B9-'Charges statutaires'!B9 -> 6328.2258 | C9: ='Charges contractuels'!C9-'Charges statutaires'!C9 -> 7131.4435 | D9: ='Charges contractuels'!D9-'Charges statutaires'!D9 -> 7738.7857 | E9: ='Charges contractuels'!E9-'Charges statutaires'!E9 -> 8243.4763 | F9: ='Charges contractuels'!F9-'Charges statutaires'!F9 -> 6887.5231 | G9: ='Charges contractuels'!G9-'Charges statutaires'!G9 -> 7735.9367 | H9: ='Charges contractuels'!H9-'Charges statutaires'!H9 -> 8748.1736 | I9: ='Charges contractuels'!I9-'Charges statutaires'!I9 -> 9728.5453 | ... AF9: ='Charges contractuels'!AF9-'Charges statutaires'!AF9 -> 27080.889
A10: 8 | B10: ='Charges contractuels'!B10-'Charges statutaires'!B10 -> 6328.2258 | C10: ='Charges contractuels'!C10-'Charges statutaires'!C10 -> 7131.4435 | D10: ='Charges contractuels'!D10-'Charges statutaires'!D10 -> 7738.7857 | E10: ='Charges contractuels'!E10-'Charges statutaires'!E10 -> 8243.4763 | F10: ='Charges contractuels'!F10-'Charges statutaires'!F10 -> 6887.5231 | G10: ='Charges contractuels'!G10-'Charges statutaires'!G10 -> 7735.9367 | H10: ='Charges contractuels'!H10-'Charges statutaires'!H10 -> 8748.1736 | I10: ='Charges contractuels'!I10-'Charges statutaires'!I10 -> 9728.5453 | ... AF10: ='Charges contractuels'!AF10-'Charges statutaires'!AF10 -> 27080.889
A11: 9 | B11: ='Charges contractuels'!B11-'Charges statutaires'!B11 -> 6352.6814 | C11: ='Charges contractuels'!C11-'Charges statutaires'!C11 -> 7210.2644 | D11: ='Charges contractuels'!D11-'Charges statutaires'!D11 -> 7817.6065 | E11: ='Charges contractuels'!E11-'Charges statutaires'!E11 -> 8322.2972 | F11: ='Charges contractuels'!F11-'Charges statutaires'!F11 -> 7176.0673 | G11: ='Charges contractuels'!G11-'Charges statutaires'!G11 -> 8024.4809 | H11: ='Charges contractuels'!H11-'Charges statutaires'!H11 -> 9036.7178 | I11: ='Charges contractuels'!I11-'Charges statutaires'!I11 -> 10017.089 | ... AF11: ='Charges contractuels'!AF11-'Charges statutaires'!AF11 -> 27732.069
A12: 10 | B12: ='Charges contractuels'!B12-'Charges statutaires'!B12 -> 6352.6814 | C12: ='Charges contractuels'!C12-'Charges statutaires'!C12 -> 7210.2644 | D12: ='Charges contractuels'!D12-'Charges statutaires'!D12 -> 7817.6065 | E12: ='Charges contractuels'!E12-'Charges statutaires'!E12 -> 8322.2972 | F12: ='Charges contractuels'!F12-'Charges statutaires'!F12 -> 7176.0673 | G12: ='Charges contractuels'!G12-'Charges statutaires'!G12 -> 8024.4809 | H12: ='Charges contractuels'!H12-'Charges statutaires'!H12 -> 9036.7178 | I12: ='Charges contractuels'!I12-'Charges statutaires'!I12 -> 10017.089 | ... AF12: ='Charges contractuels'!AF12-'Charges statutaires'!AF12 -> 27732.069
A13: 11 | B13: ='Charges contractuels'!B13-'Charges statutaires'!B13 -> 6431.5023 | C13: ='Charges contractuels'!C13-'Charges statutaires'!C13 -> 7289.0853 | D13: ='Charges contractuels'!D13-'Charges statutaires'!D13 -> 7896.4274 | E13: ='Charges contractuels'!E13-'Charges statutaires'!E13 -> 8401.118 | F13: ='Charges contractuels'!F13-'Charges statutaires'!F13 -> 7238.6111 | G13: ='Charges contractuels'!G13-'Charges statutaires'!G13 -> 8313.0251 | H13: ='Charges contractuels'!H13-'Charges statutaires'!H13 -> 9325.262 | I13: ='Charges contractuels'!I13-'Charges statutaires'!I13 -> 10305.634 | ... AF13: ='Charges contractuels'!AF13-'Charges statutaires'!AF13 -> 28383.249
... A32: 30 | B32: ='Charges contractuels'!B32-'Charges statutaires'!B32 -> 7677.5251 | C32: ='Charges contractuels'!C32-'Charges statutaires'!C32 -> 8535.1018 | D32: ='Charges contractuels'!D32-'Charges statutaires'!D32 -> 9142.4439 | E32: ='Charges contractuels'!E32-'Charges statutaires'!E32 -> 9873.1413 | F32: ='Charges contractuels'!F32-'Charges statutaires'!F32 -> 9690.5459 | G32: ='Charges contractuels'!G32-'Charges statutaires'!G32 -> 10990.967 | H32: ='Charges contractuels'!H32-'Charges statutaires'!H32 -> 12003.203 | I32: ='Charges contractuels'!I32-'Charges statutaires'!I32 -> 12983.575 | ... AF32: ='Charges contractuels'!AF32-'Charges statutaires'!AF32 -> 32695.84

Sheet Coûts horaires statut. 1976e
B1: D3 | C1: D2 | D1: D1bis | E1: D1 | F1: C3 | G1: C2 | H1: C1bis | I1: C1 | J1: B3/1 | K1: B3/2 | L1: B2/1 | M1: B2/2 | N1: B1/1bis | O1: B1/2bis | P1: B1 | Q1: A6/1 | R1: A6/2 A6Sc | S1: A5/1 | T1: A5/2 A5Sc | U1: A5/1bis | V1: A5/2bis A5Sc/bis | W1: A4/1 | X1: A4/2 | Y1: A4Sc | Z1: A3 | AA1: A3M | AB1: Abis | AC1: A2 | AD1: A2M | AE1: A1 | AF1: A1M
A2: 0 | B2: ='Charges statutaires'!B2/1976 -> 17.421735 | C2: ='Charges statutaires'!C2/1976 -> 20.085548 | D2: ='Charges statutaires'!D2/1976 -> 21.514417 | E2: ='Charges statutaires'!E2/1976 -> 23.314258 | F2: ='Charges statutaires'!F2/1976 -> 17.922222 | G2: ='Charges statutaires'!G2/1976 -> 21.435485 | H2: ='Charges statutaires'!H2/1976 -> 24.082041 | I2: ='Charges statutaires'!I2/1976 -> 27.030455 | ... AF2: ='Charges statutaires'!AF2/1976 -> 74.757748
A3: 1 | B3: ='Charges statutaires'!B3/1976 -> 17.559299 | C3: ='Charges statutaires'!C3/1976 -> 20.256136 | D3: ='Charges statutaires'!D3/1976 -> 21.685004 | E3: ='Charges statutaires'!E3/1976 -> 23.484845 | F3: ='Charges statutaires'!F3/1976 -> 18.247725 | G3: ='Charges statutaires'!G3/1976 -> 21.760988 | H3: ='Charges statutaires'!H3/1976 -> 24.407544 | I3: ='Charges statutaires'!I3/1976 -> 27.355958 | ... AF3: ='Charges statutaires'!AF3/1976 -> 75.517105
A4: 2 | B4: ='Charges statutaires'!B4/1976 -> 17.696862 | C4: ='Charges statutaires'!C4/1976 -> 20.426723 | D4: ='Charges statutaires'!D4/1976 -> 21.855591 | E4: ='Charges statutaires'!E4/1976 -> 23.655433 | F4: ='Charges statutaires'!F4/1976 -> 18.573228 | G4: ='Charges statutaires'!G4/1976 -> 22.086491 | H4: ='Charges statutaires'!H4/1976 -> 24.733047 | I4: ='Charges statutaires'!I4/1976 -> 27.681461 | ... AF4: ='Charges statutaires'!AF4/1976 -> 76.276461
A5: 3 | B5: ='Charges statutaires'!B5/1976 -> 17.834426 | C5: ='Charges statutaires'!C5/1976 -> 20.597311 | D5: ='Charges statutaires'!D5/1976 -> 22.026179 | E5: ='Charges statutaires'!E5/1976 -> 23.82602 | F5: ='Charges statutaires'!F5/1976 -> 18.898731 | G5: ='Charges statutaires'!G5/1976 -> 22.411994 | H5: ='Charges statutaires'!H5/1976 -> 25.05855 | I5: ='Charges statutaires'!I5/1976 -> 28.006964 | ... AF5: ='Charges statutaires'!AF5/1976 -> 77.035818
A6: 4 | B6: ='Charges statutaires'!B6/1976 -> 17.834426 | C6: ='Charges statutaires'!C6/1976 -> 20.597311 | D6: ='Charges statutaires'!D6/1976 -> 22.026179 | E6: ='Charges statutaires'!E6/1976 -> 23.82602 | F6: ='Charges statutaires'!F6/1976 -> 18.898731 | G6: ='Charges statutaires'!G6/1976 -> 22.411994 | H6: ='Charges statutaires'!H6/1976 -> 25.05855 | I6: ='Charges statutaires'!I6/1976 -> 28.006964 | ... AF6: ='Charges statutaires'!AF6/1976 -> 77.035818
A7: 5 | B7: ='Charges statutaires'!B7/1976 -> 17.905259 | C7: ='Charges statutaires'!C7/1976 -> 20.83436 | D7: ='Charges statutaires'!D7/1976 -> 22.263228 | E7: ='Charges statutaires'!E7/1976 -> 24.063069 | F7: ='Charges statutaires'!F7/1976 -> 19.224234 | G7: ='Charges statutaires'!G7/1976 -> 22.737497 | H7: ='Charges statutaires'!H7/1976 -> 25.384053 | I7: ='Charges statutaires'!I7/1976 -> 28.332467 | ... AF7: ='Charges statutaires'!AF7/1976 -> 78.994206
A8: 6 | B8: ='Charges statutaires'!B8/1976 -> 18.210147 | C8: ='Charges statutaires'!C8/1976 -> 21.139247 | D8: ='Charges statutaires'!D8/1976 -> 22.568116 | E8: ='Charges statutaires'!E8/1976 -> 24.367957 | F8: ='Charges statutaires'!F8/1976 -> 19.529121 | G8: ='Charges statutaires'!G8/1976 -> 23.042385 | H8: ='Charges statutaires'!H8/1976 -> 25.68894 | I8: ='Charges statutaires'!I8/1976 -> 28.637354 | ... AF8: ='Charges statutaires'!AF8/1976 -> 79.299094
A9: 7 | B9: ='Charges statutaires'!B9/1976 -> 18.28098 | C9: ='Charges statutaires'!C9/1976 -> 20.978617 | D9: ='Charges statutaires'!D9/1976 -> 22.805165 | E9: ='Charges statutaires'!E9/1976 -> 24.605006 | F9: ='Charges statutaires'!F9/1976 -> 19.963036 | G9: ='Charges statutaires'!G9/1976 -> 23.078609 | H9: ='Charges statutaires'!H9/1976 -> 26.122855 | I9: ='Charges statutaires'!I9/1976 -> 29.071269 | ... AF9: ='Charges statutaires'!AF9/1976 -> 81.257482
A10: 8 | B10: ='Charges statutaires'!B10/1976 -> 18.28098 | C10: ='Charges statutaires'!C10/1976 -> 20.978617 | D10: ='Charges statutaires'!D10/1976 -> 22.805165 | E10: ='Charges statutaires'!E10/1976 -> 24.605006 | F10: ='Charges statutaires'!F10/1976 -> 19.963036 | G10: ='Charges statutaires'!G10/1976 -> 23.078609 | H10: ='Charges statutaires'!H10/1976 -> 26.122855 | I10: ='Charges statutaires'!I10/1976 -> 29.071269 | ... AF10: ='Charges statutaires'!AF10/1976 -> 81.257482
A11: 9 | B11: ='Charges statutaires'!B11/1976 -> 18.354529 | C11: ='Charges statutaires'!C11/1976 -> 21.215666 | D11: ='Charges statutaires'!D11/1976 -> 23.042214 | E11: ='Charges statutaires'!E11/1976 -> 24.842055 | F11: ='Charges statutaires'!F11/1976 -> 20.830816 | G11: ='Charges statutaires'!G11/1976 -> 23.946389 | H11: ='Charges statutaires'!H11/1976 -> 26.990636 | I11: ='Charges statutaires'!I11/1976 -> 29.939049 | ... AF11: ='Charges statutaires'!AF11/1976 -> 83.21587
A12: 10 | B12: ='Charges statutaires'!B12/1976 -> 18.354529 | C12: ='Charges statutaires'!C12/1976 -> 21.215666 | D12: ='Charges statutaires'!D12/1976 -> 23.042214 | E12: ='Charges statutaires'!E12/1976 -> 24.842055 | F12: ='Charges statutaires'!F12/1976 -> 20.830816 | G12: ='Charges statutaires'!G12/1976 -> 23.946389 | H12: ='Charges statutaires'!H12/1976 -> 26.990636 | I12: ='Charges statutaires'!I12/1976 -> 29.939049 | ... AF12: ='Charges statutaires'!AF12/1976 -> 83.21587
A13: 11 | B13: ='Charges statutaires'!B13/1976 -> 18.591578 | C13: ='Charges statutaires'!C13/1976 -> 21.452716 | D13: ='Charges statutaires'!D13/1976 -> 23.279264 | E13: ='Charges statutaires'!E13/1976 -> 25.079105 | F13: ='Charges statutaires'!F13/1976 -> 21.300917 | G13: ='Charges statutaires'!G13/1976 -> 24.81417 | H13: ='Charges statutaires'!H13/1976 -> 27.858416 | I13: ='Charges statutaires'!I13/1976 -> 30.80683 | ... AF13: ='Charges statutaires'!AF13/1976 -> 85.174258
... A32: 30 | B32: ='Charges statutaires'!B32/1976 -> 22.620927 | C32: ='Charges statutaires'!C32/1976 -> 25.482053 | D32: ='Charges statutaires'!D32/1976 -> 27.308601 | E32: ='Charges statutaires'!E32/1976 -> 29.506133 | F32: ='Charges statutaires'!F32/1976 -> 28.956988 | G32: ='Charges statutaires'!G32/1976 -> 32.867931 | H32: ='Charges statutaires'!H32/1976 -> 35.912177 | I32: ='Charges statutaires'!I32/1976 -> 38.860591 | ... AF32: ='Charges statutaires'!AF32/1976 -> 98.144136
B38: 1976e = 38 heures x 52 semaines

Sheet Coûts horaires contr. 1976e
B1: D3 | C1: D2 | D1: D1bis | E1: D1 | F1: C3 | G1: C2 | H1: C1bis | I1: C1 | J1: B3/1 | K1: B3/2 | L1: B2/1 | M1: B2/2 | N1: B1/1bis | O1: B1/2bis | P1: B1 | Q1: A6/1 | R1: A6/2 A6Sc | S1: A5/1 | T1: A5/2 A5Sc | U1: A5/1bis | V1: A5/2bis A5Sc/bis | W1: A4/1 | X1: A4/2 | Y1: A4Sc | Z1: A3 | AA1: A3M | AB1: Abis | AC1: A2 | AD1: A2M | AE1: A1 | AF1: A1M
A2: 0 | B2: ='Charges contractuels'!B2/1976 -> 20.479691 | C2: ='Charges contractuels'!C2/1976 -> 23.591753 | D2: ='Charges contractuels'!D2/1976 -> 25.213608 | E2: ='Charges contractuels'!E2/1976 -> 27.268859 | F2: ='Charges contractuels'!F2/1976 -> 21.064396 | G2: ='Charges contractuels'!G2/1976 -> 25.121394 | H2: ='Charges contractuels'!H2/1976 -> 28.16584 | I2: ='Charges contractuels'!I2/1976 -> 31.610393 | ... AF2: ='Charges contractuels'!AF2/1976 -> 87.368919
A3: 1 | B3: ='Charges contractuels'!B3/1976 -> 20.640403 | C3: ='Charges contractuels'!C3/1976 -> 23.791045 | D3: ='Charges contractuels'!D3/1976 -> 25.4129 | E3: ='Charges contractuels'!E3/1976 -> 27.468152 | F3: ='Charges contractuels'!F3/1976 -> 21.444672 | G3: ='Charges contractuels'!G3/1976 -> 25.501671 | H3: ='Charges contractuels'!H3/1976 -> 28.546116 | I3: ='Charges contractuels'!I3/1976 -> 31.990669 | ... AF3: ='Charges contractuels'!AF3/1976 -> 88.256055
A4: 2 | B4: ='Charges contractuels'!B4/1976 -> 20.801114 | C4: ='Charges contractuels'!C4/1976 -> 23.990338 | D4: ='Charges contractuels'!D4/1976 -> 25.612193 | E4: ='Charges contractuels'!E4/1976 -> 27.667444 | F4: ='Charges contractuels'!F4/1976 -> 21.824949 | G4: ='Charges contractuels'!G4/1976 -> 25.881947 | H4: ='Charges contractuels'!H4/1976 -> 28.926393 | I4: ='Charges contractuels'!I4/1976 -> 32.370946 | ... AF4: ='Charges contractuels'!AF4/1976 -> 89.143192
A5: 3 | B5: ='Charges contractuels'!B5/1976 -> 20.961826 | C5: ='Charges contractuels'!C5/1976 -> 24.189631 | D5: ='Charges contractuels'!D5/1976 -> 25.811486 | E5: ='Charges contractuels'!E5/1976 -> 27.866737 | F5: ='Charges contractuels'!F5/1976 -> 22.205225 | G5: ='Charges contractuels'!G5/1976 -> 26.262224 | H5: ='Charges contractuels'!H5/1976 -> 29.306669 | I5: ='Charges contractuels'!I5/1976 -> 32.751222 | ... AF5: ='Charges contractuels'!AF5/1976 -> 90.030328
A6: 4 | B6: ='Charges contractuels'!B6/1976 -> 20.961826 | C6: ='Charges contractuels'!C6/1976 -> 24.189631 | D6: ='Charges contractuels'!D6/1976 -> 25.811486 | E6: ='Charges contractuels'!E6/1976 -> 27.866737 | F6: ='Charges contractuels'!F6/1976 -> 22.205225 | G6: ='Charges contractuels'!G6/1976 -> 25.750157 | H6: ='Charges contractuels'!H6/1976 -> 29.306669 | I6: ='Charges contractuels'!I6/1976 -> 32.751222 | ... AF6: ='Charges contractuels'!AF6/1976 -> 90.030328
A7: 5 | B7: ='Charges contractuels'!B7/1976 -> 21.044579 | C7: ='Charges contractuels'!C7/1976 -> 24.466569 | D7: ='Charges contractuels'!D7/1976 -> 26.088424 | E7: ='Charges contractuels'!E7/1976 -> 28.143676 | F7: ='Charges contractuels'!F7/1976 -> 22.585502 | G7: ='Charges contractuels'!G7/1976 -> 26.130434 | H7: ='Charges contractuels'!H7/1976 -> 29.686946 | I7: ='Charges contractuels'!I7/1976 -> 33.131499 | ... AF7: ='Charges contractuels'!AF7/1976 -> 92.318261
A8: 6 | B8: ='Charges contractuels'!B8/1976 -> 21.400771 | C8: ='Charges contractuels'!C8/1976 -> 24.310709 | D8: ='Charges contractuels'!D8/1976 -> 26.444616 | E8: ='Charges contractuels'!E8/1976 -> 28.499867 | F8: ='Charges contractuels'!F8/1976 -> 22.941693 | G8: ='Charges contractuels'!G8/1976 -> 26.486625 | H8: ='Charges contractuels'!H8/1976 -> 30.043137 | I8: ='Charges contractuels'!I8/1976 -> 33.48769 | ... AF8: ='Charges contractuels'!AF8/1976 -> 92.674452
A9: 7 | B9: ='Charges contractuels'!B9/1976 -> 21.483523 | C9: ='Charges contractuels'!C9/1976 -> 24.587647 | D9: ='Charges contractuels'!D9/1976 -> 26.721554 | E9: ='Charges contractuels'!E9/1976 -> 28.776806 | F9: ='Charges contractuels'!F9/1976 -> 23.448624 | G9: ='Charges contractuels'!G9/1976 -> 26.993556 | H9: ='Charges contractuels'!H9/1976 -> 30.550068 | I9: ='Charges contractuels'!I9/1976 -> 33.994621 | ... AF9: ='Charges contractuels'!AF9/1976 -> 94.962385
A10: 8 | B10: ='Charges contractuels'!B10/1976 -> 21.483523 | C10: ='Charges contractuels'!C10/1976 -> 24.587647 | D10: ='Charges contractuels'!D10/1976 -> 26.721554 | E10: ='Charges contractuels'!E10/1976 -> 28.776806 | F10: ='Charges contractuels'!F10/1976 -> 23.448624 | G10: ='Charges contractuels'!G10/1976 -> 26.993556 | H10: ='Charges contractuels'!H10/1976 -> 30.550068 | I10: ='Charges contractuels'!I10/1976 -> 33.994621 | ... AF10: ='Charges contractuels'!AF10/1976 -> 94.962385
A11: 9 | B11: ='Charges contractuels'!B11/1976 -> 21.569449 | C11: ='Charges contractuels'!C11/1976 -> 24.864586 | D11: ='Charges contractuels'!D11/1976 -> 26.998493 | E11: ='Charges contractuels'!E11/1976 -> 29.053744 | F11: ='Charges contractuels'!F11/1976 -> 24.462429 | G11: ='Charges contractuels'!G11/1976 -> 28.007362 | H11: ='Charges contractuels'!H11/1976 -> 31.563874 | I11: ='Charges contractuels'!I11/1976 -> 35.008427 | ... AF11: ='Charges contractuels'!AF11/1976 -> 97.250318
A12: 10 | B12: ='Charges contractuels'!B12/1976 -> 21.569449 | C12: ='Charges contractuels'!C12/1976 -> 24.864586 | D12: ='Charges contractuels'!D12/1976 -> 26.998493 | E12: ='Charges contractuels'!E12/1976 -> 29.053744 | F12: ='Charges contractuels'!F12/1976 -> 24.462429 | G12: ='Charges contractuels'!G12/1976 -> 28.007362 | H12: ='Charges contractuels'!H12/1976 -> 31.563874 | I12: ='Charges contractuels'!I12/1976 -> 35.008427 | ... AF12: ='Charges contractuels'!AF12/1976 -> 97.250318
A13: 11 | B13: ='Charges contractuels'!B13/1976 -> 21.846387 | C13: ='Charges contractuels'!C13/1976 -> 25.141524 | D13: ='Charges contractuels'!D13/1976 -> 27.275431 | E13: ='Charges contractuels'!E13/1976 -> 29.330683 | F13: ='Charges contractuels'!F13/1976 -> 24.964182 | G13: ='Charges contractuels'!G13/1976 -> 29.021167 | H13: ='Charges contractuels'!H13/1976 -> 32.577679 | I13: ='Charges contractuels'!I13/1976 -> 36.022232 | ... AF13: ='Charges contractuels'!AF13/1976 -> 99.53825
... A32: 30 | B32: ='Charges contractuels'!B32/1976 -> 26.506314 | C32: ='Charges contractuels'!C32/1976 -> 29.801437 | D32: ='Charges contractuels'!D32/1976 -> 31.935344 | E32: ='Charges contractuels'!E32/1976 -> 34.502662 | F32: ='Charges contractuels'!F32/1976 -> 33.86111 | G32: ='Charges contractuels'!G32/1976 -> 38.430161 | H32: ='Charges contractuels'!H32/1976 -> 41.986673 | I32: ='Charges contractuels'!I32/1976 -> 45.431226 | ... AF32: ='Charges contractuels'!AF32/1976 -> 114.69061
B38: 1976e = 38 heures x 52 semaines

Sheet Coûts statutaires 1850e
B1: D3 | C1: D2 | D1: D1bis | E1: D1 | F1: C3 | G1: C2 | H1: C1bis | I1: C1 | J1: B3/1 | K1: B3/2 | L1: B2/1 | M1: B2/2 | N1: B1/1bis | O1: B1/2bis | P1: B1 | Q1: A6/1 | R1: A6/2 A6Sc | S1: A5/1 | T1: A5/2 A5Sc | U1: A5/1bis | V1: A5/2bis A5Sc/bis | W1: A4/1 | X1: A4/2 | Y1: A4Sc | Z1: A3 | AA1: A3M | AB1: Abis | AC1: A2 | AD1: A2M | AE1: A1 | AF1: A1M
A2: 0 | B2: ='Charges statutaires'!B2/1850 -> 18.608297 | C2: ='Charges statutaires'!C2/1850 -> 21.453537 | D2: ='Charges statutaires'!D2/1850 -> 22.979723 | E2: ='Charges statutaires'!E2/1850 -> 24.902148 | F2: ='Charges statutaires'!F2/1850 -> 19.14287 | G2: ='Charges statutaires'!G2/1850 -> 22.895416 | H2: ='Charges statutaires'!H2/1850 -> 25.722223 | I2: ='Charges statutaires'!I2/1850 -> 28.871448 | ... AF2: ='Charges statutaires'!AF2/1850 -> 79.849356
A3: 1 | B3: ='Charges statutaires'!B3/1850 -> 18.755229 | C3: ='Charges statutaires'!C3/1850 -> 21.635743 | D3: ='Charges statutaires'!D3/1850 -> 23.161929 | E3: ='Charges statutaires'!E3/1850 -> 25.084353 | F3: ='Charges statutaires'!F3/1850 -> 19.490543 | G3: ='Charges statutaires'!G3/1850 -> 23.243088 | H3: ='Charges statutaires'!H3/1850 -> 26.069896 | I3: ='Charges statutaires'!I3/1850 -> 29.21912 | ... AF3: ='Charges statutaires'!AF3/1850 -> 80.660432
A4: 2 | B4: ='Charges statutaires'!B4/1850 -> 18.902162 | C4: ='Charges statutaires'!C4/1850 -> 21.817949 | D4: ='Charges statutaires'!D4/1850 -> 23.344134 | E4: ='Charges statutaires'!E4/1850 -> 25.266559 | F4: ='Charges statutaires'!F4/1850 -> 19.838215 | G4: ='Charges statutaires'!G4/1850 -> 23.590761 | H4: ='Charges statutaires'!H4/1850 -> 26.417568 | I4: ='Charges statutaires'!I4/1850 -> 29.566792 | ... AF4: ='Charges statutaires'!AF4/1850 -> 81.471507
A5: 3 | B5: ='Charges statutaires'!B5/1850 -> 19.049095 | C5: ='Charges statutaires'!C5/1850 -> 22.000154 | D5: ='Charges statutaires'!D5/1850 -> 23.52634 | E5: ='Charges statutaires'!E5/1850 -> 25.448765 | F5: ='Charges statutaires'!F5/1850 -> 20.185888 | G5: ='Charges statutaires'!G5/1850 -> 23.938433 | H5: ='Charges statutaires'!H5/1850 -> 26.76524 | I5: ='Charges statutaires'!I5/1850 -> 29.914465 | ... AF5: ='Charges statutaires'!AF5/1850 -> 82.282582
A6: 4 | B6: ='Charges statutaires'!B6/1850 -> 19.049095 | C6: ='Charges statutaires'!C6/1850 -> 22.000154 | D6: ='Charges statutaires'!D6/1850 -> 23.52634 | E6: ='Charges statutaires'!E6/1850 -> 25.448765 | F6: ='Charges statutaires'!F6/1850 -> 20.185888 | G6: ='Charges statutaires'!G6/1850 -> 23.938433 | H6: ='Charges statutaires'!H6/1850 -> 26.76524 | I6: ='Charges statutaires'!I6/1850 -> 29.914465 | ... AF6: ='Charges statutaires'!AF6/1850 -> 82.282582
A7: 5 | B7: ='Charges statutaires'!B7/1850 -> 19.124752 | C7: ='Charges statutaires'!C7/1850 -> 22.253349 | D7: ='Charges statutaires'!D7/1850 -> 23.779534 | E7: ='Charges statutaires'!E7/1850 -> 25.701959 | F7: ='Charges statutaires'!F7/1850 -> 20.53356 | G7: ='Charges statutaires'!G7/1850 -> 24.286105 | H7: ='Charges statutaires'!H7/1850 -> 27.112913 | I7: ='Charges statutaires'!I7/1850 -> 30.262137 | ... AF7: ='Charges statutaires'!AF7/1850 -> 84.374352
A8: 6 | B8: ='Charges statutaires'!B8/1850 -> 19.450405 | C8: ='Charges statutaires'!C8/1850 -> 22.579001 | D8: ='Charges statutaires'!D8/1850 -> 24.105187 | E8: ='Charges statutaires'!E8/1850 -> 26.027612 | F8: ='Charges statutaires'!F8/1850 -> 20.859213 | G8: ='Charges statutaires'!G8/1850 -> 24.611758 | H8: ='Charges statutaires'!H8/1850 -> 27.438566 | I8: ='Charges statutaires'!I8/1850 -> 30.58779 | ... AF8: ='Charges statutaires'!AF8/1850 -> 84.700005
A9: 7 | B9: ='Charges statutaires'!B9/1850 -> 19.526063 | C9: ='Charges statutaires'!C9/1850 -> 22.407431 | D9: ='Charges statutaires'!D9/1850 -> 24.358382 | E9: ='Charges statutaires'!E9/1850 -> 26.280806 | F9: ='Charges statutaires'!F9/1850 -> 21.32268 | G9: ='Charges statutaires'!G9/1850 -> 24.650449 | H9: ='Charges statutaires'!H9/1850 -> 27.902033 | I9: ='Charges statutaires'!I9/1850 -> 31.051258 | ... AF9: ='Charges statutaires'!AF9/1850 -> 86.791775
A10: 8 | B10: ='Charges statutaires'!B10/1850 -> 19.526063 | C10: ='Charges statutaires'!C10/1850 -> 22.407431 | D10: ='Charges statutaires'!D10/1850 -> 24.358382 | E10: ='Charges statutaires'!E10/1850 -> 26.280806 | F10: ='Charges statutaires'!F10/1850 -> 21.32268 | G10: ='Charges statutaires'!G10/1850 -> 24.650449 | H10: ='Charges statutaires'!H10/1850 -> 27.902033 | I10: ='Charges statutaires'!I10/1850 -> 31.051258 | ... AF10: ='Charges statutaires'!AF10/1850 -> 86.791775
A11: 9 | B11: ='Charges statutaires'!B11/1850 -> 19.604621 | C11: ='Charges statutaires'!C11/1850 -> 22.660625 | D11: ='Charges statutaires'!D11/1850 -> 24.611576 | E11: ='Charges statutaires'!E11/1850 -> 26.534001 | F11: ='Charges statutaires'!F11/1850 -> 22.249564 | G11: ='Charges statutaires'!G11/1850 -> 25.577333 | H11: ='Charges statutaires'!H11/1850 -> 28.828917 | I11: ='Charges statutaires'!I11/1850 -> 31.978141 | ... AF11: ='Charges statutaires'!AF11/1850 -> 88.883545
A12: 10 | B12: ='Charges statutaires'!B12/1850 -> 19.604621 | C12: ='Charges statutaires'!C12/1850 -> 22.660625 | D12: ='Charges statutaires'!D12/1850 -> 24.611576 | E12: ='Charges statutaires'!E12/1850 -> 26.534001 | F12: ='Charges statutaires'!F12/1850 -> 22.249564 | G12: ='Charges statutaires'!G12/1850 -> 25.577333 | H12: ='Charges statutaires'!H12/1850 -> 28.828917 | I12: ='Charges statutaires'!I12/1850 -> 31.978141 | ... AF12: ='Charges statutaires'!AF12/1850 -> 88.883545
A13: 11 | B13: ='Charges statutaires'!B13/1850 -> 19.857816 | C13: ='Charges statutaires'!C13/1850 -> 22.91382 | D13: ='Charges statutaires'!D13/1850 -> 24.86477 | E13: ='Charges statutaires'!E13/1850 -> 26.787195 | F13: ='Charges statutaires'!F13/1850 -> 22.751683 | G13: ='Charges statutaires'!G13/1850 -> 26.504216 | H13: ='Charges statutaires'!H13/1850 -> 29.755801 | I13: ='Charges statutaires'!I13/1850 -> 32.905025 | ... AF13: ='Charges statutaires'!AF13/1850 -> 90.975315
... A32: 30 | B32: ='Charges statutaires'!B32/1850 -> 24.161596 | C32: ='Charges statutaires'!C32/1850 -> 27.217588 | D32: ='Charges statutaires'!D32/1850 -> 29.168538 | E32: ='Charges statutaires'!E32/1850 -> 31.51574 | F32: ='Charges statutaires'!F32/1850 -> 30.929193 | G32: ='Charges statutaires'!G32/1850 -> 35.106504 | H32: ='Charges statutaires'!H32/1850 -> 38.358088 | I32: ='Charges statutaires'!I32/1850 -> 41.507312 | ... AF32: ='Charges statutaires'!AF32/1850 -> 104.82855
B38: 1850e = Article 9 de l'Arrêté du Gouvernement wallon réglant la valorisation des prestations irrégulières et des prestations de garde et de rappel et l'octroi d'allocations relatives à des travaux spécifiques du 14 juin 2001.
B39: https://wallex.wallonie.be/eli/arrete/2001/06/14/2001027397/2000/04/01

Sheet Coûts contractuels 1850e
B1: D3 | C1: D2 | D1: D1bis | E1: D1 | F1: C3 | G1: C2 | H1: C1bis | I1: C1 | J1: B3/1 | K1: B3/2 | L1: B2/1 | M1: B2/2 | N1: B1/1bis | O1: B1/2bis | P1: B1 | Q1: A6/1 | R1: A6/2 A6Sc | S1: A5/1 | T1: A5/2 A5Sc | U1: A5/1bis | V1: A5/2bis A5Sc/bis | W1: A4/1 | X1: A4/2 | Y1: A4Sc | Z1: A3 | AA1: A3M | AB1: Abis | AC1: A2 | AD1: A2M | AE1: A1 | AF1: A1M
A2: 0 | B2: ='Charges contractuels'!B2/1850 -> 21.874524 | C2: ='Charges contractuels'!C2/1850 -> 25.198542 | D2: ='Charges contractuels'!D2/1850 -> 26.930859 | E2: ='Charges contractuels'!E2/1850 -> 29.126089 | F2: ='Charges contractuels'!F2/1850 -> 22.499052 | G2: ='Charges contractuels'!G2/1850 -> 26.832365 | H2: ='Charges contractuels'!H2/1850 -> 30.084162 | I2: ='Charges contractuels'!I2/1850 -> 33.763317 | ... AF2: ='Charges contractuels'!AF2/1850 -> 93.319451
A3: 1 | B3: ='Charges contractuels'!B3/1850 -> 22.046181 | C3: ='Charges contractuels'!C3/1850 -> 25.411408 | D3: ='Charges contractuels'!D3/1850 -> 27.143725 | E3: ='Charges contractuels'!E3/1850 -> 29.338955 | F3: ='Charges contractuels'!F3/1850 -> 22.905228 | G3: ='Charges contractuels'!G3/1850 -> 27.238541 | H3: ='Charges contractuels'!H3/1850 -> 30.490338 | I3: ='Charges contractuels'!I3/1850 -> 34.169493 | ... AF3: ='Charges contractuels'!AF3/1850 -> 94.267008
A4: 2 | B4: ='Charges contractuels'!B4/1850 -> 22.217839 | C4: ='Charges contractuels'!C4/1850 -> 25.624275 | D4: ='Charges contractuels'!D4/1850 -> 27.356591 | E4: ='Charges contractuels'!E4/1850 -> 29.551822 | F4: ='Charges contractuels'!F4/1850 -> 23.311405 | G4: ='Charges contractuels'!G4/1850 -> 27.644718 | H4: ='Charges contractuels'!H4/1850 -> 30.896515 | I4: ='Charges contractuels'!I4/1850 -> 34.57567 | ... AF4: ='Charges contractuels'!AF4/1850 -> 95.214566
A5: 3 | B5: ='Charges contractuels'!B5/1850 -> 22.389496 | C5: ='Charges contractuels'!C5/1850 -> 25.837141 | D5: ='Charges contractuels'!D5/1850 -> 27.569457 | E5: ='Charges contractuels'!E5/1850 -> 29.764688 | F5: ='Charges contractuels'!F5/1850 -> 23.717581 | G5: ='Charges contractuels'!G5/1850 -> 28.050894 | H5: ='Charges contractuels'!H5/1850 -> 31.302691 | I5: ='Charges contractuels'!I5/1850 -> 34.981846 | ... AF5: ='Charges contractuels'!AF5/1850 -> 96.162123
A6: 4 | B6: ='Charges contractuels'!B6/1850 -> 22.389496 | C6: ='Charges contractuels'!C6/1850 -> 25.837141 | D6: ='Charges contractuels'!D6/1850 -> 27.569457 | E6: ='Charges contractuels'!E6/1850 -> 29.764688 | F6: ='Charges contractuels'!F6/1850 -> 23.717581 | G6: ='Charges contractuels'!G6/1850 -> 27.503952 | H6: ='Charges contractuels'!H6/1850 -> 31.302691 | I6: ='Charges contractuels'!I6/1850 -> 34.981846 | ... AF6: ='Charges contractuels'!AF6/1850 -> 96.162123
A7: 5 | B7: ='Charges contractuels'!B7/1850 -> 22.477885 | C7: ='Charges contractuels'!C7/1850 -> 26.132941 | D7: ='Charges contractuels'!D7/1850 -> 27.865257 | E7: ='Charges contractuels'!E7/1850 -> 30.060488 | F7: ='Charges contractuels'!F7/1850 -> 24.123757 | G7: ='Charges contractuels'!G7/1850 -> 27.910128 | H7: ='Charges contractuels'!H7/1850 -> 31.708867 | I7: ='Charges contractuels'!I7/1850 -> 35.388022 | ... AF7: ='Charges contractuels'!AF7/1850 -> 98.605883
A8: 6 | B8: ='Charges contractuels'!B8/1850 -> 22.858337 | C8: ='Charges contractuels'!C8/1850 -> 25.966465 | D8: ='Charges contractuels'!D8/1850 -> 28.245709 | E8: ='Charges contractuels'!E8/1850 -> 30.440939 | F8: ='Charges contractuels'!F8/1850 -> 24.504209 | G8: ='Charges contractuels'!G8/1850 -> 28.290579 | H8: ='Charges contractuels'!H8/1850 -> 32.089319 | I8: ='Charges contractuels'!I8/1850 -> 35.768474 | ... AF8: ='Charges contractuels'!AF8/1850 -> 98.986334
A9: 7 | B9: ='Charges contractuels'!B9/1850 -> 22.946726 | C9: ='Charges contractuels'!C9/1850 -> 26.262265 | D9: ='Charges contractuels'!D9/1850 -> 28.541509 | E9: ='Charges contractuels'!E9/1850 -> 30.73674 | F9: ='Charges contractuels'!F9/1850 -> 25.045666 | G9: ='Charges contractuels'!G9/1850 -> 28.832036 | H9: ='Charges contractuels'!H9/1850 -> 32.630776 | I9: ='Charges contractuels'!I9/1850 -> 36.309931 | ... AF9: ='Charges contractuels'!AF9/1850 -> 101.43009
A10: 8 | B10: ='Charges contractuels'!B10/1850 -> 22.946726 | C10: ='Charges contractuels'!C10/1850 -> 26.262265 | D10: ='Charges contractuels'!D10/1850 -> 28.541509 | E10: ='Charges contractuels'!E10/1850 -> 30.73674 | F10: ='Charges contractuels'!F10/1850 -> 25.045666 | G10: ='Charges contractuels'!G10/1850 -> 28.832036 | H10: ='Charges contractuels'!H10/1850 -> 32.630776 | I10: ='Charges contractuels'!I10/1850 -> 36.309931 | ... AF10: ='Charges contractuels'!AF10/1850 -> 101.43009
A11: 9 | B11: ='Charges contractuels'!B11/1850 -> 23.038503 | C11: ='Charges contractuels'!C11/1850 -> 26.558066 | D11: ='Charges contractuels'!D11/1850 -> 28.837309 | E11: ='Charges contractuels'!E11/1850 -> 31.03254 | F11: ='Charges contractuels'!F11/1850 -> 26.128519 | G11: ='Charges contractuels'!G11/1850 -> 29.91489 | H11: ='Charges contractuels'!H11/1850 -> 33.713629 | I11: ='Charges contractuels'!I11/1850 -> 37.392784 | ... AF11: ='Charges contractuels'!AF11/1850 -> 103.87385
A12: 10 | B12: ='Charges contractuels'!B12/1850 -> 23.038503 | C12: ='Charges contractuels'!C12/1850 -> 26.558066 | D12: ='Charges contractuels'!D12/1850 -> 28.837309 | E12: ='Charges contractuels'!E12/1850 -> 31.03254 | F12: ='Charges contractuels'!F12/1850 -> 26.128519 | G12: ='Charges contractuels'!G12/1850 -> 29.91489 | H12: ='Charges contractuels'!H12/1850 -> 33.713629 | I12: ='Charges contractuels'!I12/1850 -> 37.392784 | ... AF12: ='Charges contractuels'!AF12/1850 -> 103.87385
A13: 11 | B13: ='Charges contractuels'!B13/1850 -> 23.334303 | C13: ='Charges contractuels'!C13/1850 -> 26.853866 | D13: ='Charges contractuels'!D13/1850 -> 29.133109 | E13: ='Charges contractuels'!E13/1850 -> 31.32834 | F13: ='Charges contractuels'!F13/1850 -> 26.664445 | G13: ='Charges contractuels'!G13/1850 -> 30.997743 | H13: ='Charges contractuels'!H13/1850 -> 34.796483 | I13: ='Charges contractuels'!I13/1850 -> 38.475638 | ... AF13: ='Charges contractuels'!AF13/1850 -> 106.31761
... A32: 30 | B32: ='Charges contractuels'!B32/1850 -> 28.311609 | C32: ='Charges contractuels'!C32/1850 -> 31.831156 | D32: ='Charges contractuels'!D32/1850 -> 34.1104 | E32: ='Charges contractuels'!E32/1850 -> 36.852573 | F32: ='Charges contractuels'!F32/1850 -> 36.167326 | G32: ='Charges contractuels'!G32/1850 -> 41.047567 | H32: ='Charges contractuels'!H32/1850 -> 44.846306 | I32: ='Charges contractuels'!I32/1850 -> 48.525461 | ... AF32: ='Charges contractuels'!AF32/1850 -> 122.50197
B38: 1850e = Article 9 de l'Arrêté du Gouvernement wallon réglant la valorisation des prestations irrégulières et des prestations de garde et de rappel et l'octroi d'allocations relatives à des travaux spécifiques du 14 juin 2001.
B39: https://wallex.wallonie.be/eli/arrete/2001/06/14/2001027397/2000/04/01

Sheet Paramètres
A1: Calcul d'une charge budgétaire annuelle
A4: Index | B4: 44927 | C4: 1.9999
A5: PV | B5: 39083 | C5: 0 | D5: =0.92/12 -> 0.076666667 | E5: 0.8693
A6: AFA | B6: 44927 | C6: 900.8843 | D6: 0.025
A7: Complément | B7: 44927 | C7: 477.7732 | D7: =+C9-1 -> 0.1115 | E7: =D7*C7 -> 53.271712
A9: Statutaires | B9: 44593 | C9: 1.1115
A10: Contractuels | B10: 44593 | C10: 1.3063
A11: ACS | B11: 42917 | C11: 1.0728
A13: Agents statutaires
A15: =CONCATENATE("(Bar * ",C9," + FR) * ",C4," + (",C5," + (Bar + FR) * ",C4," * ",D5,") * ",E5," + ",C6," + (Bar + FR) * ",C4," * ",D6," + ",E7) -> (Bar * 1,1115 + FR) * 1,9999 + (0 + (Bar + FR) * 1,9999 * 0,0766666666666667) * 0,8693 + 900,8843 + (Bar + FR) * 1,9999 * 0,025 + 53,2717118
A16: =CONCATENATE(C9*C4+D5*C4*E5+D6*C4," Bar + ",C4+C4*D5*E5+C4*D6," FR + ",C6+E7+C5*E5) -> 2,40617235203333 Bar + 2,18318350203333 FR + 954,1560118
A18: Coef 1 | B18: Coef 2 | C18: Coef 3 | D18: Foyer | E18: Foyer dégr.
A19: =C9*C4+D5*C4*E5+D6*C4 -> 2.4061724 | B19: =C4+C4*D5*E5+C4*D6 -> 2.1831835 | C19: =C6+E7+C5*E5 -> 954.15601 | D19: 719.89 | E19: 359.95
A21: Agents contractuels
A23: =CONCATENATE("(Bar + FR) * ",C4," * ",C10," + (",C5," + ","(Bar + FR) * ",C4," * ",D5,") * ",E5," + (",C6," + (Bar + FR) * ",C4," * ",D6,") * ",C10) -> (Bar + FR) * 1,9999 * 1,3063 + (0 + (Bar + FR) * 1,9999 * 0,0766666666666667) * 0,8693 + (900,8843 + (Bar + FR) * 1,9999 * 0,025) * 1,3063
A24: =CONCATENATE(C4*C10+C4*D5*E5+C4*D6*C10," (Bar + FR) + ",C5*E5+C6*C10) -> 2,81106710628333 (Bar + FR) + 1176,82516109
A26: Coef 1 | B26: Coef 2 | C26: Foyer | D26: Foyer dégr.
A27: =C4*C10+C4*D5*E5+C4*D6*C10 -> 2.8110671 | B27: =C5*E5+C6*C10 -> 1176.8252 | C27: 719.89 | D27: 359.95
A29: Agents contractuels subventionnés
A31: =CONCATENATE("(Bar + FR) * ",C4," * ",C11," + (",C5," + ","(Bar + FR) * ",C4," * ",D5,") * ",E5," + (",C6," + (Bar + FR) * ",C4," * ",D6,") * ",C11) -> (Bar + FR) * 1,9999 * 1,0728 + (0 + (Bar + FR) * 1,9999 * 0,0766666666666667) * 0,8693 + (900,8843 + (Bar + FR) * 1,9999 * 0,025) * 1,0728
A32: =CONCATENATE(C4*C11+C4*D5*E5+C4*D6*C11," (Bar + FR) + ",C5*E5+C6*C11) -> 2,33241604003333 (Bar + FR) + 966,46867704
