Workbook

Sheet Barèmes
A1: Anc. | B1: D3 | C1: D2 | D1: D1bis | E1: D1 | F1: C3 | G1: C2 | H1: C1bis | I1: C1 | J1: B3/1 | K1: B3/2 | L1: B2/1 | M1: B2/2 | N1: B1/1bis | O1: B1/2bis | P1: B1 | Q1: A6/1 | R1: A6/2 A6Sc | S1: A5/1 | T1: A5/2 A5Sc | U1: A5/1bis | V1: A5/2bis A5Sc/bis | W1: A4/1 | X1: A4/2 | Y1: A4Sc | Z1: A3 | AA1: A3M | AB1: Abis | AC1: A2 | AD1: A2M | AE1: A1 | AF1: A1M
A2: 0 | B2: 13257.38 | C2: 15444.96 | D2: =C2+1500 -> 16944.96 | E2: 18749.62 | F2: 13668.39 | G2: 16880.14 | H2: =G2+2500 -> 19380.14 | I2: 21801.44 | J2: 18134.78 | K2: 21438.83 | L2: =18745.74+600 -> 19345.74 | M2: 21645.74 | N2: =L2+2500 -> 21845.74 | O2: 24145.74 | P2: 24986.67 | Q2: 21112.38 | R2: 26619.13 | S2: 25507.13 | T2: 31535.34 | U2: 28007.13 | V2: 34035.34 | W2: 32734.24 | X2: 33478.24 | Y2: 35762.53 | Z2: 40790.86 | AA2: =Z2+6500 -> 47290.86 | AB2: 46166.58 | AC2: 46910.59 | AD2: =AC2+8510 -> 55420.59 | AE2: 52486.11 | AF2: =AE2+8510 -> 60996.11
A3: 1 | B3: =B2+112.97 -> 13370.35 | C3: =C2+140.09 -> 15585.05 | D3: =D2+140.09 -> 17085.05 | E3: =E2+140.09 -> 18889.71 | F3: =F2+267.31 -> 13935.7 | G3: =G2+267.31 -> 17147.45 | H3: =H2+267.31 -> 19647.45 | I3: =I2+267.31 -> 22068.75 | J3: 18386.96 | K3: 21691.01 | L3: =L2+252.18 -> 19597.92 | M3: =M2+252.18 -> 21897.92 | N3: =N2+252.18 -> 22097.92 | O3: =O2+252.18 -> 24397.92 | P3: =P2+252.18 -> 25238.85 | Q3: =Q2+623.6 -> 21735.98 | R3: =R2+623.6 -> 27242.73 | S3: =S2+623.6 -> 26130.73 | T3: =T2+623.6 -> 32158.94 | U3: =U2+623.6 -> 28630.73 | V3: =V2+623.6 -> 34658.94 | W3: =W2+623.6 -> 33357.84 | X3: =X2+623.6 -> 34101.84 | ... Z3: =Z2+623.6 -> 41414.46 | AA3: =Z3+6500 -> 47914.46 | AB3: =AB2+623.6 -> 46790.18 | AC3: =AC2+623.6 -> 47534.19 | AD3: =AC3+8510 -> 56044.19 | AE3: =AE2+623.6 -> 53109.71 | AF3: =AE3+8510 -> 61619.71
A4: 2 | B4: =B3+112.97 -> 13483.32 | C4: =C3+140.09 -> 15725.14 | D4: =D3+140.09 -> 17225.14 | E4: =E3+140.09 -> 19029.8 | F4: =F3+267.31 -> 14203.01 | G4: =G3+267.31 -> 17414.76 | H4: =H3+267.31 -> 19914.76 | I4: =I3+267.31 -> 22336.06 | J4: 18639.14 | K4: 21943.19 | L4: =L3+252.18 -> 19850.1 | M4: =M3+252.18 -> 22150.1 | N4: =N3+252.18 -> 22350.1 | O4: =O3+252.18 -> 24650.1 | P4: =P3+252.18 -> 25491.03 | Q4: =Q3+623.6 -> 22359.58 | R4: =R3+623.6 -> 27866.33 | S4: =S3+623.6 -> 26754.33 | T4: =T3+623.6 -> 32782.54 | U4: =U3+623.6 -> 29254.33 | V4: =V3+623.6 -> 35282.54 | W4: =W3+623.6 -> 33981.44 | X4: =X3+623.6 -> 34725.44 | ... Z4: =Z3+623.6 -> 42038.06 | AA4: =Z4+6500 -> 48538.06 | AB4: =AB3+623.6 -> 47413.78 | AC4: =AC3+623.6 -> 48157.79 | AD4: =AC4+8510 -> 56667.79 | AE4: =AE3+623.6 -> 53733.31 | AF4: =AE4+8510 -> 62243.31
A5: 3 | B5: =B4+112.97 -> 13596.29 | C5: =C4+140.09 -> 15865.23 | D5: =D4+140.09 -> 17365.23 | E5: =E4+140.09 -> 19169.89 | F5: =F4+267.31 -> 14470.32 | G5: =G4+267.31 -> 17682.07 | H5: =H4+267.31 -> 20182.07 | I5: =I4+267.31 -> 22603.37 | J5: 18891.32 | K5: 22195.37 | L5: =L4+252.18 -> 20102.28 | M5: =M4+252.18 -> 22402.28 | N5: =N4+252.18 -> 22602.28 | O5: =O4+252.18 -> 24902.28 | P5: =P4+252.18 -> 25743.21 | Q5: =Q4+623.6 -> 22983.18 | R5: =R4+623.6 -> 28489.93 | S5: =S4+623.6 -> 27377.93 | T5: =T4+623.6 -> 33406.14 | U5: =U4+623.6 -> 29877.93 | V5: =V4+623.6 -> 35906.14 | W5: =W4+623.6 -> 34605.04 | X5: =X4+623.6 -> 35349.04 | ... Z5: =Z4+623.6 -> 42661.66 | AA5: =Z5+6500 -> 49161.66 | AB5: =AB4+623.6 -> 48037.38 | AC5: =AC4+623.6 -> 48781.39 | AD5: =AC5+8510 -> 57291.39 | AE5: =AE4+623.6 -> 54356.91 | AF5: =AE5+8510 -> 62866.91
A6: 4 | B6: =B5 -> 13596.29 | C6: =C5 -> 15865.23 | D6: =D5 -> 17365.23 | E6: =E5 -> 19169.89 | F6: =F5 -> 14470.32 | G6: =G5 -> 17682.07 | H6: =H5 -> 20182.07 | I6: =I5 -> 22603.37 | J6: 18891.32 | K6: 22195.37 | L6: =L5 -> 20102.28 | M6: =M5 -> 22402.28 | N6: =N5 -> 22602.28 | O6: =O5 -> 24902.28 | P6: =P5 -> 25743.21 | Q6: =Q5 -> 22983.18 | R6: =R5 -> 28489.93 | S6: =S5 -> 27377.93 | ... Z6: =Z5 -> 42661.66 | AA6: =Z6+6500 -> 49161.66 | AB6: =AB5 -> 48037.38 | AC6: =AC5 -> 48781.39 | AD6: =AC6+8510 -> 57291.39 | AE6: =AE5 -> 54356.91 | AF6: =AE6+8510 -> 62866.91
A7: 5 | B7: =B6+58.17 -> 13654.46 | C7: =C6+194.67 -> 16059.9 | D7: =D6+194.67 -> 17559.9 | E7: =E6+194.67 -> 19364.56 | F7: =F6+267.31 -> 14737.63 | G7: =G6+267.31 -> 17949.38 | H7: =H6+267.31 -> 20449.38 | I7: =I6+267.31 -> 22870.68 | J7: 19183.91 | K7: 22487.96 | L7: =L6+292.59 -> 20394.87 | M7: =M6+292.59 -> 22694.87 | N7: =N6+292.59 -> 22894.87 | O7: =O6+292.59 -> 25194.87 | P7: =P6+292.59 -> 26035.8 | Q7: =Q6+957.68 -> 23940.86 | R7: =R6+957.68 -> 29447.61 | S7: =S6+1135.17 -> 28513.1 | T7: =T6+957.68 -> 34363.82 | U7: =U6+1135.17 -> 31013.1 | V7: =V6+957.68 -> 36863.82 | W7: =W6+1260.36 -> 35865.4 | X7: =X6+1260.36 -> 36609.4 | Y7: =Y6+1260.36 -> 38893.69 | Z7: =Z6+1260.36 -> 43922.02 | AA7: =Z7+6500 -> 50422.02 | AB7: =AB6+1608.27 -> 49645.65 | AC7: =AC6+1608.27 -> 50389.66 | AD7: =AC7+8510 -> 58899.66 | AE7: =AE6+1608.27 -> 55965.18 | AF7: =AE7+8510 -> 64475.18
A8: 6 | B8: =B7+250.38 -> 13904.84 | C8: =C7+250.38 -> 16310.28 | D8: =D7+250.38 -> 17810.28 | E8: =E7+250.38 -> 19614.94 | F8: =F7+250.38 -> 14988.01 | G8: =G7+250.38 -> 18199.76 | H8: =H7+250.38 -> 20699.76 | I8: =I7+250.38 -> 23121.06 | J8: 19434.29 | K8: 22738.34 | L8: =L7+250.38 -> 20645.25 | M8: =M7+250.38 -> 22945.25 | N8: =N7+250.38 -> 23145.25 | O8: =O7+250.38 -> 25445.25 | P8: =P7+250.38 -> 26286.18 | Q8: =Q7+250.38 -> 24191.24 | R8: =R7+250.38 -> 29697.99 | S8: =S7+250.38 -> 28763.48 | ... Z8: =Z7+250.38 -> 44172.4 | AA8: =Z8+6500 -> 50672.4 | AB8: =AB7+250.38 -> 49896.03 | AC8: =AC7+250.38 -> 50640.04 | AD8: =AC8+8510 -> 59150.04 | AE8: =AE7+250.38 -> 56215.56 | AF8: =AE8+8510 -> 64725.56
A9: 7 | B9: =B8+58.17 -> 13963.01 | C9: =C8+194.67 -> 16504.95 | D9: =D8+194.67 -> 18004.95 | E9: =E8+194.67 -> 19809.61 | F9: =F8+356.34 -> 15344.35 | G9: =G8+356.34 -> 18556.1 | H9: =H8+356.34 -> 21056.1 | I9: =I8+356.34 -> 23477.4 | J9: 19824.32 | K9: 23128.37 | L9: =L8+390.03 -> 21035.28 | M9: =M8+390.03 -> 23335.28 | N9: =N8+390.03 -> 23535.28 | O9: =O8+390.03 -> 25835.28 | P9: =P8+390.03 -> 26676.21 | Q9: =Q8+957.68 -> 25148.92 | R9: =R8+957.68 -> 30655.67 | S9: =S8+1135.17 -> 29898.65 | T9: =T8+957.68 -> 35571.88 | U9: =U8+1135.17 -> 32398.65 | V9: =V8+957.68 -> 38071.88 | W9: =W8+1260.36 -> 37376.14 | X9: =X8+1260.36 -> 38120.14 | Y9: =Y8+1260.36 -> 40404.43 | Z9: =Z8+1260.36 -> 45432.76 | AA9: =Z9+6500 -> 51932.76 | AB9: =AB8+1608.27 -> 51504.3 | AC9: =AC8+1608.27 -> 52248.31 | AD9: =AC9+8510 -> 60758.31 | AE9: =AE8+1608.27 -> 57823.83 | AF9: =AE9+8510 -> 66333.83
A10: 8 | B10: =B9 -> 13963.01 | C10: =C9 -> 16504.95 | D10: =D9 -> 18004.95 | E10: =E9 -> 19809.61 | F10: =F9 -> 15344.35 | G10: =G9 -> 18556.1 | H10: =H9 -> 21056.1 | I10: =I9 -> 23477.4 | J10: 19824.32 | K10: 23128.37 | L10: =L9 -> 21035.28 | M10: =M9 -> 23335.28 | N10: =N9 -> 23535.28 | O10: =O9 -> 25835.28 | P10: =P9 -> 26676.21 | Q10: =Q9 -> 25148.92 | R10: =R9 -> 30655.67 | S10: =S9 -> 29898.65 | ... Z10: =Z9 -> 45432.76 | AA10: =Z10+6500 -> 51932.76 | AB10: =AB9 -> 51504.3 | AC10: =AC9 -> 52248.31 | AD10: =AC10+8510 -> 60758.31 | AE10: =AE9 -> 57823.83 | AF10: =AE10+8510 -> 66333.83
A11: 9 | B11: =B10+60.4 -> 14023.41 | C11: =C10+194.67 -> 16699.62 | D11: =D10+194.67 -> 18199.62 | E11: =E10+194.67 -> 20004.28 | F11: =F10+712.64 -> 16056.99 | G11: =G10+712.64 -> 19268.74 | H11: =H10+712.64 -> 21768.74 | I11: =I10+712.64 -> 24190.04 | J11: 20496.63 | K11: 23800.68 | L11: =L10+672.31 -> 21707.59 | M11: =M10+672.31 -> 24007.59 | N11: =N10+672.31 -> 24207.59 | O11: =O10+672.31 -> 26507.59 | P11: =P10+672.31 -> 27348.52 | Q11: =Q10+957.68 -> 26106.6 | R11: =R10+957.68 -> 31613.35 | S11: =S10+1135.17 -> 31033.82 | T11: =T10+957.68 -> 36529.56 | U11: =U10+1135.17 -> 33533.82 | V11: =V10+957.68 -> 39029.56 | W11: =W10+1260.36 -> 38636.5 | X11: =X10+1260.36 -> 39380.5 | Y11: =Y10+1260.36 -> 41664.79 | Z11: =Z10+1260.36 -> 46693.12 | AA11: =Z11+6500 -> 53193.12 | AB11: =AB10+1608.27 -> 53112.57 | AC11: =AC10+1608.27 -> 53856.58 | AD11: =AC11+8510 -> 62366.58 | AE11: =AE10+1608.27 -> 59432.1 | AF11: =AE11+8510 -> 67942.1
A12: 10 | B12: =B11 -> 14023.41 | C12: =C11 -> 16699.62 | D12: =D11 -> 18199.62 | E12: =E11 -> 20004.28 | F12: =F11 -> 16056.99 | G12: =G11 -> 19268.74 | H12: =H11 -> 21768.74 | I12: =I11 -> 24190.04 | J12: 20496.63 | K12: 23800.68 | L12: =L11 -> 21707.59 | M12: =M11 -> 24007.59 | N12: =N11 -> 24207.59 | O12: =O11 -> 26507.59 | P12: =P11 -> 27348.52 | Q12: =Q11 -> 26106.6 | R12: =R11 -> 31613.35 | S12: =S11 -> 31033.82 | ... Z12: =Z11 -> 46693.12 | AA12: =Z12+6500 -> 53193.12 | AB12: =AB11 -> 53112.57 | AC12: =AC11 -> 53856.58 | AD12: =AC12+8510 -> 62366.58 | AE12: =AE11 -> 59432.1 | AF12: =AE12+8510 -> 67942.1
A13: 11 | B13: =B12+194.67 -> 14218.08 | C13: =C12+194.67 -> 16894.29 | D13: =D12+194.67 -> 18394.29 | E13: =E12+194.67 -> 20198.95 | F13: =F12+712.64 -> 16769.63 | G13: =G12+712.64 -> 19981.38 | H13: =H12+712.64 -> 22481.38 | I13: =I12+712.64 -> 24902.68 | J13: 21168.94 | K13: 24472.99 | L13: =L12+672.31 -> 22379.9 | M13: =M12+672.31 -> 24679.9 | N13: =N12+672.31 -> 24879.9 | O13: =O12+672.31 -> 27179.9 | P13: =P12+672.31 -> 28020.83 | Q13: =Q12+957.68 -> 27064.28 | R13: =R12+957.68 -> 32571.03 | S13: =S12+1135.17 -> 32168.99 | T13: =T12+957.68 -> 37487.24 | U13: =U12+1135.17 -> 34668.99 | V13: =V12+957.68 -> 39987.24 | W13: =W12+1260.36 -> 39896.86 | X13: =X12+1260.36 -> 40640.86 | Y13: =Y12+1260.36 -> 42925.15 | Z13: =Z12+1260.36 -> 47953.48 | AA13: =Z13+6500 -> 54453.48 | AB13: =AB12+1608.27 -> 54720.84 | AC13: =AC12+1608.27 -> 55464.85 | AD13: =AC13+8510 -> 63974.85 | AE13: =AE12+1608.27 -> 61040.37 | AF13: =AE13+8510 -> 69550.37
A14: 12 | B14: =B13+250.38 -> 14468.46 | C14: =C13+250.38 -> 17144.67 | D14: =D13+250.38 -> 18644.67 | E14: =E13+250.38 -> 20449.33 | F14: =F13+250.38 -> 17020.01 | G14: =G13+250.38 -> 20231.76 | H14: =H13+250.38 -> 22731.76 | I14: =I13+250.38 -> 25153.06 | J14: 21419.32 | K14: 24723.37 | L14: =L13+250.38 -> 22630.28 | M14: =M13+250.38 -> 24930.28 | N14: =N13+250.38 -> 25130.28 | O14: =O13+250.38 -> 27430.28 | P14: =P13+250.38 -> 28271.21 | Q14: =Q13+250.38 -> 27314.66 | R14: =R13+250.38 -> 32821.41 | S14: =S13+250.38 -> 32419.37 | ... Z14: =Z13+250.38 -> 48203.86 | AA14: =Z14+6500 -> 54703.86 | AB14: =AB13+250.38 -> 54971.22 | AC14: =AC13+250.38 -> 55715.23 | AD14: =AC14+8510 -> 64225.23 | AE14: =AE13+250.38 -> 61290.75 | AF14: =AE14+8510 -> 69800.75
A15: 13 | B15: =B14+194.67 -> 14663.13 | C15: =C14+194.67 -> 17339.34 | D15: =D14+194.67 -> 18839.34 | E15: =E14+194.67 -> 20644 | F15: =F14+623.6 -> 17643.61 | G15: =G14+623.6 -> 20855.36 | H15: =H14+623.6 -> 23355.36 | I15: =I14+623.6 -> 25776.66 | J15: 22007.62 | K15: 25311.67 | L15: =L14+588.3 -> 23218.58 | M15: =M14+588.3 -> 25518.58 | N15: =N14+588.3 -> 25718.58 | O15: =O14+588.3 -> 28018.58 | P15: =P14+588.3 -> 28859.51 | Q15: =Q14+957.68 -> 28272.34 | R15: =R14+957.68 -> 33779.09 | S15: =S14+1135.17 -> 33554.54 | T15: =T14+957.68 -> 38695.3 | U15: =U14+1135.17 -> 36054.54 | V15: =V14+957.68 -> 41195.3 | W15: =W14+1260.36 -> 41407.6 | X15: =X14+1260.36 -> 42151.6 | Y15: =Y14+1260.36 -> 44435.89 | Z15: =Z14+1260.36 -> 49464.22 | AA15: =Z15+6500 -> 55964.22 | AB15: =AB14+1608.27 -> 56579.49 | AC15: =AC14+1608.27 -> 57323.5 | AD15: =AC15+8510 -> 65833.5 | AE15: =AE14+1608.27 -> 62899.02 | AF15: =AE15+8510 -> 71409.02
A16: 14 | B16: =B15 -> 14663.13 | C16: =C15 -> 17339.34 | D16: =D15 -> 18839.34 | E16: =E15 -> 20644 | F16: =F15 -> 17643.61 | G16: =G15 -> 20855.36 | H16: =H15 -> 23355.36 | I16: =I15 -> 25776.66 | J16: 22007.62 | K16: 25311.67 | L16: =L15 -> 23218.58 | M16: =M15 -> 25518.58 | N16: =N15 -> 25718.58 | O16: =O15 -> 28018.58 | P16: =P15 -> 28859.51 | Q16: =Q15 -> 28272.34 | R16: =R15 -> 33779.09 | S16: =S15 -> 33554.54 | ... Z16: =Z15 -> 49464.22 | AA16: =Z16+6500 -> 55964.22 | AB16: =AB15 -> 56579.49 | AC16: =AC15 -> 57323.5 | AD16: =AC16+8510 -> 65833.5 | AE16: =AE15 -> 62899.02 | AF16: =AE16+8510 -> 71409.02
A17: 15 | B17: =B16+266.78 -> 14929.91 | C17: =C16+266.78 -> 17606.12 | D17: =D16+266.78 -> 19106.12 | E17: =E16+266.78 -> 20910.78 | F17: =F16+623.6 -> 18267.21 | G17: =G16+623.6 -> 21478.96 | H17: =H16+623.6 -> 23978.96 | I17: =I16+623.6 -> 26400.26 | J17: 22595.92 | K17: 25899.97 | L17: =L16+588.3 -> 23806.88 | M17: =M16+588.3 -> 26106.88 | N17: =N16+588.3 -> 26306.88 | O17: =O16+588.3 -> 28606.88 | P17: =P16+588.3 -> 29447.81 | Q17: =Q16+957.68 -> 29230.02 | R17: =R16+957.68 -> 34736.77 | S17: =S16+1135.17 -> 34689.71 | T17: =T16+957.68 -> 39652.98 | U17: =U16+1135.17 -> 37189.71 | V17: =V16+957.68 -> 42152.98 | W17: =W16+1260.36 -> 42667.96 | X17: =X16+1260.36 -> 43411.96 | Y17: =Y16+1260.36 -> 45696.25 | Z17: =Z16+1260.36 -> 50724.58 | AA17: =Z17+6500 -> 57224.58 | AB17: =AB16+1608.27 -> 58187.76 | AC17: =AC16+1608.27 -> 58931.77 | AD17: =AC17+8510 -> 67441.77 | AE17: =AE16+1608.27 -> 64507.29 | AF17: =AE17+8510 -> 73017.29
A18: 16 | B18: =B17 -> 14929.91 | C18: =C17 -> 17606.12 | D18: =D17 -> 19106.12 | E18: =E17 -> 20910.78 | F18: =F17 -> 18267.21 | G18: =G17 -> 21478.96 | H18: =H17 -> 23978.96 | I18: =I17 -> 26400.26 | J18: 22595.92 | K18: 25899.97 | L18: =L17 -> 23806.88 | M18: =M17 -> 26106.88 | N18: =N17 -> 26306.88 | O18: =O17 -> 28606.88 | P18: =P17 -> 29447.81 | Q18: =Q17 -> 29230.02 | R18: =R17 -> 34736.77 | S18: =S17 -> 34689.71 | ... Z18: =Z17 -> 50724.58 | AA18: =Z18+6500 -> 57224.58 | AB18: =AB17 -> 58187.76 | AC18: =AC17 -> 58931.77 | AD18: =AC18+8510 -> 67441.77 | AE18: =AE17 -> 64507.29 | AF18: =AE18+8510 -> 73017.29
A19: 17 | B19: =B18+266.78 -> 15196.69 | C19: =C18+266.78 -> 17872.9 | D19: =D18+266.78 -> 19372.9 | E19: =E18+266.78 -> 21177.56 | F19: =F18+623.6 -> 18890.81 | G19: =G18+623.6 -> 22102.56 | H19: =H18+623.6 -> 24602.56 | I19: =I18+623.6 -> 27023.86 | J19: 23184.22 | K19: 26488.27 | L19: =L18+588.3 -> 24395.18 | M19: =M18+588.3 -> 26695.18 | N19: =N18+588.3 -> 26895.18 | O19: =O18+588.3 -> 29195.18 | P19: =P18+588.3 -> 30036.11 | Q19: =Q18+957.68 -> 30187.7 | R19: =R18+957.68 -> 35694.45 | S19: =S18+1135.17 -> 35824.88 | T19: =T18+957.68 -> 40610.66 | U19: =U18+1135.17 -> 38324.88 | V19: =V18+957.68 -> 43110.66 | W19: =W18+1260.36 -> 43928.32 | X19: =X18+1260.36 -> 44672.32 | Y19: =Y18+1260.36 -> 46956.61 | Z19: =Z18+1260.36 -> 51984.94 | AA19: =Z19+6500 -> 58484.94 | AB19: =AB18+1608.27 -> 59796.03 | AC19: =AC18+1608.27 -> 60540.04 | AD19: =AC19+8510 -> 69050.04 | AE19: =AE18+1608.27 -> 66115.56 | AF19: =AE19+8510 -> 74625.56
A20: 18 | B20: =B19+250.38 -> 15447.07 | C20: =C19+250.38 -> 18123.28 | D20: =D19+250.38 -> 19623.28 | E20: =E19+250.38 -> 21427.94 | F20: =F19+250.38 -> 19141.19 | G20: =G19+250.38 -> 22352.94 | H20: =H19+250.38 -> 24852.94 | I20: =I19+250.38 -> 27274.24 | J20: 23434.6 | K20: 26738.65 | L20: =L19+250.38 -> 24645.56 | M20: =M19+250.38 -> 26945.56 | N20: =N19+250.38 -> 27145.56 | O20: =O19+250.38 -> 29445.56 | P20: =P19+250.38 -> 30286.49 | Q20: =Q19+250.38 -> 30438.08 | R20: =R19+250.38 -> 35944.83 | S20: =S19+250.38 -> 36075.26 | ... Z20: =Z19+250.38 -> 52235.32 | AA20: =Z20+6500 -> 58735.32 | AB20: =AB19+250.38 -> 60046.41 | AC20: =AC19+250.38 -> 60790.42 | AD20: =AC20+8510 -> 69300.42 | AE20: =AE19+250.38 -> 66365.94 | AF20: =AE20+8510 -> 74875.94
A21: 19 | B21: =B20+266.78 -> 15713.85 | C21: =C20+266.78 -> 18390.06 | D21: =D20+266.78 -> 19890.06 | E21: =E20+266.78 -> 21694.72 | F21: =F20+623.6 -> 19764.79 | G21: =G20+623.6 -> 22976.54 | H21: =H20+623.6 -> 25476.54 | I21: =I20+623.6 -> 27897.84 | J21: 24022.9 | K21: 27326.95 | L21: =L20+588.3 -> 25233.86 | M21: =M20+588.3 -> 27533.86 | N21: =N20+588.3 -> 27733.86 | O21: =O20+588.3 -> 30033.86 | P21: =P20+588.3 -> 30874.79 | Q21: =Q20+957.68 -> 31395.76 | R21: =R20+957.68 -> 36902.51 | S21: =S20+1135.17 -> 37210.43 | T21: =T20+957.68 -> 41818.72 | U21: =U20+1135.17 -> 39710.43 | V21: =V20+957.68 -> 44318.72 | W21: =W20+1260.36 -> 45439.06 | X21: =X20+1260.36 -> 46183.06 | Y21: =Y20+1260.36 -> 48467.35 | Z21: =Z20+1260.36 -> 53495.68 | AA21: =Z21+6500 -> 59995.68 | AB21: =AB20+1608.27 -> 61654.68 | AC21: =AC20+1608.27 -> 62398.69 | AD21: =AC21+8510 -> 70908.69 | AE21: =AE20+1608.27 -> 67974.21 | AF21: =AE21+8510 -> 76484.21
A22: 20 | B22: =B21 -> 15713.85 | C22: =C21 -> 18390.06 | D22: =D21 -> 19890.06 | E22: =E21 -> 21694.72 | F22: =F21 -> 19764.79 | G22: =G21 -> 22976.54 | H22: =H21 -> 25476.54 | I22: =I21 -> 27897.84 | J22: 24022.9 | K22: 27326.95 | L22: =L21 -> 25233.86 | M22: =M21 -> 27533.86 | N22: =N21 -> 27733.86 | O22: =O21 -> 30033.86 | P22: =P21 -> 30874.79 | Q22: =Q21 -> 31395.76 | R22: =R21 -> 36902.51 | S22: =S21 -> 37210.43 | ... Z22: =Z21 -> 53495.68 | AA22: =Z22+6500 -> 59995.68 | AB22: =AB21 -> 61654.68 | AC22: =AC21 -> 62398.69 | AD22: =AC22+8510 -> 70908.69 | AE22: =AE21 -> 67974.21 | AF22: =AE22+8510 -> 76484.21
A23: 21 | B23: =B22+266.78 -> 15980.63 | C23: =C22+266.78 -> 18656.84 | D23: =D22+266.78 -> 20156.84 | E23: =E22+266.78 -> 21961.5 | F23: =F22+623.6 -> 20388.39 | G23: =G22+623.6 -> 23600.14 | H23: =H22+623.6 -> 26100.14 | I23: =I22+623.6 -> 28521.44 | J23: 24611.2 | K23: 27915.25 | L23: =L22+588.3 -> 25822.16 | M23: =M22+588.3 -> 28122.16 | N23: =N22+588.3 -> 28322.16 | O23: =O22+588.3 -> 30622.16 | P23: =P22+588.3 -> 31463.09 | Q23: =Q22+957.68 -> 32353.44 | R23: =R22+957.68 -> 37860.19 | S23: =S22+1135.17 -> 38345.6 | T23: =T22+957.68 -> 42776.4 | U23: =U22+1135.17 -> 40845.6 | V23: =V22+957.68 -> 45276.4 | W23: =W22+1260.36 -> 46699.42 | X23: =X22+1260.36 -> 47443.42 | Y23: =Y22+1260.36 -> 49727.71 | Z23: =Z22+1260.36 -> 54756.04 | AA23: =Z23+6500 -> 61256.04 | AB23: =AB22+1608.27 -> 63262.95 | AC23: =AC22+1608.27 -> 64006.96 | AD23: =AC23+8510 -> 72516.96 | AE23: =AE22+1608.27 -> 69582.48 | AF23: =AE23+8510 -> 78092.48
A24: 22 | B24: =B23 -> 15980.63 | C24: =C23 -> 18656.84 | D24: =D23 -> 20156.84 | E24: =E23 -> 21961.5 | F24: =F23 -> 20388.39 | G24: =G23 -> 23600.14 | H24: =H23 -> 26100.14 | I24: =I23 -> 28521.44 | J24: 24611.2 | K24: 27915.25 | L24: =L23 -> 25822.16 | M24: =M23 -> 28122.16 | N24: =N23 -> 28322.16 | O24: =O23 -> 30622.16 | P24: =P23 -> 31463.09 | Q24: =Q23 -> 32353.44 | R24: =R23 -> 37860.19 | S24: =S23 -> 38345.6 | ... Z24: =Z23 -> 54756.04 | AA24: =Z24+6500 -> 61256.04 | AB24: =AB23 -> 63262.95 | AC24: =AC23 -> 64006.96 | AD24: =AC24+8510 -> 72516.96 | AE24: =AE23 -> 69582.48 | AF24: =AE24+8510 -> 78092.48
A25: 23 | B25: =B24+266.78 -> 16247.41 | C25: =C24+266.78 -> 18923.62 | D25: =D24+266.78 -> 20423.62 | E25: =E24+266.78 -> 22228.28 | F25: =F24+623.6 -> 21011.99 | G25: =G24+623.6 -> 24223.74 | H25: =H24+623.6 -> 26723.74 | I25: =I24+623.6 -> 29145.04 | J25: 25199.5 | K25: 28503.55 | L25: =L24+588.3 -> 26410.46 | M25: =M24+588.3 -> 28710.46 | N25: =N24+588.3 -> 28910.46 | O25: =O24+588.3 -> 31210.46 | P25: =P24+588.3 -> 32051.39 | Q25: =Q24+957.68 -> 33311.12 | R25: =R24+957.68 -> 38817.87 | S25: =S24+1135.17 -> 39480.77 | T25: =T24+957.68 -> 43734.08 | U25: =U24+1135.17 -> 41980.77 | V25: =V24+957.68 -> 46234.08 | W25: =W24+1260.36 -> 47959.78 | X25: =X24+1260.36 -> 48703.78 | Y25: =Y24+1260.36 -> 50988.07 | Z25: =Z24+1260.36 -> 56016.4 | AA25: =Z25+6500 -> 62516.4 | AB25: =AB24+1608.27 -> 64871.22 | AC25: =AC24+1608.27 -> 65615.23 | AD25: =AC25+8510 -> 74125.23 | AE25: =AE24+1608.27 -> 71190.75 | AF25: =AE25+8510 -> 79700.75
A26: 24 | B26: =B25+250.38 -> 16497.79 | C26: =C25+250.38 -> 19174 | D26: =D25+250.38 -> 20674 | E26: =E25+250.38 -> 22478.66 | F26: =F25+250.38 -> 21262.37 | G26: =G25+250.38 -> 24474.12 | H26: =H25+250.38 -> 26974.12 | I26: =I25+250.38 -> 29395.42 | J26: 25449.88 | K26: 28753.93 | L26: =L25+250.38 -> 26660.84 | M26: =M25+250.38 -> 28960.84 | N26: =N25+250.38 -> 29160.84 | O26: =O25+250.38 -> 31460.84 | P26: =P25+250.38 -> 32301.77 | Q26: =Q25+250.38 -> 33561.5 | R26: =R25+250.38 -> 39068.25 | S26: =S25+250.38 -> 39731.15 | ... Z26: =Z25+250.38 -> 56266.78 | AA26: =Z26+6500 -> 62766.78 | AB26: =AB25+250.38 -> 65121.6 | AC26: =AC25+250.38 -> 65865.61 | AD26: =AC26+8510 -> 74375.61 | AE26: =AE25+250.38 -> 71441.13 | AF26: =AE26+8510 -> 79951.13
A27: 25 | B27: =B26+266.78 -> 16764.57 | C27: =C26+266.78 -> 19440.78 | D27: =D26+266.78 -> 20940.78 | E27: =E26+266.78 -> 22745.44 | F27: =F26+623.6 -> 21885.97 | G27: =G26+623.6 -> 25097.72 | H27: =H26+623.6 -> 27597.72 | I27: =I26+623.6 -> 30019.02 | J27: 26038.18 | K27: 29342.23 | L27: =L26+588.3 -> 27249.14 | M27: =M26+588.3 -> 29549.14 | N27: =N26+588.3 -> 29749.14 | O27: =O26+588.3 -> 32049.14 | P27: =P26+588.3 -> 32890.07 | Q27: =Q26 -> 33561.5 | R27: =R26 -> 39068.25 | S27: =S26 -> 39731.15 | T27: =T26 -> 43984.46 | U27: =U26 -> 42231.15 | V27: =V26 -> 46484.46 | W27: =W26 -> 48210.16 | X27: =X26 -> 48954.16 | ... Z27: =Z26 -> 56266.78 | AA27: =Z27+6500 -> 62766.78 | AB27: =AB26 -> 65121.6 | AC27: =AC26 -> 65865.61 | AD27: =AC27+8510 -> 74375.61 | AE27: =AE26 -> 71441.13 | AF27: =AE27+8510 -> 79951.13
A28: 26 | B28: =B27 -> 16764.57 | C28: =C27 -> 19440.78 | D28: =D27 -> 20940.78 | E28: =E27 -> 22745.44 | F28: =F27 -> 21885.97 | G28: =G27 -> 25097.72 | H28: =H27 -> 27597.72 | I28: =I27 -> 30019.02 | J28: 26038.18 | K28: 29342.23 | L28: =L27 -> 27249.14 | M28: =M27 -> 29549.14 | N28: =N27 -> 29749.14 | O28: =O27 -> 32049.14 | P28: =P27 -> 32890.07 | Q28: =Q27 -> 33561.5 | R28: =R27 -> 39068.25 | S28: =S27 -> 39731.15 | ... Z28: =Z27 -> 56266.78 | AA28: =Z28+6500 -> 62766.78 | AB28: =AB27 -> 65121.6 | AC28: =AC27 -> 65865.61 | AD28: =AC28+8510 -> 74375.61 | AE28: =AE27 -> 71441.13 | AF28: =AE28+8510 -> 79951.13
A29: 27 | B29: =B28+419.35 -> 17183.92 | C29: =C28+419.35 -> 19860.13 | D29: =D28+419.35 -> 21360.13 | E29: =E28+419.35 -> 23164.79 | F29: =F28+623.6 -> 22509.57 | G29: =G28+623.6 -> 25721.32 | H29: =H28+623.6 -> 28221.32 | I29: =I28+623.6 -> 30642.62 | J29: 26626.48 | K29: 29930.53 | L29: =L28+588.3 -> 27837.44 | M29: =M28+588.3 -> 30137.44 | N29: =N28+588.3 -> 30337.44 | O29: =O28+588.3 -> 32637.44 | P29: =P28+588.3 -> 33478.37 | Q29: =Q28 -> 33561.5 | R29: =R28 -> 39068.25 | S29: =S28 -> 39731.15 | T29: =T28 -> 43984.46 | U29: =U28 -> 42231.15 | V29: =V28 -> 46484.46 | W29: =W28 -> 48210.16 | X29: =X28 -> 48954.16 | ... Z29: =Z28 -> 56266.78 | AA29: =Z29+6500 -> 62766.78 | AB29: =AB28 -> 65121.6 | AC29: =AC28 -> 65865.61 | AD29: =AC29+8510 -> 74375.61 | AE29: =AE28 -> 71441.13 | AF29: =AE29+8510 -> 79951.13
A30: 28 | B30: =B29 -> 17183.92 | C30: =C29 -> 19860.13 | D30: =D29 -> 21360.13 | E30: =E29 -> 23164.79 | F30: =F29 -> 22509.57 | G30: =G29 -> 25721.32 | H30: =H29 -> 28221.32 | I30: =I29 -> 30642.62 | J30: 26626.48 | K30: 29930.53 | L30: =L29 -> 27837.44 | M30: =M29 -> 30137.44 | N30: =N29 -> 30337.44 | O30: =O29 -> 32637.44 | P30: =P29 -> 33478.37 | Q30: =Q29 -> 33561.5 | R30: =R29 -> 39068.25 | S30: =S29 -> 39731.15 | ... Z30: =Z29 -> 56266.78 | AA30: =Z30+6500 -> 62766.78 | AB30: =AB29 -> 65121.6 | AC30: =AC29 -> 65865.61 | AD30: =AC30+8510 -> 74375.61 | AE30: =AE29 -> 71441.13 | AF30: =AE30+8510 -> 79951.13
A31: 29 | B31: =B30+419.35 -> 17603.27 | C31: =C30+419.35 -> 20279.48 | D31: =D30+419.35 -> 21779.48 | E31: =E30+419.35 -> 23584.14 | F31: =F30+623.6 -> 23133.17 | G31: =G30+623.6 -> 26344.92 | H31: =H30+623.6 -> 28844.92 | I31: =I30+623.6 -> 31266.22 | J31: 27214.78 | K31: 30518.83 | L31: =L30+588.3 -> 28425.74 | M31: =M30+588.3 -> 30725.74 | N31: =N30+588.3 -> 30925.74 | O31: =O30+588.3 -> 33225.74 | P31: =P30+588.3 -> 34066.67 | Q31: =Q30 -> 33561.5 | R31: =R30 -> 39068.25 | S31: =S30 -> 39731.15 | T31: =T30 -> 43984.46 | U31: =U30 -> 42231.15 | V31: =V30 -> 46484.46 | W31: =W30 -> 48210.16 | X31: =X30 -> 48954.16 | ... Z31: =Z30 -> 56266.78 | AA31: =Z31+6500 -> 62766.78 | AB31: =AB30 -> 65121.6 | AC31: =AC30 -> 65865.61 | AD31: =AC31+8510 -> 74375.61 | AE31: =AE30 -> 71441.13 | AF31: =AE31+8510 -> 79951.13
A32: 30 | B32: =B31+250.38 -> 17853.65 | C32: =C31+250.38 -> 20529.86 | D32: =D31+250.38 -> 22029.86 | E32: =E31+250.38 -> 23834.52 | F32: =F31+250.38 -> 23383.55 | G32: =G31+250.38 -> 26595.3 | H32: =H31+250.38 -> 29095.3 | I32: =I31+250.38 -> 31516.6 | J32: 27465.16 | K32: 30769.21 | L32: =L31+250.38 -> 28676.12 | M32: =M31+250.38 -> 30976.12 | N32: =N31+250.38 -> 31176.12 | O32: =O31+250.38 -> 33476.12 | P32: =P31+250.38 -> 34317.05 | Q32: =Q31+250.38 -> 33811.88 | R32: =R31+250.38 -> 39318.63 | S32: =S31+250.38 -> 39981.53 | ... Z32: =Z31+250.38 -> 56517.16 | AA32: =Z32+6500 -> 63017.16 | AB32: =AB31+250.38 -> 65371.98 | AC32: =AC31+250.38 -> 66115.99 | AD32: =AC32+8510 -> 74625.99 | AE32: =AE31+250.38 -> 71691.51 | AF32: =AE32+8510 -> 80201.51
B33: 3/1 x 112,97 | C33: 3/1 x 140,09 | D33: 3/1 x 140,09 | E33: 3/1 x 140,09 | F33: 3/1 x 267,31 | G33: 3/1 x 267,31 | H33: 3/1 x 267,31 | I33: 3/1 x 267,31 | J33: 3/1 x 252,18 | K33: 3/1 x 252,18 | L33: 3/1 x 252,18 | M33: 3/1 x 252,18 | N33: 3/1 x 252,18 | O33: 3/1 x 252,18 | P33: 3/1 x 252,18 | Q33: 3/1 x 623,60 | R33: 3/1 x 623,60 | S33: 3/1 x 623,60 | T33: 3/1 x 623,60 | U33: 3/1 x 623,60 | V33: 3/1 x 623,60 | W33: 3/1 x 623,60 | X33: 3/1 x 623,60 | Y33: 3/1 x 623,60 | Z33: 3/1 x 623,60 | AA33: 3/1 x 623,60 | AB33: 3/1 x 623,60 | AC33: 3/1 x 623,60 | AD33: 3/1 x 623,60 | AE33: 3/1 x 623,60 | AF33: 3/1 x 623,60
B34: 2/2 x 58,17 | C34: 5/2 x 194,67 | D34: 5/2 x 194,67 | E34: 5/2 x 194,67 | F34: 1/2 x 267,31 | G34: 1/2 x 267,31 | H34: 1/2 x 267,31 | I34: 1/2 x 267,31 | J34: 1/2 x 292,59 | K34: 1/2 x 292,59 | L34: 1/2 x 292,59 | M34: 1/2 x 292,59 | N34: 1/2 x 292,59 | O34: 1/2 x 292,59 | P34: 1/2 x 292,59 | Q34: 10/2 x 957,68 | R34: 10/2 x 957,68 | S34: 10/2 x 1135,17 | T34: 10/2 x 957,68 | U34: 10/2 x 1135,17 | V34: 10/2 x 957,68 | W34: 10/2 x 1260,36 | X34: 10/2 x 1260,36 | Y34: 10/2 x 1260,36 | Z34: 10/2 x 1260,36 | AA34: 10/2 x 1260,36 | AB34: 10/2 x 1608,27 | AC34: 10/2 x 1608,27 | AD34: 10/2 x 1608,27 | AE34: 10/2 x 1608,27 | AF34: 10/2 x 1608,27
B35: 1/2 x 60,40 | C35: 6/2 x 266,78 | D35: 6/2 x 266,78 | E35: 6/2 x 266,78 | F35: 1/2 x 356,34 | G35: 1/2 x 356,34 | H35: 1/2 x 356,34 | I35: 1/2 x 356,34 | J35: 1/2 x 390,03 | K35: 1/2 x 390,03 | L35: 1/2 x 390,03 | M35: 1/2 x 390,03 | N35: 1/2 x 390,03 | O35: 1/2 x 390,03 | P35: 1/2 x 390,03
B36: 2/2 x 194,67 | C36: 2/2 x 419,35 | D36: 2/2 x 419,35 | E36: 2/2 x 419,35 | F36: 2/2 x 712,64 | G36: 2/2 x 712,64 | H36: 2/2 x 712,64 | I36: 2/2 x 712,64 | J36: 2/2 x 672,31 | K36: 2/2 x 672,31 | L36: 2/2 x 672,31 | M36: 2/2 x 672,31 | N36: 2/2 x 672,31 | O36: 2/2 x 672,31 | P36: 2/2 x 672,31
B37: 6/2 x 266,78 | F37: 9/2 x 623,60 | G37: 9/2 x 623,60 | H37: 9/2 x 623,60 | I37: 9/2 x 623,60 | J37: 9/2 x 588,30 | K37: 9/2 x 588,30 | L37: 9/2 x 588,30 | M37: 9/2 x 588,30 | N37: 9/2 x 588,30 | O37: 9/2 x 588,30 | P37: 9/2 x 588,30
B38: 2/2 x 419,35 | AF38: 5/6 x 250,38
B39: 5/6 x 250,38 | C39: 5/6 x 250,38 | D39: 5/6 x 250,38 | E39: 5/6 x 250,38 | F39: 5/6 x 250,38 | G39: 5/6 x 250,38 | H39: 5/6 x 250,38 | I39: 5/6 x 250,38 | J39: 5/6 x 250,38 | K39: 5/6 x 250,38 | L39: 5/6 x 250,38 | M39: 5/6 x 250,38 | N39: 5/6 x 250,38 | O39: 5/6 x 250,38 | P39: 5/6 x 250,38 | Q39: 5/6 x 250,38 | R39: 5/6 x 250,38 | S39: 5/6 x 250,38 | T39: 5/6 x 250,38 | U39: 5/6 x 250,38 | V39: 5/6 x 250,38 | W39: 5/6 x 250,38 | X39: 5/6 x 250,38 | Y39: 5/6 x 250,38 | Z39: 5/6 x 250,38 | AA39: 5/6 x 250,38 | AB39: 5/6 x 250,38 | AC39: 5/6 x 250,38 | AD39: 5/6 x 250,38 | AE39: 5/6 x 250,38

Sheet Barèmes indexés
B1: D3 | C1: D2 | D1: D1bis | E1: D1 | F1: C3 | G1: C2 | H1: C1bis | I1: C1 | J1: B3/1 | K1: B3/2 | L1: B2/1 | M1: B2/2 | N1: B1/1bis | O1: B1/2bis | P1: B1 | Q1: A6/1 | R1: A6/2 A6Sc | S1: A5/1 | T1: A5/2 A5Sc | U1: A5/1bis | V1: A5/2bis A5Sc/bis | W1: A4/1 | X1: A4/2 | Y1: A4Sc | Z1: A3 | AA1: A3M | AB1: Abis | AC1: A2 | AD1: A2M | AE1: A1 | AF1: A1M
A2: 0 | B2: =ROUND(Barèmes!B2*Paramètres!$C$4,2) -> 26513.43 | C2: =ROUND(Barèmes!C2*Paramètres!$C$4,2) -> 30888.38 | D2: =ROUND(Barèmes!D2*Paramètres!$C$4,2) -> 33888.23 | E2: =ROUND(Barèmes!E2*Paramètres!$C$4,2) -> 37497.37 | F2: =ROUND(Barèmes!F2*Paramètres!$C$4,2) -> 27335.41 | G2: =ROUND(Barèmes!G2*Paramètres!$C$4,2) -> 33758.59 | H2: =ROUND(Barèmes!H2*Paramètres!$C$4,2) -> 38758.34 | I2: =ROUND(Barèmes!I2*Paramètres!$C$4,2) -> 43600.7 | ... AF2: =ROUND(Barèmes!AF2*Paramètres!$C$4,2) -> 121986.12
A3: 1 | B3: =ROUND(Barèmes!B3*Paramètres!$C$4,2) -> 26739.36 | C3: =ROUND(Barèmes!C3*Paramètres!$C$4,2) -> 31168.54 | D3: =ROUND(Barèmes!D3*Paramètres!$C$4,2) -> 34168.39 | E3: =ROUND(Barèmes!E3*Paramètres!$C$4,2) -> 37777.53 | F3: =ROUND(Barèmes!F3*Paramètres!$C$4,2) -> 27870.01 | G3: =ROUND(Barèmes!G3*Paramètres!$C$4,2) -> 34293.19 | H3: =ROUND(Barèmes!H3*Paramètres!$C$4,2) -> 39292.94 | I3: =ROUND(Barèmes!I3*Paramètres!$C$4,2) -> 44135.29 | ... AF3: =ROUND(Barèmes!AF3*Paramètres!$C$4,2) -> 123233.26
A4: 2 | B4: =ROUND(Barèmes!B4*Paramètres!$C$4,2) -> 26965.29 | C4: =ROUND(Barèmes!C4*Paramètres!$C$4,2) -> 31448.71 | D4: =ROUND(Barèmes!D4*Paramètres!$C$4,2) -> 34448.56 | E4: =ROUND(Barèmes!E4*Paramètres!$C$4,2) -> 38057.7 | F4: =ROUND(Barèmes!F4*Paramètres!$C$4,2) -> 28404.6 | G4: =ROUND(Barèmes!G4*Paramètres!$C$4,2) -> 34827.78 | H4: =ROUND(Barèmes!H4*Paramètres!$C$4,2) -> 39827.53 | I4: =ROUND(Barèmes!I4*Paramètres!$C$4,2) -> 44669.89 | ... AF4: =ROUND(Barèmes!AF4*Paramètres!$C$4,2) -> 124480.4
A5: 3 | B5: =ROUND(Barèmes!B5*Paramètres!$C$4,2) -> 27191.22 | C5: =ROUND(Barèmes!C5*Paramètres!$C$4,2) -> 31728.87 | D5: =ROUND(Barèmes!D5*Paramètres!$C$4,2) -> 34728.72 | E5: =ROUND(Barèmes!E5*Paramètres!$C$4,2) -> 38337.86 | F5: =ROUND(Barèmes!F5*Paramètres!$C$4,2) -> 28939.19 | G5: =ROUND(Barèmes!G5*Paramètres!$C$4,2) -> 35362.37 | H5: =ROUND(Barèmes!H5*Paramètres!$C$4,2) -> 40362.12 | I5: =ROUND(Barèmes!I5*Paramètres!$C$4,2) -> 45204.48 | ... AF5: =ROUND(Barèmes!AF5*Paramètres!$C$4,2) -> 125727.53
A6: 4 | B6: =ROUND(Barèmes!B6*Paramètres!$C$4,2) -> 27191.22 | C6: =ROUND(Barèmes!C6*Paramètres!$C$4,2) -> 31728.87 | D6: =ROUND(Barèmes!D6*Paramètres!$C$4,2) -> 34728.72 | E6: =ROUND(Barèmes!E6*Paramètres!$C$4,2) -> 38337.86 | F6: =ROUND(Barèmes!F6*Paramètres!$C$4,2) -> 28939.19 | G6: =ROUND(Barèmes!G6*Paramètres!$C$4,2) -> 35362.37 | H6: =ROUND(Barèmes!H6*Paramètres!$C$4,2) -> 40362.12 | I6: =ROUND(Barèmes!I6*Paramètres!$C$4,2) -> 45204.48 | ... AF6: =ROUND(Barèmes!AF6*Paramètres!$C$4,2) -> 125727.53
A7: 5 | B7: =ROUND(Barèmes!B7*Paramètres!$C$4,2) -> 27307.55 | C7: =ROUND(Barèmes!C7*Paramètres!$C$4,2) -> 32118.19 | D7: =ROUND(Barèmes!D7*Paramètres!$C$4,2) -> 35118.04 | E7: =ROUND(Barèmes!E7*Paramètres!$C$4,2) -> 38727.18 | F7: =ROUND(Barèmes!F7*Paramètres!$C$4,2) -> 29473.79 | G7: =ROUND(Barèmes!G7*Paramètres!$C$4,2) -> 35896.97 | H7: =ROUND(Barèmes!H7*Paramètres!$C$4,2) -> 40896.72 | I7: =ROUND(Barèmes!I7*Paramètres!$C$4,2) -> 45739.07 | ... AF7: =ROUND(Barèmes!AF7*Paramètres!$C$4,2) -> 128943.91
A8: 6 | B8: =ROUND(Barèmes!B8*Paramètres!$C$4,2) -> 27808.29 | C8: =ROUND(Barèmes!C8*Paramètres!$C$4,2) -> 32618.93 | D8: =ROUND(Barèmes!D8*Paramètres!$C$4,2) -> 35618.78 | E8: =ROUND(Barèmes!E8*Paramètres!$C$4,2) -> 39227.92 | F8: =ROUND(Barèmes!F8*Paramètres!$C$4,2) -> 29974.52 | G8: =ROUND(Barèmes!G8*Paramètres!$C$4,2) -> 36397.7 | H8: =ROUND(Barèmes!H8*Paramètres!$C$4,2) -> 41397.45 | I8: =ROUND(Barèmes!I8*Paramètres!$C$4,2) -> 46239.81 | ... AF8: =ROUND(Barèmes!AF8*Paramètres!$C$4,2) -> 129444.65
A9: 7 | B9: =ROUND(Barèmes!B9*Paramètres!$C$4,2) -> 27924.62 | C9: =ROUND(Barèmes!C9*Paramètres!$C$4,2) -> 33008.25 | D9: =ROUND(Barèmes!D9*Paramètres!$C$4,2) -> 36008.1 | E9: =ROUND(Barèmes!E9*Paramètres!$C$4,2) -> 39617.24 | F9: =ROUND(Barèmes!F9*Paramètres!$C$4,2) -> 30687.17 | G9: =ROUND(Barèmes!G9*Paramètres!$C$4,2) -> 37110.34 | H9: =ROUND(Barèmes!H9*Paramètres!$C$4,2) -> 42110.09 | I9: =ROUND(Barèmes!I9*Paramètres!$C$4,2) -> 46952.45 | ... AF9: =ROUND(Barèmes!AF9*Paramètres!$C$4,2) -> 132661.03
A10: 8 | B10: =ROUND(Barèmes!B10*Paramètres!$C$4,2) -> 27924.62 | C10: =ROUND(Barèmes!C10*Paramètres!$C$4,2) -> 33008.25 | D10: =ROUND(Barèmes!D10*Paramètres!$C$4,2) -> 36008.1 | E10: =ROUND(Barèmes!E10*Paramètres!$C$4,2) -> 39617.24 | F10: =ROUND(Barèmes!F10*Paramètres!$C$4,2) -> 30687.17 | G10: =ROUND(Barèmes!G10*Paramètres!$C$4,2) -> 37110.34 | H10: =ROUND(Barèmes!H10*Paramètres!$C$4,2) -> 42110.09 | I10: =ROUND(Barèmes!I10*Paramètres!$C$4,2) -> 46952.45 | ... AF10: =ROUND(Barèmes!AF10*Paramètres!$C$4,2) -> 132661.03
A11: 9 | B11: =ROUND(Barèmes!B11*Paramètres!$C$4,2) -> 28045.42 | C11: =ROUND(Barèmes!C11*Paramètres!$C$4,2) -> 33397.57 | D11: =ROUND(Barèmes!D11*Paramètres!$C$4,2) -> 36397.42 | E11: =ROUND(Barèmes!E11*Paramètres!$C$4,2) -> 40006.56 | F11: =ROUND(Barèmes!F11*Paramètres!$C$4,2) -> 32112.37 | G11: =ROUND(Barèmes!G11*Paramètres!$C$4,2) -> 38535.55 | H11: =ROUND(Barèmes!H11*Paramètres!$C$4,2) -> 43535.3 | I11: =ROUND(Barèmes!I11*Paramètres!$C$4,2) -> 48377.66 | ... AF11: =ROUND(Barèmes!AF11*Paramètres!$C$4,2) -> 135877.41
A12: 10 | B12: =ROUND(Barèmes!B12*Paramètres!$C$4,2) -> 28045.42 | C12: =ROUND(Barèmes!C12*Paramètres!$C$4,2) -> 33397.57 | D12: =ROUND(Barèmes!D12*Paramètres!$C$4,2) -> 36397.42 | E12: =ROUND(Barèmes!E12*Paramètres!$C$4,2) -> 40006.56 | F12: =ROUND(Barèmes!F12*Paramètres!$C$4,2) -> 32112.37 | G12: =ROUND(Barèmes!G12*Paramètres!$C$4,2) -> 38535.55 | H12: =ROUND(Barèmes!H12*Paramètres!$C$4,2) -> 43535.3 | I12: =ROUND(Barèmes!I12*Paramètres!$C$4,2) -> 48377.66 | ... AF12: =ROUND(Barèmes!AF12*Paramètres!$C$4,2) -> 135877.41
A13: 11 | B13: =ROUND(Barèmes!B13*Paramètres!$C$4,2) -> 28434.74 | C13: =ROUND(Barèmes!C13*Paramètres!$C$4,2) -> 33786.89 | D13: =ROUND(Barèmes!D13*Paramètres!$C$4,2) -> 36786.74 | E13: =ROUND(Barèmes!E13*Paramètres!$C$4,2) -> 40395.88 | F13: =ROUND(Barèmes!F13*Paramètres!$C$4,2) -> 33537.58 | G13: =ROUND(Barèmes!G13*Paramètres!$C$4,2) -> 39960.76 | H13: =ROUND(Barèmes!H13*Paramètres!$C$4,2) -> 44960.51 | I13: =ROUND(Barèmes!I13*Paramètres!$C$4,2) -> 49802.87 | ... AF13: =ROUND(Barèmes!AF13*Paramètres!$C$4,2) -> 139093.78
... A32: 30 | B32: =ROUND(Barèmes!B32*Paramètres!$C$4,2) -> 35705.51 | C32: =ROUND(Barèmes!C32*Paramètres!$C$4,2) -> 41057.67 | D32: =ROUND(Barèmes!D32*Paramètres!$C$4,2) -> 44057.52 | E32: =ROUND(Barèmes!E32*Paramètres!$C$4,2) -> 47666.66 | F32: =ROUND(Barèmes!F32*Paramètres!$C$4,2) -> 46764.76 | G32: =ROUND(Barèmes!G32*Paramètres!$C$4,2) -> 53187.94 | H32: =ROUND(Barèmes!H32*Paramètres!$C$4,2) -> 58187.69 | I32: =ROUND(Barèmes!I32*Paramètres!$C$4,2) -> 63030.05 | ... AF32: =ROUND(Barèmes!AF32*Paramètres!$C$4,2) -> 160395

Sheet Bruts mensuels
B1: D3 | C1: D2 | D1: D1bis | E1: D1 | F1: C3 | G1: C2 | H1: C1bis | I1: C1 | J1: B3/1 | K1: B3/2 | L1: B2/1 | M1: B2/2 | N1: B1/1bis | O1: B1/2bis | P1: B1 | Q1: A6/1 | R1: A6/2 A6Sc | S1: A5/1 | T1: A5/2 A5Sc | U1: A5/1bis | V1: A5/2bis A5Sc/bis | W1: A4/1 | X1: A4/2 | Y1: A4Sc | Z1: A3 | AA1: A3M | AB1: Abis | AC1: A2 | AD1: A2M | AE1: A1 | AF1: A1M
A2: 0 | B2: =ROUND('Barèmes indexés'!B2/12,2) -> 2209.45 | C2: =ROUND('Barèmes indexés'!C2/12,2) -> 2574.03 | D2: =ROUND('Barèmes indexés'!D2/12,2) -> 2824.02 | E2: =ROUND('Barèmes indexés'!E2/12,2) -> 3124.78 | F2: =ROUND('Barèmes indexés'!F2/12,2) -> 2277.95 | G2: =ROUND('Barèmes indexés'!G2/12,2) -> 2813.22 | H2: =ROUND('Barèmes indexés'!H2/12,2) -> 3229.86 | I2: =ROUND('Barèmes indexés'!I2/12,2) -> 3633.39 | ... AF2: =ROUND('Barèmes indexés'!AF2/12,2) -> 10165.51
A3: 1 | B3: =ROUND('Barèmes indexés'!B3/12,2) -> 2228.28 | C3: =ROUND('Barèmes indexés'!C3/12,2) -> 2597.38 | D3: =ROUND('Barèmes indexés'!D3/12,2) -> 2847.37 | E3: =ROUND('Barèmes indexés'!E3/12,2) -> 3148.13 | F3: =ROUND('Barèmes indexés'!F3/12,2) -> 2322.5 | G3: =ROUND('Barèmes indexés'!G3/12,2) -> 2857.77 | H3: =ROUND('Barèmes indexés'!H3/12,2) -> 3274.41 | I3: =ROUND('Barèmes indexés'!I3/12,2) -> 3677.94 | ... AF3: =ROUND('Barèmes indexés'!AF3/12,2) -> 10269.44
A4: 2 | B4: =ROUND('Barèmes indexés'!B4/12,2) -> 2247.11 | C4: =ROUND('Barèmes indexés'!C4/12,2) -> 2620.73 | D4: =ROUND('Barèmes indexés'!D4/12,2) -> 2870.71 | E4: =ROUND('Barèmes indexés'!E4/12,2) -> 3171.48 | F4: =ROUND('Barèmes indexés'!F4/12,2) -> 2367.05 | G4: =ROUND('Barèmes indexés'!G4/12,2) -> 2902.32 | H4: =ROUND('Barèmes indexés'!H4/12,2) -> 3318.96 | I4: =ROUND('Barèmes indexés'!I4/12,2) -> 3722.49 | ... AF4: =ROUND('Barèmes indexés'!AF4/12,2) -> 10373.37
A5: 3 | B5: =ROUND('Barèmes indexés'!B5/12,2) -> 2265.94 | C5: =ROUND('Barèmes indexés'!C5/12,2) -> 2644.07 | D5: =ROUND('Barèmes indexés'!D5/12,2) -> 2894.06 | E5: =ROUND('Barèmes indexés'!E5/12,2) -> 3194.82 | F5: =ROUND('Barèmes indexés'!F5/12,2) -> 2411.6 | G5: =ROUND('Barèmes indexés'!G5/12,2) -> 2946.86 | H5: =ROUND('Barèmes indexés'!H5/12,2) -> 3363.51 | I5: =ROUND('Barèmes indexés'!I5/12,2) -> 3767.04 | ... AF5: =ROUND('Barèmes indexés'!AF5/12,2) -> 10477.29
A6: 4 | B6: =ROUND('Barèmes indexés'!B6/12,2) -> 2265.94 | C6: =ROUND('Barèmes indexés'!C6/12,2) -> 2644.07 | D6: =ROUND('Barèmes indexés'!D6/12,2) -> 2894.06 | E6: =ROUND('Barèmes indexés'!E6/12,2) -> 3194.82 | F6: =ROUND('Barèmes indexés'!F6/12,2) -> 2411.6 | G6: =ROUND('Barèmes indexés'!G6/12,2) -> 2946.86 | H6: =ROUND('Barèmes indexés'!H6/12,2) -> 3363.51 | I6: =ROUND('Barèmes indexés'!I6/12,2) -> 3767.04 | ... AF6: =ROUND('Barèmes indexés'!AF6/12,2) -> 10477.29
A7: 5 | B7: =ROUND('Barèmes indexés'!B7/12,2) -> 2275.63 | C7: =ROUND('Barèmes indexés'!C7/12,2) -> 2676.52 | D7: =ROUND('Barèmes indexés'!D7/12,2) -> 2926.5 | E7: =ROUND('Barèmes indexés'!E7/12,2) -> 3227.27 | F7: =ROUND('Barèmes indexés'!F7/12,2) -> 2456.15 | G7: =ROUND('Barèmes indexés'!G7/12,2) -> 2991.41 | H7: =ROUND('Barèmes indexés'!H7/12,2) -> 3408.06 | I7: =ROUND('Barèmes indexés'!I7/12,2) -> 3811.59 | ... AF7: =ROUND('Barèmes indexés'!AF7/12,2) -> 10745.33
A8: 6 | B8: =ROUND('Barèmes indexés'!B8/12,2) -> 2317.36 | C8: =ROUND('Barèmes indexés'!C8/12,2) -> 2718.24 | D8: =ROUND('Barèmes indexés'!D8/12,2) -> 2968.23 | E8: =ROUND('Barèmes indexés'!E8/12,2) -> 3268.99 | F8: =ROUND('Barèmes indexés'!F8/12,2) -> 2497.88 | G8: =ROUND('Barèmes indexés'!G8/12,2) -> 3033.14 | H8: =ROUND('Barèmes indexés'!H8/12,2) -> 3449.79 | I8: =ROUND('Barèmes indexés'!I8/12,2) -> 3853.32 | ... AF8: =ROUND('Barèmes indexés'!AF8/12,2) -> 10787.05
A9: 7 | B9: =ROUND('Barèmes indexés'!B9/12,2) -> 2327.05 | C9: =ROUND('Barèmes indexés'!C9/12,2) -> 2750.69 | D9: =ROUND('Barèmes indexés'!D9/12,2) -> 3000.68 | E9: =ROUND('Barèmes indexés'!E9/12,2) -> 3301.44 | F9: =ROUND('Barèmes indexés'!F9/12,2) -> 2557.26 | G9: =ROUND('Barèmes indexés'!G9/12,2) -> 3092.53 | H9: =ROUND('Barèmes indexés'!H9/12,2) -> 3509.17 | I9: =ROUND('Barèmes indexés'!I9/12,2) -> 3912.7 | ... AF9: =ROUND('Barèmes indexés'!AF9/12,2) -> 11055.09
A10: 8 | B10: =ROUND('Barèmes indexés'!B10/12,2) -> 2327.05 | C10: =ROUND('Barèmes indexés'!C10/12,2) -> 2750.69 | D10: =ROUND('Barèmes indexés'!D10/12,2) -> 3000.68 | E10: =ROUND('Barèmes indexés'!E10/12,2) -> 3301.44 | F10: =ROUND('Barèmes indexés'!F10/12,2) -> 2557.26 | G10: =ROUND('Barèmes indexés'!G10/12,2) -> 3092.53 | H10: =ROUND('Barèmes indexés'!H10/12,2) -> 3509.17 | I10: =ROUND('Barèmes indexés'!I10/12,2) -> 3912.7 | ... AF10: =ROUND('Barèmes indexés'!AF10/12,2) -> 11055.09
A11: 9 | B11: =ROUND('Barèmes indexés'!B11/12,2) -> 2337.12 | C11: =ROUND('Barèmes indexés'!C11/12,2) -> 2783.13 | D11: =ROUND('Barèmes indexés'!D11/12,2) -> 3033.12 | E11: =ROUND('Barèmes indexés'!E11/12,2) -> 3333.88 | F11: =ROUND('Barèmes indexés'!F11/12,2) -> 2676.03 | G11: =ROUND('Barèmes indexés'!G11/12,2) -> 3211.3 | H11: =ROUND('Barèmes indexés'!H11/12,2) -> 3627.94 | I11: =ROUND('Barèmes indexés'!I11/12,2) -> 4031.47 | ... AF11: =ROUND('Barèmes indexés'!AF11/12,2) -> 11323.12
A12: 10 | B12: =ROUND('Barèmes indexés'!B12/12,2) -> 2337.12 | C12: =ROUND('Barèmes indexés'!C12/12,2) -> 2783.13 | D12: =ROUND('Barèmes indexés'!D12/12,2) -> 3033.12 | E12: =ROUND('Barèmes indexés'!E12/12,2) -> 3333.88 | F12: =ROUND('Barèmes indexés'!F12/12,2) -> 2676.03 | G12: =ROUND('Barèmes indexés'!G12/12,2) -> 3211.3 | H12: =ROUND('Barèmes indexés'!H12/12,2) -> 3627.94 | I12: =ROUND('Barèmes indexés'!I12/12,2) -> 4031.47 | ... AF12: =ROUND('Barèmes indexés'!AF12/12,2) -> 11323.12
A13: 11 | B13: =ROUND('Barèmes indexés'!B13/12,2) -> 2369.56 | C13: =ROUND('Barèmes indexés'!C13/12,2) -> 2815.57 | D13: =ROUND('Barèmes indexés'!D13/12,2) -> 3065.56 | E13: =ROUND('Barèmes indexés'!E13/12,2) -> 3366.32 | F13: =ROUND('Barèmes indexés'!F13/12,2) -> 2794.8 | G13: =ROUND('Barèmes indexés'!G13/12,2) -> 3330.06 | H13: =ROUND('Barèmes indexés'!H13/12,2) -> 3746.71 | I13: =ROUND('Barèmes indexés'!I13/12,2) -> 4150.24 | ... AF13: =ROUND('Barèmes indexés'!AF13/12,2) -> 11591.15
... A32: 30 | B32: =ROUND('Barèmes indexés'!B32/12,2) -> 2975.46 | C32: =ROUND('Barèmes indexés'!C32/12,2) -> 3421.47 | D32: =ROUND('Barèmes indexés'!D32/12,2) -> 3671.46 | E32: =ROUND('Barèmes indexés'!E32/12,2) -> 3972.22 | F32: =ROUND('Barèmes indexés'!F32/12,2) -> 3897.06 | G32: =ROUND('Barèmes indexés'!G32/12,2) -> 4432.33 | H32: =ROUND('Barèmes indexés'!H32/12,2) -> 4848.97 | I32: =ROUND('Barèmes indexés'!I32/12,2) -> 5252.5 | ... AF32: =ROUND('Barèmes indexés'!AF32/12,2) -> 13366.25

Sheet Charges statutaires
B1: D3 | C1: D2 | D1: D1bis | E1: D1 | F1: C3 | G1: C2 | H1: C1bis | I1: C1 | J1: B3/1 | K1: B3/2 | L1: B2/1 | M1: B2/2 | N1: B1/1bis | O1: B1/2bis | P1: B1 | Q1: A6/1 | R1: A6/2 A6Sc | S1: A5/1 | T1: A5/2 A5Sc | U1: A5/1bis | V1: A5/2bis A5Sc/bis | W1: A4/1 | X1: A4/2 | Y1: A4Sc | Z1: A3 | AA1: A3M | AB1: Abis | AC1: A2 | AD1: A2M | AE1: A1 | AF1: A1M
A2: 0 | B2: =Paramètres!$A$19*Barèmes!B2+Paramètres!$B$19*Paramètres!$D$19+Paramètres!$C$19 -> 34425.349 | C2: =Paramètres!$A$19*Barèmes!C2+Paramètres!$B$19*Paramètres!$D$19+Paramètres!$C$19 -> 39689.044 | D2: =Paramètres!$A$19*Barèmes!D2+Paramètres!$B$19*Paramètres!$E$19+Paramètres!$C$19 -> 42512.487 | E2: =Paramètres!$A$19*Barèmes!E2+Paramètres!$C$19 -> 46068.973 | F2: =Paramètres!$A$19*Barèmes!F2+Paramètres!$B$19*Paramètres!$D$19+Paramètres!$C$19 -> 35414.31 | G2: =Paramètres!$A$19*Barèmes!G2+Paramètres!$B$19*Paramètres!$E$19+Paramètres!$C$19 -> 42356.519 | H2: =Paramètres!$A$19*Barèmes!H2+Paramètres!$C$19 -> 47586.113 | I2: =Paramètres!$A$19*Barèmes!I2+Paramètres!$C$19 -> 53412.178 | J2: =Paramètres!$A$19*Barèmes!J2+Paramètres!$B$19*Paramètres!$E$19+Paramètres!$C$19 -> 45375.399 | K2: =Paramètres!$A$19*Barèmes!K2+Paramètres!$C$19 -> 52539.676 | L2: =Paramètres!$A$19*Barèmes!L2+Paramètres!$C$19 -> 47503.341 | M2: =Paramètres!$A$19*Barèmes!M2+Paramètres!$C$19 -> 53037.537 | N2: =Paramètres!$A$19*Barèmes!N2+Paramètres!$C$19 -> 53518.772 | O2: =Paramètres!$A$19*Barèmes!O2+Paramètres!$C$19 -> 59052.968 | P2: =Paramètres!$A$19*Barèmes!P2+Paramètres!$C$19 -> 61076.391 | Q2: =Paramètres!$A$19*Barèmes!Q2+Paramètres!$C$19 -> 51754.181 | R2: =Paramètres!$A$19*Barèmes!R2+Paramètres!$C$19 -> 65004.371 | ... AF2: =Paramètres!$A$19*Barèmes!AF2+Paramètres!$C$19 -> 147721.31
A3: 1 | B3: =Paramètres!$A$19*Barèmes!B3+Paramètres!$B$19*Paramètres!$D$19+Paramètres!$C$19 -> 34697.174 | C3: =Paramètres!$A$19*Barèmes!C3+Paramètres!$B$19*Paramètres!$D$19+Paramètres!$C$19 -> 40026.124 | D3: =Paramètres!$A$19*Barèmes!D3+Paramètres!$B$19*Paramètres!$E$19+Paramètres!$C$19 -> 42849.568 | E3: =Paramètres!$A$19*Barèmes!E3+Paramètres!$C$19 -> 46406.054 | F3: =Paramètres!$A$19*Barèmes!F3+Paramètres!$B$19*Paramètres!$D$19+Paramètres!$C$19 -> 36057.504 | G3: =Paramètres!$A$19*Barèmes!G3+Paramètres!$B$19*Paramètres!$E$19+Paramètres!$C$19 -> 42999.713 | H3: =Paramètres!$A$19*Barèmes!H3+Paramètres!$C$19 -> 48229.307 | I3: =Paramètres!$A$19*Barèmes!I3+Paramètres!$C$19 -> 54055.372 | J3: =Paramètres!$A$19*Barèmes!J3+Paramètres!$B$19*Paramètres!$E$19+Paramètres!$C$19 -> 45982.188 | K3: =Paramètres!$A$19*Barèmes!K3+Paramètres!$C$19 -> 53146.465 | L3: =Paramètres!$A$19*Barèmes!L3+Paramètres!$C$19 -> 48110.129 | M3: =Paramètres!$A$19*Barèmes!M3+Paramètres!$C$19 -> 53644.326 | N3: =Paramètres!$A$19*Barèmes!N3+Paramètres!$C$19 -> 54125.56 | O3: =Paramètres!$A$19*Barèmes!O3+Paramètres!$C$19 -> 59659.757 | P3: =Paramètres!$A$19*Barèmes!P3+Paramètres!$C$19 -> 61683.179 | Q3: =Paramètres!$A$19*Barèmes!Q3+Paramètres!$C$19 -> 53254.67 | R3: =Paramètres!$A$19*Barèmes!R3+Paramètres!$C$19 -> 66504.86 | ... AF3: =Paramètres!$A$19*Barèmes!AF3+Paramètres!$C$19 -> 149221.8
A4: 2 | B4: =Paramètres!$A$19*Barèmes!B4+Paramètres!$B$19*Paramètres!$D$19+Paramètres!$C$19 -> 34969 | C4: =Paramètres!$A$19*Barèmes!C4+Paramètres!$B$19*Paramètres!$D$19+Paramètres!$C$19 -> 40363.205 | D4: =Paramètres!$A$19*Barèmes!D4+Paramètres!$B$19*Paramètres!$E$19+Paramètres!$C$19 -> 43186.649 | E4: =Paramètres!$A$19*Barèmes!E4+Paramètres!$C$19 -> 46743.135 | F4: =Paramètres!$A$19*Barèmes!F4+Paramètres!$B$19*Paramètres!$D$19+Paramètres!$C$19 -> 36700.698 | G4: =Paramètres!$A$19*Barèmes!G4+Paramètres!$B$19*Paramètres!$E$19+Paramètres!$C$19 -> 43642.907 | H4: =Paramètres!$A$19*Barèmes!H4+Paramètres!$C$19 -> 48872.501 | I4: =Paramètres!$A$19*Barèmes!I4+Paramètres!$C$19 -> 54698.566 | J4: =Paramètres!$A$19*Barèmes!J4+Paramètres!$B$19*Paramètres!$E$19+Paramètres!$C$19 -> 46588.976 | K4: =Paramètres!$A$19*Barèmes!K4+Paramètres!$C$19 -> 53753.253 | L4: =Paramètres!$A$19*Barèmes!L4+Paramètres!$C$19 -> 48716.918 | M4: =Paramètres!$A$19*Barèmes!M4+Paramètres!$C$19 -> 54251.114 | N4: =Paramètres!$A$19*Barèmes!N4+Paramètres!$C$19 -> 54732.349 | O4: =Paramètres!$A$19*Barèmes!O4+Paramètres!$C$19 -> 60266.545 | P4: =Paramètres!$A$19*Barèmes!P4+Paramètres!$C$19 -> 62289.968 | Q4: =Paramètres!$A$19*Barèmes!Q4+Paramètres!$C$19 -> 54755.159 | R4: =Paramètres!$A$19*Barèmes!R4+Paramètres!$C$19 -> 68005.349 | ... AF4: =Paramètres!$A$19*Barèmes!AF4+Paramètres!$C$19 -> 150722.29
A5: 3 | B5: =Paramètres!$A$19*Barèmes!B5+Paramètres!$B$19*Paramètres!$D$19+Paramètres!$C$19 -> 35240.825 | C5: =Paramètres!$A$19*Barèmes!C5+Paramètres!$B$19*Paramètres!$D$19+Paramètres!$C$19 -> 40700.286 | D5: =Paramètres!$A$19*Barèmes!D5+Paramètres!$B$19*Paramètres!$E$19+Paramètres!$C$19 -> 43523.729 | E5: =Paramètres!$A$19*Barèmes!E5+Paramètres!$C$19 -> 47080.215 | F5: =Paramètres!$A$19*Barèmes!F5+Paramètres!$B$19*Paramètres!$D$19+Paramètres!$C$19 -> 37343.892 | G5: =Paramètres!$A$19*Barèmes!G5+Paramètres!$B$19*Paramètres!$E$19+Paramètres!$C$19 -> 44286.101 | H5: =Paramètres!$A$19*Barèmes!H5+Paramètres!$C$19 -> 49515.695 | I5: =Paramètres!$A$19*Barèmes!I5+Paramètres!$C$19 -> 55341.76 | J5: =Paramètres!$A$19*Barèmes!J5+Paramètres!$C$19 -> 46409.928 | K5: =Paramètres!$A$19*Barèmes!K5+Paramètres!$C$19 -> 54360.042 | L5: =Paramètres!$A$19*Barèmes!L5+Paramètres!$C$19 -> 49323.706 | M5: =Paramètres!$A$19*Barèmes!M5+Paramètres!$C$19 -> 54857.903 | N5: =Paramètres!$A$19*Barèmes!N5+Paramètres!$C$19 -> 55339.137 | O5: =Paramètres!$A$19*Barèmes!O5+Paramètres!$C$19 -> 60873.334 | ... AF5: =Paramètres!$A$19*Barèmes!AF5+Paramètres!$C$19 -> 152222.78
A6: 4 | B6: =Paramètres!$A$19*Barèmes!B6+Paramètres!$B$19*Paramètres!$D$19+Paramètres!$C$19 -> 35240.825 | C6: =Paramètres!$A$19*Barèmes!C6+Paramètres!$B$19*Paramètres!$D$19+Paramètres!$C$19 -> 40700.286 | D6: =Paramètres!$A$19*Barèmes!D6+Paramètres!$B$19*Paramètres!$E$19+Paramètres!$C$19 -> 43523.729 | E6: =Paramètres!$A$19*Barèmes!E6+Paramètres!$C$19 -> 47080.215 | F6: =Paramètres!$A$19*Barèmes!F6+Paramètres!$B$19*Paramètres!$D$19+Paramètres!$C$19 -> 37343.892 | G6: =Paramètres!$A$19*Barèmes!G6+Paramètres!$B$19*Paramètres!$E$19+Paramètres!$C$19 -> 44286.101 | H6: =Paramètres!$A$19*Barèmes!H6+Paramètres!$C$19 -> 49515.695 | I6: =Paramètres!$A$19*Barèmes!I6+Paramètres!$C$19 -> 55341.76 | J6: =Paramètres!$A$19*Barèmes!J6+Paramètres!$C$19 -> 46409.928 | K6: =Paramètres!$A$19*Barèmes!K6+Paramètres!$C$19 -> 54360.042 | L6: =Paramètres!$A$19*Barèmes!L6+Paramètres!$C$19 -> 49323.706 | M6: =Paramètres!$A$19*Barèmes!M6+Paramètres!$C$19 -> 54857.903 | N6: =Paramètres!$A$19*Barèmes!N6+Paramètres!$C$19 -> 55339.137 | O6: =Paramètres!$A$19*Barèmes!O6+Paramètres!$C$19 -> 60873.334 | ... AF6: =Paramètres!$A$19*Barèmes!AF6+Paramètres!$C$19 -> 152222.78
A7: 5 | B7: =Paramètres!$A$19*Barèmes!B7+Paramètres!$B$19*Paramètres!$D$19+Paramètres!$C$19 -> 35380.792 | C7: =Paramètres!$A$19*Barèmes!C7+Paramètres!$B$19*Paramètres!$D$19+Paramètres!$C$19 -> 41168.695 | D7: =Paramètres!$A$19*Barèmes!D7+Paramètres!$B$19*Paramètres!$E$19+Paramètres!$C$19 -> 43992.139 | E7: =Paramètres!$A$19*Barèmes!E7+Paramètres!$C$19 -> 47548.625 | F7: =Paramètres!$A$19*Barèmes!F7+Paramètres!$B$19*Paramètres!$D$19+Paramètres!$C$19 -> 37987.086 | G7: =Paramètres!$A$19*Barèmes!G7+Paramètres!$B$19*Paramètres!$E$19+Paramètres!$C$19 -> 44929.295 | H7: =Paramètres!$A$19*Barèmes!H7+Paramètres!$C$19 -> 50158.889 | I7: =Paramètres!$A$19*Barèmes!I7+Paramètres!$C$19 -> 55984.954 | J7: =Paramètres!$A$19*Barèmes!J7+Paramètres!$C$19 -> 47113.95 | K7: =Paramètres!$A$19*Barèmes!K7+Paramètres!$C$19 -> 55064.064 | L7: =Paramètres!$A$19*Barèmes!L7+Paramètres!$C$19 -> 50027.728 | M7: =Paramètres!$A$19*Barèmes!M7+Paramètres!$C$19 -> 55561.925 | N7: =Paramètres!$A$19*Barèmes!N7+Paramètres!$C$19 -> 56043.159 | O7: =Paramètres!$A$19*Barèmes!O7+Paramètres!$C$19 -> 61577.356 | ... AF7: =Paramètres!$A$19*Barèmes!AF7+Paramètres!$C$19 -> 156092.55
A8: 6 | B8: =Paramètres!$A$19*Barèmes!B8+Paramètres!$B$19*Paramètres!$D$19+Paramètres!$C$19 -> 35983.25 | C8: =Paramètres!$A$19*Barèmes!C8+Paramètres!$B$19*Paramètres!$D$19+Paramètres!$C$19 -> 41771.153 | D8: =Paramètres!$A$19*Barèmes!D8+Paramètres!$B$19*Paramètres!$E$19+Paramètres!$C$19 -> 44594.596 | E8: =Paramètres!$A$19*Barèmes!E8+Paramètres!$C$19 -> 48151.082 | F8: =Paramètres!$A$19*Barèmes!F8+Paramètres!$B$19*Paramètres!$D$19+Paramètres!$C$19 -> 38589.543 | G8: =Paramètres!$A$19*Barèmes!G8+Paramètres!$B$19*Paramètres!$E$19+Paramètres!$C$19 -> 45531.752 | H8: =Paramètres!$A$19*Barèmes!H8+Paramètres!$C$19 -> 50761.346 | I8: =Paramètres!$A$19*Barèmes!I8+Paramètres!$C$19 -> 56587.411 | J8: =Paramètres!$A$19*Barèmes!J8+Paramètres!$C$19 -> 47716.407 | K8: =Paramètres!$A$19*Barèmes!K8+Paramètres!$C$19 -> 55666.521 | L8: =Paramètres!$A$19*Barèmes!L8+Paramètres!$C$19 -> 50630.186 | M8: =Paramètres!$A$19*Barèmes!M8+Paramètres!$C$19 -> 56164.382 | N8: =Paramètres!$A$19*Barèmes!N8+Paramètres!$C$19 -> 56645.617 | O8: =Paramètres!$A$19*Barèmes!O8+Paramètres!$C$19 -> 62179.813 | ... AF8: =Paramètres!$A$19*Barèmes!AF8+Paramètres!$C$19 -> 156695.01
A9: 7 | B9: =Paramètres!$A$19*Barèmes!B9+Paramètres!$B$19*Paramètres!$D$19+Paramètres!$C$19 -> 36123.217 | C9: =Paramètres!$A$19*Barèmes!C9+Paramètres!$B$19*Paramètres!$E$19+Paramètres!$C$19 -> 41453.747 | D9: =Paramètres!$A$19*Barèmes!D9+Paramètres!$B$19*Paramètres!$E$19+Paramètres!$C$19 -> 45063.006 | E9: =Paramètres!$A$19*Barèmes!E9+Paramètres!$C$19 -> 48619.492 | F9: =Paramètres!$A$19*Barèmes!F9+Paramètres!$B$19*Paramètres!$D$19+Paramètres!$C$19 -> 39446.959 | G9: =Paramètres!$A$19*Barèmes!G9+Paramètres!$C$19 -> 45603.331 | H9: =Paramètres!$A$19*Barèmes!H9+Paramètres!$C$19 -> 51618.762 | I9: =Paramètres!$A$19*Barèmes!I9+Paramètres!$C$19 -> 57444.827 | J9: =Paramètres!$A$19*Barèmes!J9+Paramètres!$C$19 -> 48654.887 | K9: =Paramètres!$A$19*Barèmes!K9+Paramètres!$C$19 -> 56605 | L9: =Paramètres!$A$19*Barèmes!L9+Paramètres!$C$19 -> 51568.665 | M9: =Paramètres!$A$19*Barèmes!M9+Paramètres!$C$19 -> 57102.862 | N9: =Paramètres!$A$19*Barèmes!N9+Paramètres!$C$19 -> 57584.096 | ... AF9: =Paramètres!$A$19*Barèmes!AF9+Paramètres!$C$19 -> 160564.78
A10: 8 | B10: =Paramètres!$A$19*Barèmes!B10+Paramètres!$B$19*Paramètres!$D$19+Paramètres!$C$19 -> 36123.217 | C10: =Paramètres!$A$19*Barèmes!C10+Paramètres!$B$19*Paramètres!$E$19+Paramètres!$C$19 -> 41453.747 | D10: =Paramètres!$A$19*Barèmes!D10+Paramètres!$B$19*Paramètres!$E$19+Paramètres!$C$19 -> 45063.006 | E10: =Paramètres!$A$19*Barèmes!E10+Paramètres!$C$19 -> 48619.492 | F10: =Paramètres!$A$19*Barèmes!F10+Paramètres!$B$19*Paramètres!$D$19+Paramètres!$C$19 -> 39446.959 | G10: =Paramètres!$A$19*Barèmes!G10+Paramètres!$C$19 -> 45603.331 | H10: =Paramètres!$A$19*Barèmes!H10+Paramètres!$C$19 -> 51618.762 | I10: =Paramètres!$A$19*Barèmes!I10+Paramètres!$C$19 -> 57444.827 | J10: =Paramètres!$A$19*Barèmes!J10+Paramètres!$C$19 -> 48654.887 | K10: =Paramètres!$A$19*Barèmes!K10+Paramètres!$C$19 -> 56605 | L10: =Paramètres!$A$19*Barèmes!L10+Paramètres!$C$19 -> 51568.665 | M10: =Paramètres!$A$19*Barèmes!M10+Paramètres!$C$19 -> 57102.862 | N10: =Paramètres!$A$19*Barèmes!N10+Paramètres!$C$19 -> 57584.096 | ... AF10: =Paramètres!$A$19*Barèmes!AF10+Paramètres!$C$19 -> 160564.78
A11: 9 | B11: =Paramètres!$A$19*Barèmes!B11+Paramètres!$B$19*Paramètres!$D$19+Paramètres!$C$19 -> 36268.549 | C11: =Paramètres!$A$19*Barèmes!C11+Paramètres!$B$19*Paramètres!$E$19+Paramètres!$C$19 -> 41922.157 | D11: =Paramètres!$A$19*Barèmes!D11+Paramètres!$B$19*Paramètres!$E$19+Paramètres!$C$19 -> 45531.415 | E11: =Paramètres!$A$19*Barèmes!E11+Paramètres!$C$19 -> 49087.901 | F11: =Paramètres!$A$19*Barèmes!F11+Paramètres!$B$19*Paramètres!$D$19+Paramètres!$C$19 -> 41161.693 | G11: =Paramètres!$A$19*Barèmes!G11+Paramètres!$C$19 -> 47318.065 | H11: =Paramètres!$A$19*Barèmes!H11+Paramètres!$C$19 -> 53333.496 | I11: =Paramètres!$A$19*Barèmes!I11+Paramètres!$C$19 -> 59159.561 | J11: =Paramètres!$A$19*Barèmes!J11+Paramètres!$C$19 -> 50272.58 | K11: =Paramètres!$A$19*Barèmes!K11+Paramètres!$C$19 -> 58222.694 | L11: =Paramètres!$A$19*Barèmes!L11+Paramètres!$C$19 -> 53186.359 | M11: =Paramètres!$A$19*Barèmes!M11+Paramètres!$C$19 -> 58720.555 | N11: =Paramètres!$A$19*Barèmes!N11+Paramètres!$C$19 -> 59201.79 | ... AF11: =Paramètres!$A$19*Barèmes!AF11+Paramètres!$C$19 -> 164434.56
A12: 10 | B12: =Paramètres!$A$19*Barèmes!B12+Paramètres!$B$19*Paramètres!$D$19+Paramètres!$C$19 -> 36268.549 | C12: =Paramètres!$A$19*Barèmes!C12+Paramètres!$B$19*Paramètres!$E$19+Paramètres!$C$19 -> 41922.157 | D12: =Paramètres!$A$19*Barèmes!D12+Paramètres!$B$19*Paramètres!$E$19+Paramètres!$C$19 -> 45531.415 | E12: =Paramètres!$A$19*Barèmes!E12+Paramètres!$C$19 -> 49087.901 | F12: =Paramètres!$A$19*Barèmes!F12+Paramètres!$B$19*Paramètres!$D$19+Paramètres!$C$19 -> 41161.693 | G12: =Paramètres!$A$19*Barèmes!G12+Paramètres!$C$19 -> 47318.065 | H12: =Paramètres!$A$19*Barèmes!H12+Paramètres!$C$19 -> 53333.496 | I12: =Paramètres!$A$19*Barèmes!I12+Paramètres!$C$19 -> 59159.561 | J12: =Paramètres!$A$19*Barèmes!J12+Paramètres!$C$19 -> 50272.58 | K12: =Paramètres!$A$19*Barèmes!K12+Paramètres!$C$19 -> 58222.694 | L12: =Paramètres!$A$19*Barèmes!L12+Paramètres!$C$19 -> 53186.359 | M12: =Paramètres!$A$19*Barèmes!M12+Paramètres!$C$19 -> 58720.555 | N12: =Paramètres!$A$19*Barèmes!N12+Paramètres!$C$19 -> 59201.79 | ... AF12: =Paramètres!$A$19*Barèmes!AF12+Paramètres!$C$19 -> 164434.56
A13: 11 | B13: =Paramètres!$A$19*Barèmes!B13+Paramètres!$B$19*Paramètres!$D$19+Paramètres!$C$19 -> 36736.959 | C13: =Paramètres!$A$19*Barèmes!C13+Paramètres!$B$19*Paramètres!$E$19+Paramètres!$C$19 -> 42390.566 | D13: =Paramètres!$A$19*Barèmes!D13+Paramètres!$B$19*Paramètres!$E$19+Paramètres!$C$19 -> 45999.825 | E13: =Paramètres!$A$19*Barèmes!E13+Paramètres!$C$19 -> 49556.311 | F13: =Paramètres!$A$19*Barèmes!F13+Paramètres!$B$19*Paramètres!$E$19+Paramètres!$C$19 -> 42090.613 | G13: =Paramètres!$A$19*Barèmes!G13+Paramètres!$C$19 -> 49032.8 | H13: =Paramètres!$A$19*Barèmes!H13+Paramètres!$C$19 -> 55048.231 | I13: =Paramètres!$A$19*Barèmes!I13+Paramètres!$C$19 -> 60874.296 | J13: =Paramètres!$A$19*Barèmes!J13+Paramètres!$C$19 -> 51890.274 | K13: =Paramètres!$A$19*Barèmes!K13+Paramètres!$C$19 -> 59840.388 | L13: =Paramètres!$A$19*Barèmes!L13+Paramètres!$C$19 -> 54804.053 | M13: =Paramètres!$A$19*Barèmes!M13+Paramètres!$C$19 -> 60338.249 | N13: =Paramètres!$A$19*Barèmes!N13+Paramètres!$C$19 -> 60819.484 | ... AF13: =Paramètres!$A$19*Barèmes!AF13+Paramètres!$C$19 -> 168304.33
A14: 12 | B14: =Paramètres!$A$19*Barèmes!B14+Paramètres!$B$19*Paramètres!$D$19+Paramètres!$C$19 -> 37339.416 | C14: =Paramètres!$A$19*Barèmes!C14+Paramètres!$B$19*Paramètres!$E$19+Paramètres!$C$19 -> 42993.024 | D14: =Paramètres!$A$19*Barèmes!D14+Paramètres!$B$19*Paramètres!$E$19+Paramètres!$C$19 -> 46602.282 | E14: =Paramètres!$A$19*Barèmes!E14+Paramètres!$C$19 -> 50158.768 | F14: =Paramètres!$A$19*Barèmes!F14+Paramètres!$B$19*Paramètres!$E$19+Paramètres!$C$19 -> 42693.07 | G14: =Paramètres!$A$19*Barèmes!G14+Paramètres!$C$19 -> 49635.258 | H14: =Paramètres!$A$19*Barèmes!H14+Paramètres!$C$19 -> 55650.688 | I14: =Paramètres!$A$19*Barèmes!I14+Paramètres!$C$19 -> 61476.754 | J14: =Paramètres!$A$19*Barèmes!J14+Paramètres!$C$19 -> 52492.732 | K14: =Paramètres!$A$19*Barèmes!K14+Paramètres!$C$19 -> 60442.845 | L14: =Paramètres!$A$19*Barèmes!L14+Paramètres!$C$19 -> 55406.51 | M14: =Paramètres!$A$19*Barèmes!M14+Paramètres!$C$19 -> 60940.706 | N14: =Paramètres!$A$19*Barèmes!N14+Paramètres!$C$19 -> 61421.941 | ... AF14: =Paramètres!$A$19*Barèmes!AF14+Paramètres!$C$19 -> 168906.79
A15: 13 | B15: =Paramètres!$A$19*Barèmes!B15+Paramètres!$B$19*Paramètres!$D$19+Paramètres!$C$19 -> 37807.826 | C15: =Paramètres!$A$19*Barèmes!C15+Paramètres!$B$19*Paramètres!$E$19+Paramètres!$C$19 -> 43461.433 | D15: =Paramètres!$A$19*Barèmes!D15+Paramètres!$C$19 -> 46284.855 | E15: =Paramètres!$A$19*Barèmes!E15+Paramètres!$C$19 -> 50627.178 | F15: =Paramètres!$A$19*Barèmes!F15+Paramètres!$B$19*Paramètres!$E$19+Paramètres!$C$19 -> 44193.559 | G15: =Paramètres!$A$19*Barèmes!G15+Paramètres!$C$19 -> 51135.747 | H15: =Paramètres!$A$19*Barèmes!H15+Paramètres!$C$19 -> 57151.178 | I15: =Paramètres!$A$19*Barèmes!I15+Paramètres!$C$19 -> 62977.243 | J15: =Paramètres!$A$19*Barèmes!J15+Paramètres!$C$19 -> 53908.283 | K15: =Paramètres!$A$19*Barèmes!K15+Paramètres!$C$19 -> 61858.397 | L15: =Paramètres!$A$19*Barèmes!L15+Paramètres!$C$19 -> 56822.061 | M15: =Paramètres!$A$19*Barèmes!M15+Paramètres!$C$19 -> 62356.258 | N15: =Paramètres!$A$19*Barèmes!N15+Paramètres!$C$19 -> 62837.492 | ... AF15: =Paramètres!$A$19*Barèmes!AF15+Paramètres!$C$19 -> 172776.57
A16: 14 | B16: =Paramètres!$A$19*Barèmes!B16+Paramètres!$B$19*Paramètres!$D$19+Paramètres!$C$19 -> 37807.826 | C16: =Paramètres!$A$19*Barèmes!C16+Paramètres!$B$19*Paramètres!$E$19+Paramètres!$C$19 -> 43461.433 | D16: =Paramètres!$A$19*Barèmes!D16+Paramètres!$C$19 -> 46284.855 | E16: =Paramètres!$A$19*Barèmes!E16+Paramètres!$C$19 -> 50627.178 | F16: =Paramètres!$A$19*Barèmes!F16+Paramètres!$B$19*Paramètres!$E$19+Paramètres!$C$19 -> 44193.559 | G16: =Paramètres!$A$19*Barèmes!G16+Paramètres!$C$19 -> 51135.747 | H16: =Paramètres!$A$19*Barèmes!H16+Paramètres!$C$19 -> 57151.178 | I16: =Paramètres!$A$19*Barèmes!I16+Paramètres!$C$19 -> 62977.243 | J16: =Paramètres!$A$19*Barèmes!J16+Paramètres!$C$19 -> 53908.283 | K16: =Paramètres!$A$19*Barèmes!K16+Paramètres!$C$19 -> 61858.397 | L16: =Paramètres!$A$19*Barèmes!L16+Paramètres!$C$19 -> 56822.061 | M16: =Paramètres!$A$19*Barèmes!M16+Paramètres!$C$19 -> 62356.258 | N16: =Paramètres!$A$19*Barèmes!N16+Paramètres!$C$19 -> 62837.492 | ... AF16: =Paramètres!$A$19*Barèmes!AF16+Paramètres!$C$19 -> 172776.57
A17: 15 | B17: =Paramètres!$A$19*Barèmes!B17+Paramètres!$B$19*Paramètres!$D$19+Paramètres!$C$19 -> 38449.745 | C17: =Paramètres!$A$19*Barèmes!C17+Paramètres!$B$19*Paramètres!$E$19+Paramètres!$C$19 -> 44103.352 | D17: =Paramètres!$A$19*Barèmes!D17+Paramètres!$C$19 -> 46926.774 | E17: =Paramètres!$A$19*Barèmes!E17+Paramètres!$C$19 -> 51269.097 | F17: =Paramètres!$A$19*Barèmes!F17+Paramètres!$B$19*Paramètres!$E$19+Paramètres!$C$19 -> 45694.049 | G17: =Paramètres!$A$19*Barèmes!G17+Paramètres!$C$19 -> 52636.236 | H17: =Paramètres!$A$19*Barèmes!H17+Paramètres!$C$19 -> 58651.667 | I17: =Paramètres!$A$19*Barèmes!I17+Paramètres!$C$19 -> 64477.732 | J17: =Paramètres!$A$19*Barèmes!J17+Paramètres!$C$19 -> 55323.834 | K17: =Paramètres!$A$19*Barèmes!K17+Paramètres!$C$19 -> 63273.948 | L17: =Paramètres!$A$19*Barèmes!L17+Paramètres!$C$19 -> 58237.612 | M17: =Paramètres!$A$19*Barèmes!M17+Paramètres!$C$19 -> 63771.809 | N17: =Paramètres!$A$19*Barèmes!N17+Paramètres!$C$19 -> 64253.043 | ... AF17: =Paramètres!$A$19*Barèmes!AF17+Paramètres!$C$19 -> 176646.34
